BEGIN:VCALENDAR
VERSION:2.0
PRODID:-//Wilhelmus de Oranje Man - ECPv6.15.19//NONSGML v1.0//EN
CALSCALE:GREGORIAN
METHOD:PUBLISH
X-ORIGINAL-URL:https://www.de-oranje-man.nl
X-WR-CALDESC:Evenementen voor Wilhelmus de Oranje Man
REFRESH-INTERVAL;VALUE=DURATION:PT1H
X-Robots-Tag:noindex
X-PUBLISHED-TTL:PT1H
BEGIN:VTIMEZONE
TZID:Europe/Amsterdam
BEGIN:DAYLIGHT
TZOFFSETFROM:+0100
TZOFFSETTO:+0200
TZNAME:CEST
DTSTART:20200329T010000
END:DAYLIGHT
BEGIN:STANDARD
TZOFFSETFROM:+0200
TZOFFSETTO:+0100
TZNAME:CET
DTSTART:20201025T010000
END:STANDARD
BEGIN:DAYLIGHT
TZOFFSETFROM:+0100
TZOFFSETTO:+0200
TZNAME:CEST
DTSTART:20210328T010000
END:DAYLIGHT
BEGIN:STANDARD
TZOFFSETFROM:+0200
TZOFFSETTO:+0100
TZNAME:CET
DTSTART:20211031T010000
END:STANDARD
BEGIN:DAYLIGHT
TZOFFSETFROM:+0100
TZOFFSETTO:+0200
TZNAME:CEST
DTSTART:20220327T010000
END:DAYLIGHT
BEGIN:STANDARD
TZOFFSETFROM:+0200
TZOFFSETTO:+0100
TZNAME:CET
DTSTART:20221030T010000
END:STANDARD
BEGIN:DAYLIGHT
TZOFFSETFROM:+0100
TZOFFSETTO:+0200
TZNAME:CEST
DTSTART:20230326T010000
END:DAYLIGHT
BEGIN:STANDARD
TZOFFSETFROM:+0200
TZOFFSETTO:+0100
TZNAME:CET
DTSTART:20231029T010000
END:STANDARD
BEGIN:DAYLIGHT
TZOFFSETFROM:+0100
TZOFFSETTO:+0200
TZNAME:CEST
DTSTART:20240331T010000
END:DAYLIGHT
BEGIN:STANDARD
TZOFFSETFROM:+0200
TZOFFSETTO:+0100
TZNAME:CET
DTSTART:20241027T010000
END:STANDARD
BEGIN:DAYLIGHT
TZOFFSETFROM:+0100
TZOFFSETTO:+0200
TZNAME:CEST
DTSTART:20250330T010000
END:DAYLIGHT
BEGIN:STANDARD
TZOFFSETFROM:+0200
TZOFFSETTO:+0100
TZNAME:CET
DTSTART:20251026T010000
END:STANDARD
BEGIN:DAYLIGHT
TZOFFSETFROM:+0100
TZOFFSETTO:+0200
TZNAME:CEST
DTSTART:20260329T010000
END:DAYLIGHT
BEGIN:STANDARD
TZOFFSETFROM:+0200
TZOFFSETTO:+0100
TZNAME:CET
DTSTART:20261025T010000
END:STANDARD
END:VTIMEZONE
BEGIN:VEVENT
DTSTART;TZID=Europe/Amsterdam:20251219T133000
DTEND;TZID=Europe/Amsterdam:20251219T143000
DTSTAMP:20260421T040208
CREATED:20241231T093908Z
LAST-MODIFIED:20241231T093908Z
UID:7955-1766151000-1766154600@www.de-oranje-man.nl
SUMMARY:De Zingende Kerstman Dagbesteding Clienten Sovak Etten Leur vr 19-12-25
DESCRIPTION:Luister nu op Spotify de Kersthit van 2025: Kerst in Nederland Wilhelmus de Zingende Kerstman OOO heerlijk in de Sno. \nKerstliedjes De Zingende Kerstman speelt zelf gitaar en zingt! Uniek in Nederland.\nTijdens de muzikale ochtend op het Dagcentrum zal Wilhelmus de Zingen de Kerstman  weer zorgen voor contact en plezier met de vele bekende Kerstliedjes. \nWilhelmus de Zingende Kerstman is heel gemoedelijk en neemt de tijd voor een gesprekje met de clienten en speelt ondertussen prachtige Kerstliedjes. \n“Beste Wilhelmus de zingende kerstman\,\nIn ruim 3 uur langs 13 verschillende woningen van Sovak in Terheijden zonder pauze en als een Topsporter door gaan.\nWat heb jij een geweldig optreden verzorgd. Op iedere woning kon je inspelen\, improviseren en er een feest van maken.\nWe willen je nu ook al weer voor volgend jaar als zingende kerstman reserveren.\nWe hebben al heel veel leuke reacties gehad en worden er weer heel blij van. Je bent voor ons op Sovak een groot artiest en een TOPPER! \nHeel veel lieve groetjes van ons allemaal 🙂” \nMaak met liedjes contact en plezier!\nWilhelmus de Zingende KerstMan Kerstliedjesbingo \nMuzikale reis door de tijd en feest van herkenning met Hollandse liedjes van vroeger en nu!\nVeel ervaring\, plezier\, ruimte en geduld in de omgang met kwetsbare mensen met dementie\, alzheimer\, verstandelijk beperking\, lichamelijke beperking.
URL:https://www.de-oranje-man.nl/event/de-zingende-kerstman-dagbesteding-clienten-sovak-etten-leur-vr-19-12-25/
CATEGORIES:zingende kerstman,zingende kerstman clienten beperking familie,zingende kerstman dag activiteitencentrum beperking,zingende kerstman dagbesteding beperking
ATTACH;FMTTYPE=image/jpeg:https://www.de-oranje-man.nl/wp-content/uploads/2024/09/Zingende-Kerstman-Gitaar.jpg
END:VEVENT
BEGIN:VEVENT
DTSTART;TZID=Europe/Amsterdam:20221222T110000
DTEND;TZID=Europe/Amsterdam:20221222T120000
DTSTAMP:20260421T040208
CREATED:20221102T101332Z
LAST-MODIFIED:20221217T154410Z
UID:6698-1671706800-1671710400@www.de-oranje-man.nl
SUMMARY:Kerstman met gitaar en zingt Reinaerde 't Zand Dagcentrum Kerstliedjes Clienten De Zingende Kerstman - do 22-12-22 Utrecht
DESCRIPTION:Luister nu op Spotify de Kersthit van 2022: Kerst in Nederland Wilhelmus de Zingende Kerstman OOO heerlijk in de Sno. \nKerstliedjes De Zingende Kerstman speelt zelf gitaar en zingt! Uniek in Nederland.\nTijdens de muzikale ochtend op het Dagcentrum zal Wilhelmus de Zingen de Kerstman  weer zorgen voor contact en plezier met de vele bekende Kerstliedjes. \nWilhelmus de Zingende Kerstman is heel gemoedelijk en neemt de tijd voor een gesprekje met de clienten en speelt ondertussen prachtige Kerstliedjes. \n“Beste Wilhelmus de zingende kerstman\,\nIn ruim 3 uur langs 13 verschillende woningen van Sovak in Terheijden zonder pauze en als een Topsporter door gaan.\nWat heb jij een geweldig optreden verzorgd. Op iedere woning kon je inspelen\, improviseren en er een feest van maken.\nWe willen je nu ook al weer voor volgend jaar als zingende kerstman reserveren.\nWe hebben al heel veel leuke reacties gehad en worden er weer heel blij van. Je bent voor ons op Sovak een groot artiest en een TOPPER! \nHeel veel lieve groetjes van ons allemaal 🙂” \nMaak met liedjes contact en plezier!\nWilhelmus de Zingende KerstMan Kerstliedjesbingo \nMuzikale reis door de tijd en feest van herkenning met Hollandse liedjes van vroeger en nu!\nVeel ervaring\, plezier\, ruimte en geduld in de omgang met kwetsbare mensen met dementie\, alzheimer\, verstandelijk beperking\, lichamelijke beperking.
URL:https://www.de-oranje-man.nl/event/reinaerde-t-zand-dagcentrum-kerstliedjes-clienten-de-zingende-kerstman-do-22-12-22-utrecht/
CATEGORIES:dagcentrum Kerstman,Kerstman speelt zelf gitaar en zingt
ATTACH;FMTTYPE=image/jpeg:https://www.de-oranje-man.nl/wp-content/uploads/2021/11/Zingende-Kerstman.jpg
END:VEVENT
BEGIN:VEVENT
DTSTART;TZID=Europe/Amsterdam:20211210T113000
DTEND;TZID=Europe/Amsterdam:20211210T153000
DTSTAMP:20260421T040208
CREATED:20211103T095523Z
LAST-MODIFIED:20211209T151835Z
UID:6138-1639135800-1639150200@www.de-oranje-man.nl
SUMMARY:De Zingende Kerstman S&L Zorg Kerstmarkt Sterrebos met cliënten en personeel - 10 december 2021
DESCRIPTION:Luister nu op Spotify de Kersthit van 2021: Kerst in Nederland Wilhelmus de Zingende Kerstman OOO heerlijk in de Sno. \n“Beste Wilhelmus de zingende kerstman\,\nIn ruim 3 uur langs 13 verschillende woningen van Sovak in Terheijden zonder pauze en als een Topsporter door gaan.\nWat heb jij een geweldig optreden verzorgd. Op iedere woning kon je inspelen\, improviseren en er een feest van maken.\nWe willen je nu ook al weer voor volgend jaar als zingende kerstman reserveren.\nWe hebben al heel veel leuke reacties gehad en worden er weer heel blij van. Je bent voor ons op Sovak een groot artiest en een TOPPER! \nHeel veel lieve groetjes van ons allemaal 🙂” \nWilhelmus de zingende Kerstman\nPrettige feestdagen en een gelukkig nieuwjaar! I’m dreaming of a white Christmas & Jingle Bells\nPas goed op jezelf en de mensen om je heen en alle goeds voor 2021!\n\n\n\nDe Zingende Kerstman\nTijdens de muzikale middag zal Troubadour Zanger Wilhelmus De Oranje Man weer zorgen voor contact en plezier met de vele bekende liedjes.\nVandaag helemaal speciaal als de Zingende Kerstman op de Kerstmarkt met de cliënten en het samen zingen van heerlijke Kerstliedjes \nMaak met liedjes contact en plezier!\nWilhelmus de Oranje Man \nMuzikale reis door de tijd en feest van herkenning met Hollandse liedjes van vroeger en nu!\nVeel ervaring\, plezier\, ruimte en geduld in de omgang met kwetsbare mensen met dementie\, alzheimer\, verstandelijk beperking\, lichamelijke beperking.
URL:https://www.de-oranje-man.nl/event/de-zingende-kerstman-sl-zorg-kerstmarkt-sterrebos-met-clienten-en-personeel-10-december-2021/
CATEGORIES:De Zingende Kerstman
ATTACH;FMTTYPE=image/jpeg:https://www.de-oranje-man.nl/wp-content/uploads/2021/11/Zingende-Kerstman.jpg
END:VEVENT
END:VCALENDAR