BEGIN:VCALENDAR
VERSION:2.0
PRODID:-//Wilhelmus de Oranje Man - ECPv6.15.19//NONSGML v1.0//EN
CALSCALE:GREGORIAN
METHOD:PUBLISH
X-ORIGINAL-URL:https://www.de-oranje-man.nl
X-WR-CALDESC:Evenementen voor Wilhelmus de Oranje Man
REFRESH-INTERVAL;VALUE=DURATION:PT1H
X-Robots-Tag:noindex
X-PUBLISHED-TTL:PT1H
BEGIN:VTIMEZONE
TZID:Europe/Amsterdam
BEGIN:DAYLIGHT
TZOFFSETFROM:+0100
TZOFFSETTO:+0200
TZNAME:CEST
DTSTART:20230326T010000
END:DAYLIGHT
BEGIN:STANDARD
TZOFFSETFROM:+0200
TZOFFSETTO:+0100
TZNAME:CET
DTSTART:20231029T010000
END:STANDARD
BEGIN:DAYLIGHT
TZOFFSETFROM:+0100
TZOFFSETTO:+0200
TZNAME:CEST
DTSTART:20240331T010000
END:DAYLIGHT
BEGIN:STANDARD
TZOFFSETFROM:+0200
TZOFFSETTO:+0100
TZNAME:CET
DTSTART:20241027T010000
END:STANDARD
BEGIN:DAYLIGHT
TZOFFSETFROM:+0100
TZOFFSETTO:+0200
TZNAME:CEST
DTSTART:20250330T010000
END:DAYLIGHT
BEGIN:STANDARD
TZOFFSETFROM:+0200
TZOFFSETTO:+0100
TZNAME:CET
DTSTART:20251026T010000
END:STANDARD
BEGIN:DAYLIGHT
TZOFFSETFROM:+0100
TZOFFSETTO:+0200
TZNAME:CEST
DTSTART:20260329T010000
END:DAYLIGHT
BEGIN:STANDARD
TZOFFSETFROM:+0200
TZOFFSETTO:+0100
TZNAME:CET
DTSTART:20261025T010000
END:STANDARD
BEGIN:DAYLIGHT
TZOFFSETFROM:+0100
TZOFFSETTO:+0200
TZNAME:CEST
DTSTART:20270328T010000
END:DAYLIGHT
BEGIN:STANDARD
TZOFFSETFROM:+0200
TZOFFSETTO:+0100
TZNAME:CET
DTSTART:20271031T010000
END:STANDARD
END:VTIMEZONE
BEGIN:VEVENT
DTSTART;TZID=Europe/Amsterdam:20260217T110000
DTEND;TZID=Europe/Amsterdam:20260217T140000
DTSTAMP:20260420T010143
CREATED:20251024T133752Z
LAST-MODIFIED:20251024T133752Z
UID:8325-1771326000-1771336800@www.de-oranje-man.nl
SUMMARY:Carnavals Klassiekers rondvaartboottocht voor senioren met CarnavalsLiedjes van Toen en Nu – Wilhelmus de Oranje Man – De Zilvermeeuw dinsdag 17 februari 2026
DESCRIPTION:Speciale Carnavals Klassiekers rondvaartboottocht voor senioren met CarnavalsLiedjes van Toen en Nu – Wilhelmus de Oranje Man – De Zilvermeeuw dinsdag 17 februari 2026\nTijdens deze muzikale activiteit zal Troubadour Wilhelmus De Oranje Man weer zorgen voor contact en plezier voor vele senioren en ouderen door het zingen en spelen van de vele bekende liedjes afgestemd op het aanwezige publiek. \nEen lijst met ruim 30 Carnaval klassiekers aller tijden zoals: Polonaise Hollandaise\, Er staat een paard in de gang\, ’s nachts na Tweeën\,Mien waar is mijn feestneus\,Een bloemetjesgordijn\,Zak eens lekker door\, Uche Uche Uche\, Laat de hele boel maar waaien\, Dans je de hele nacht met mij & Brabantse nachten zijn lang.  \nErg leuk en een heerlijke ontspannen manier om contact te maken.  \nMaak met liedjes contact en plezier!\nWilhelmus de Oranje Man \nMuzikale reis door de tijd en feest van herkenning met Hollandse liedjes van Toen en nu!\nVeel ervaring\, plezier\, ruimte en geduld in de omgang met mensen met dementie\, alzheimer\, verstandelijk beperking\, psychiatrische beperking\, lichamelijke beperking. \nLive muziek optredens voor senioren en ouderen – Gezellige middag voor ouderen – gezelligheid voor ouderen – entertainment senioren en ouderen – Zanger eenzame ouderen en seniorenSeniorenCarnaval Liedjes Klassiekers voor senioren ouderen in woonzorgcentrum/zorgcentra/verpleeghuis Nieuw Tamarinde in Utrecht.
URL:https://www.de-oranje-man.nl/event/carnavals-klassiekers-rondvaartboottocht-voor-senioren-met-carnavalsliedjes-van-toen-en-nu-wilhelmus-de-oranje-man-de-zilvermeeuw-dinsdag-17-februari-2026/
CATEGORIES:Carnaval Klassiekers Liedjes Senioren Ouderen,carnavals klassiekers senioren ouderen,carnavalvereniging
ATTACH;FMTTYPE=image/jpeg:https://www.de-oranje-man.nl/wp-content/uploads/2024/11/Carnaval-Klassiekers-Wilhelmus-de-Oranje-Man.jpg
END:VEVENT
BEGIN:VEVENT
DTSTART;TZID=Europe/Amsterdam:20250903T110000
DTEND;TZID=Europe/Amsterdam:20250903T160000
DTSTAMP:20260420T010143
CREATED:20250411T104716Z
LAST-MODIFIED:20250411T104716Z
UID:8091-1756897200-1756915200@www.de-oranje-man.nl
SUMMARY:Rondvaartboottocht met Liedjes van Vroeger en Nu - Wilhelmus de Oranje Man - De Zilvermeeuw
DESCRIPTION:Speciale Rondvaartboottocht met Liedjes van Toen en Nu – Wilhelmus de Oranje Man – De Zilvermeeuw\nTijdens deze muzikale activiteit zal Troubadour Wilhelmus De Oranje Man weer zorgen voor contact en plezier voor vele senioren en ouderen door het zingen en spelen van de vele bekende liedjes afgestemd op het aanwezige publiek. \nMaak met liedjes contact en plezier!\nWilhelmus de Oranje Man \nMuzikale reis door de tijd en feest van herkenning met Hollandse liedjes van Toen en nu!\nVeel ervaring\, plezier\, ruimte en geduld in de omgang met mensen met dementie\, alzheimer\, verstandelijk beperking\, psychiatrische beperking\, lichamelijke beperking. \nLive muziek optredens voor senioren en ouderen – Gezellige middag voor ouderen – gezelligheid voor ouderen – entertainment senioren en ouderen – Zanger eenzame ouderen en senioren
URL:https://www.de-oranje-man.nl/event/rondvaartboottocht-met-liedjes-van-vroeger-en-nu-wilhelmus-de-oranje-man-de-zilvermeeuw/
CATEGORIES:Zilvermeeuw Rondvaart Senioren Ouderen Gitaar Zang
ATTACH;FMTTYPE=image/jpeg:https://www.de-oranje-man.nl/wp-content/uploads/2024/02/Zanger-Ouderen-Seniorenzanger-Beperking-Wilhelmus-de-Oranje-man.jpg
END:VEVENT
BEGIN:VEVENT
DTSTART;TZID=Europe/Amsterdam:20250808T160000
DTEND;TZID=Europe/Amsterdam:20250808T200000
DTSTAMP:20260420T010143
CREATED:20250424T081928Z
LAST-MODIFIED:20250424T081928Z
UID:8151-1754668800-1754683200@www.de-oranje-man.nl
SUMMARY:50 jaar Huwelijksfeest Rondvaartboottocht met Liedjes van Toen en Nu – Wilhelmus de Oranje Man – De Zilvermeeuw vrijdag 8 augustus 2025
DESCRIPTION:Heerlijk samen varen en zingen! Speciale Rondvaartboottocht met Liedjes van Toen en Nu – Wilhelmus de Oranje Man ivm 50 jaar huwelijksfeest op De Zilvermeeuw Z8 vrijdag 8 augustus 2025\nTijdens deze muzikale activiteit zal Troubadour Wilhelmus De Oranje Man weer zorgen voor contact en plezier voor vele senioren en ouderen door het zingen en spelen van de vele bekende liedjes afgestemd op het aanwezige publiek. \nMaak met liedjes contact en plezier!\nWilhelmus de Oranje Man \nMuzikale reis door de tijd en feest van herkenning met Hollandse liedjes van Toen en nu!\nVeel ervaring\, plezier\, ruimte en geduld in de omgang met mensen met dementie\, alzheimer\, verstandelijk beperking\, psychiatrische beperking\, lichamelijke beperking. \nLive muziek optredens voor senioren en ouderen – Gezellige middag voor ouderen – gezelligheid voor ouderen – entertainment senioren en ouderen – Zanger eenzame ouderen en senioren
URL:https://www.de-oranje-man.nl/event/50-jaar-huwelijksfeest-rondvaartboottocht-met-liedjes-van-toen-en-nu-wilhelmus-de-oranje-man-de-zilvermeeuw-vrijdag-8-augustus-2025/
CATEGORIES:50 jaar huwelijksfeest rondvaart zanger
ATTACH;FMTTYPE=image/jpeg:https://www.de-oranje-man.nl/wp-content/uploads/2023/08/Seniorenzanger-Ouderen-Wilhelmus-de-Oranje-Man-Rondvaarten-De-Zilvermeeuw.jpg
END:VEVENT
BEGIN:VEVENT
DTSTART;TZID=Europe/Amsterdam:20250624T110000
DTEND;TZID=Europe/Amsterdam:20250624T160000
DTSTAMP:20260420T010143
CREATED:20241203T100322Z
LAST-MODIFIED:20241203T100322Z
UID:7912-1750762800-1750780800@www.de-oranje-man.nl
SUMMARY:Rondvaartboottocht Liedjes van Toen en Nu – Wilhelmus de Oranje Man – De Zilvermeeuw 24 juni 25
DESCRIPTION:Speciale Rondvaartboottocht met Liedjes van Toen en Nu – Wilhelmus de Oranje Man – De Zilvermeeuw\nTijdens deze muzikale activiteit zal Troubadour Wilhelmus De Oranje Man weer zorgen voor contact en plezier door het zingen en spelen van de vele bekende liedjes afgestemd op het aanwezige publiek. \nMaak met liedjes contact en plezier!\nWilhelmus de Oranje Man \nMuzikale reis door de tijd en feest van herkenning met Hollandse liedjes van Toen en nu!\nVeel ervaring\, plezier\, ruimte en geduld in de omgang met mensen met dementie\, alzheimer\, verstandelijk beperking\, psychiatrische beperking\, lichamelijke beperking. \nLive muziek optredens voor senioren en ouderen – Gezellige middag voor ouderen – gezelligheid voor ouderen – entertainment senioren en ouderen – Zanger eenzame ouderen en senioren
URL:https://www.de-oranje-man.nl/event/rondvaartboottocht-liedjes-van-toen-en-nu-wilhelmus-de-oranje-man-de-zilvermeeuw-24-juni-25/
CATEGORIES:Zilvermeeuw Rondvaart Senioren Ouderen Gitaar Zang
ATTACH;FMTTYPE=image/jpeg:https://www.de-oranje-man.nl/wp-content/uploads/2023/08/Seniorenzanger-Ouderen-Wilhelmus-de-Oranje-Man-Rondvaarten-De-Zilvermeeuw.jpg
END:VEVENT
BEGIN:VEVENT
DTSTART;TZID=Europe/Amsterdam:20250516T103000
DTEND;TZID=Europe/Amsterdam:20250516T153000
DTSTAMP:20260420T010143
CREATED:20241025T080844Z
LAST-MODIFIED:20241025T080844Z
UID:7828-1747391400-1747409400@www.de-oranje-man.nl
SUMMARY:Rondvaartboottocht Vrijwilligers Maxima Centrum -  Liedjes van Toen en Nu - Wilhelmus de Oranje Man - De Zilvermeeuw vr 16 mei 2025
DESCRIPTION:Speciale Rondvaartboottocht voor de vrijwilligers van het Maxima Centrum met Liedjes van Toen en Nu – Wilhelmus de Oranje Man – De Zilvermeeuw\nTijdens deze muzikale activiteit zal Troubadour Wilhelmus De Oranje Man weer zorgen voor contact en plezier voor alle vrijwilligers door het zingen en spelen van de vele bekende liedjes afgestemd op het aanwezige publiek. \nMaak met liedjes contact en plezier!\nWilhelmus de Oranje Man \nMuzikale reis door de tijd en feest van herkenning met Hollandse liedjes van Toen en nu!\nVeel ervaring\, plezier\, ruimte en geduld in de omgang met mensen met dementie\, alzheimer\, verstandelijk beperking\, psychiatrische beperking\, lichamelijke beperking. \nLive muziek optredens voor senioren en ouderen – Gezellige middag voor ouderen – gezelligheid voor ouderen – entertainment senioren en ouderen – Zanger eenzame ouderen en senioren
URL:https://www.de-oranje-man.nl/event/rondvaartboottocht-vrijwilligers-maxima-centrum-liedjes-van-toen-en-nu-wilhelmus-de-oranje-man-de-zilvermeeuw-vr-16-mei-2025/
CATEGORIES:feest boottocht vrijwilligers Maxima Centrum
ATTACH;FMTTYPE=image/jpeg:https://www.de-oranje-man.nl/wp-content/uploads/2023/08/Seniorenzanger-Ouderen-Wilhelmus-de-Oranje-Man-Rondvaarten-De-Zilvermeeuw.jpg
END:VEVENT
BEGIN:VEVENT
DTSTART;TZID=Europe/Amsterdam:20250319T110000
DTEND;TZID=Europe/Amsterdam:20250319T160000
DTSTAMP:20260420T010143
CREATED:20241107T075739Z
LAST-MODIFIED:20241107T075739Z
UID:7846-1742382000-1742400000@www.de-oranje-man.nl
SUMMARY:Rondvaartboottocht Buurtpas Laurens Rotterdam voor senioren Ouderen met Liedjes van Toen en Nu – Wilhelmus de Oranje Man – De Zilvermeeuw
DESCRIPTION:Speciale Rondvaartboottocht Buurtpas Laurens Rotterdam voor senioren Ouderen met Liedjes van Toen en Nu – Wilhelmus de Oranje Man – De Zilvermeeuw woensdag 19 maart 2025\nTijdens deze muzikale activiteit zal Troubadour Wilhelmus De Oranje Man weer zorgen voor contact en plezier voor vele senioren en ouderen door het zingen en spelen van de vele bekende liedjes afgestemd op het aanwezige publiek. \nMaak met liedjes contact en plezier!\nWilhelmus de Oranje Man \nMuzikale reis door de tijd en feest van herkenning met Hollandse liedjes van Toen en nu!\nVeel ervaring\, plezier\, ruimte en geduld in de omgang met mensen met dementie\, alzheimer\, verstandelijk beperking\, psychiatrische beperking\, lichamelijke beperking. \nLive muziek optredens voor senioren en ouderen – Gezellige middag voor ouderen – gezelligheid voor ouderen – entertainment senioren en ouderen – Zanger eenzame ouderen en senioren
URL:https://www.de-oranje-man.nl/event/rondvaartboottocht-buurtpas-laurens-rotterdam-voor-senioren-ouderen-met-liedjes-van-toen-en-nu-wilhelmus-de-oranje-man-de-zilvermeeuw/
CATEGORIES:rondvaart senioren ouderen live muziek
ATTACH;FMTTYPE=image/jpeg:https://www.de-oranje-man.nl/wp-content/uploads/2023/08/Seniorenzanger-Ouderen-Wilhelmus-de-Oranje-Man-Rondvaarten-De-Zilvermeeuw.jpg
END:VEVENT
BEGIN:VEVENT
DTSTART;TZID=Europe/Amsterdam:20240927T103000
DTEND;TZID=Europe/Amsterdam:20240927T160000
DTSTAMP:20260420T010143
CREATED:20240731T095213Z
LAST-MODIFIED:20240731T095213Z
UID:7740-1727433000-1727452800@www.de-oranje-man.nl
SUMMARY:Speciale Rondvaartboottocht voor senioren Ouderen met Liedjes van Toen en Nu - Wilhelmus de Oranje Man - De Zilvermeeuw vr 27 september 2024
DESCRIPTION:Speciale Rondvaartboottocht voor senioren Ouderen met Liedjes van Toen en Nu – Wilhelmus de Oranje Man – De Zilvermeeuw vr 27 september 2024\nTijdens deze muzikale activiteit zal Troubadour Wilhelmus De Oranje Man weer zorgen voor contact en plezier voor vele senioren en ouderen door het zingen en spelen van de vele bekende liedjes afgestemd op het aanwezige publiek. \nMaak met liedjes contact en plezier!\nWilhelmus de Oranje Man \nMuzikale reis door de tijd en feest van herkenning met Hollandse liedjes van Toen en nu!\nVeel ervaring\, plezier\, ruimte en geduld in de omgang met mensen met dementie\, alzheimer\, verstandelijk beperking\, psychiatrische beperking\, lichamelijke beperking. \nLive muziek optredens voor senioren en ouderen – Gezellige middag voor ouderen – gezelligheid voor ouderen – entertainment senioren en ouderen – Zanger eenzame ouderen en senioren
URL:https://www.de-oranje-man.nl/event/speciale-rondvaartboottocht-voor-senioren-ouderen-met-liedjes-van-toen-en-nu-wilhelmus-de-oranje-man-de-zilvermeeuw-vr-27-september-2024/
CATEGORIES:Rondvaartboot de Zilvermeeuw Liedjes Ouderen de oranje Man
ATTACH;FMTTYPE=image/jpeg:https://www.de-oranje-man.nl/wp-content/uploads/2023/08/Seniorenzanger-Ouderen-Wilhelmus-de-Oranje-Man-Rondvaarten-De-Zilvermeeuw.jpg
END:VEVENT
BEGIN:VEVENT
DTSTART;TZID=Europe/Amsterdam:20240617T103000
DTEND;TZID=Europe/Amsterdam:20240617T153000
DTSTAMP:20260420T010143
CREATED:20240326T135319Z
LAST-MODIFIED:20240326T135543Z
UID:7590-1718620200-1718638200@www.de-oranje-man.nl
SUMMARY:Rondvaartboot Senioren Ouderen Liedjes van Toen en Nu - Wilhelmus de Oranje Man - De Zilvermeeuw ma 17 juni 2024
DESCRIPTION:Rondvaartboot Senioren Ouderen Liedjes van Toen en Nu – Wilhelmus de Oranje Man – De Zilvermeeuw ma 17 juni 2024\nSpeciale Rondvaartboottocht voor senioren Ouderen met Liedjes van Toen en Nu – Wilhelmus de Oranje Man – De Zilvermeeuw ma 17 juni 2024\nTijdens deze muzikale activiteit zal Troubadour Wilhelmus De Oranje Man weer zorgen voor contact en plezier voor vele senioren en ouderen door het zingen en spelen van de vele bekende liedjes afgestemd op het aanwezige publiek. \n \nMaak met liedjes contact en plezier!\nWilhelmus de Oranje Man \nMuzikale reis door de tijd en feest van herkenning met Hollandse liedjes van Toen en nu!\nVeel ervaring\, plezier\, ruimte en geduld in de omgang met mensen met dementie\, alzheimer\, verstandelijk beperking\, psychiatrische beperking\, lichamelijke beperking. \nLive muziek optredens voor senioren en ouderen – Gezellige middag voor ouderen – gezelligheid voor ouderen – entertainment senioren en ouderen – Zanger eenzame ouderen en senioren. – Liedjesbingo – Seniorenzanger – Senioren muzikant – Meezingconcert senioren / ouderen
URL:https://www.de-oranje-man.nl/event/rondvaartboot-senioren-ouderen-liedjes-van-toen-en-nu-wilhelmus-de-oranje-man-de-zilvermeeuw-ma-17-juni-2024/
CATEGORIES:seniorenzanger muziek voor ouderen
ATTACH;FMTTYPE=image/jpeg:https://www.de-oranje-man.nl/wp-content/uploads/2023/08/Seniorenzanger-Ouderen-Wilhelmus-de-Oranje-Man-Rondvaarten-De-Zilvermeeuw.jpg
END:VEVENT
BEGIN:VEVENT
DTSTART;TZID=Europe/Amsterdam:20240516T140000
DTEND;TZID=Europe/Amsterdam:20240516T170000
DTSTAMP:20260420T010143
CREATED:20240226T152508Z
LAST-MODIFIED:20240318T115455Z
UID:7532-1715868000-1715878800@www.de-oranje-man.nl
SUMMARY:Rondvaart Senioren Ouderen Muziekbingo De Zilvermeeuw Biesbosch Wilhelmus de Oranje Man
DESCRIPTION:Live Muziekbingo Optreden voor Senioren Ouderen tijdnes de rondvaart met de Zilvermeeuw over de Biesboch Gitarist Zanger Wilhelmus de Oranje Man\nWilhelmus De Oranje Man LiedjesBINGO\nSamen genieten van muziek en spel. Zeer interactief optreden en nu al jaren elke keer een daverend succes! \n \nAllemaal verschillende LiedjesBINGO kaarten met daarop de titels van veel Nederlandstalige nummers en een paar Engelstalige klassiekers.\nIk speel de liedjes en de mensen strepen ze af op de Bingo Kaarten.\nBij volle rij BINGO! en een prijsje. \nErg leuk en een heerlijke ontspannen manier om contact te maken. Omdat mensen samen met buurvrouw\, buurman of vrijwilliger dit kunnen spelen en er altijd gespreksstof is n.a.v. de nummers op de kaarten. \nIk kan het zelf in goede banen leiden. Dus als mensen nog bijna geen kruisje op de kaart hebben speel ik dan een nummer van hun kaart of als er een prijs uit moet speel ik het ontbrekende nummer.\nOok kunnen de mensen vanaf de kaart verzoeknummers aanvragen.\nZo wordt het een heerlijk interactief gebeuren \n“Dankjewel Wilhelmus De Oranje Man voor de mooie middag. Het blijft een feest om te zien hoe jij de bewoners met respect\, humor en enthousiasme meeneemt in het muzikale bingospel. Iedereen geniet! Zelfs na jouw vertrek zingen de bewoners nog de liedjes van de kaart. Echt geweldig!” februari 2020 Jacqueline Sturkenboom Beschermd wonen – Lieven de Key Utrecht \nDe Oranje Man LiedjesBINGO / Muziekbingo Live muziek voor senioren / ouderen\n* Geschikt voor groepen van 15 tot 150 mensen.\n* Tijdsduur: 2 sets met korte pauze totaal ca. 90 minuten.\n* Elke kaart is verschillend\n* Eventuele verzoeknummers op maat toe te voegen\n* Thema van de dag of slogan van bedrijf als speciale editie op kaart mee te printen\n* Voor voldoende Oranje Man Bingo pennen wordt gezorgd\n* Ca. 13 Prijzen in overleg zelf of door de Oranje Man geregeld.
URL:https://www.de-oranje-man.nl/event/rondvaart-senioren-ouderen-muziekbingo-de-zilvermeeuw-biesbosch-wilhelmus-de-oranje-man/
CATEGORIES:muziekbingo rondvaart senioren ouderen
ATTACH;FMTTYPE=image/jpeg:https://www.de-oranje-man.nl/wp-content/uploads/2024/02/Liedjesbingo-Kaarten-Wilhelmus-de-Oranje-Man-scaled.jpg
END:VEVENT
END:VCALENDAR