BEGIN:VCALENDAR
VERSION:2.0
PRODID:-//Wilhelmus de Oranje Man - ECPv6.15.19//NONSGML v1.0//EN
CALSCALE:GREGORIAN
METHOD:PUBLISH
X-ORIGINAL-URL:https://www.de-oranje-man.nl
X-WR-CALDESC:Evenementen voor Wilhelmus de Oranje Man
REFRESH-INTERVAL;VALUE=DURATION:PT1H
X-Robots-Tag:noindex
X-PUBLISHED-TTL:PT1H
BEGIN:VTIMEZONE
TZID:Europe/Amsterdam
BEGIN:DAYLIGHT
TZOFFSETFROM:+0100
TZOFFSETTO:+0200
TZNAME:CEST
DTSTART:20170326T010000
END:DAYLIGHT
BEGIN:STANDARD
TZOFFSETFROM:+0200
TZOFFSETTO:+0100
TZNAME:CET
DTSTART:20171029T010000
END:STANDARD
BEGIN:DAYLIGHT
TZOFFSETFROM:+0100
TZOFFSETTO:+0200
TZNAME:CEST
DTSTART:20180325T010000
END:DAYLIGHT
BEGIN:STANDARD
TZOFFSETFROM:+0200
TZOFFSETTO:+0100
TZNAME:CET
DTSTART:20181028T010000
END:STANDARD
BEGIN:DAYLIGHT
TZOFFSETFROM:+0100
TZOFFSETTO:+0200
TZNAME:CEST
DTSTART:20190331T010000
END:DAYLIGHT
BEGIN:STANDARD
TZOFFSETFROM:+0200
TZOFFSETTO:+0100
TZNAME:CET
DTSTART:20191027T010000
END:STANDARD
BEGIN:DAYLIGHT
TZOFFSETFROM:+0100
TZOFFSETTO:+0200
TZNAME:CEST
DTSTART:20200329T010000
END:DAYLIGHT
BEGIN:STANDARD
TZOFFSETFROM:+0200
TZOFFSETTO:+0100
TZNAME:CET
DTSTART:20201025T010000
END:STANDARD
BEGIN:DAYLIGHT
TZOFFSETFROM:+0100
TZOFFSETTO:+0200
TZNAME:CEST
DTSTART:20210328T010000
END:DAYLIGHT
BEGIN:STANDARD
TZOFFSETFROM:+0200
TZOFFSETTO:+0100
TZNAME:CET
DTSTART:20211031T010000
END:STANDARD
BEGIN:DAYLIGHT
TZOFFSETFROM:+0100
TZOFFSETTO:+0200
TZNAME:CEST
DTSTART:20220327T010000
END:DAYLIGHT
BEGIN:STANDARD
TZOFFSETFROM:+0200
TZOFFSETTO:+0100
TZNAME:CET
DTSTART:20221030T010000
END:STANDARD
BEGIN:DAYLIGHT
TZOFFSETFROM:+0100
TZOFFSETTO:+0200
TZNAME:CEST
DTSTART:20230326T010000
END:DAYLIGHT
BEGIN:STANDARD
TZOFFSETFROM:+0200
TZOFFSETTO:+0100
TZNAME:CET
DTSTART:20231029T010000
END:STANDARD
BEGIN:DAYLIGHT
TZOFFSETFROM:+0100
TZOFFSETTO:+0200
TZNAME:CEST
DTSTART:20240331T010000
END:DAYLIGHT
BEGIN:STANDARD
TZOFFSETFROM:+0200
TZOFFSETTO:+0100
TZNAME:CET
DTSTART:20241027T010000
END:STANDARD
BEGIN:DAYLIGHT
TZOFFSETFROM:+0100
TZOFFSETTO:+0200
TZNAME:CEST
DTSTART:20250330T010000
END:DAYLIGHT
BEGIN:STANDARD
TZOFFSETFROM:+0200
TZOFFSETTO:+0100
TZNAME:CET
DTSTART:20251026T010000
END:STANDARD
BEGIN:DAYLIGHT
TZOFFSETFROM:+0100
TZOFFSETTO:+0200
TZNAME:CEST
DTSTART:20260329T010000
END:DAYLIGHT
BEGIN:STANDARD
TZOFFSETFROM:+0200
TZOFFSETTO:+0100
TZNAME:CET
DTSTART:20261025T010000
END:STANDARD
END:VTIMEZONE
BEGIN:VEVENT
DTSTART;TZID=Europe/Amsterdam:20250120T160000
DTEND;TZID=Europe/Amsterdam:20250120T190000
DTSTAMP:20260423T103118
CREATED:20241230T134710Z
LAST-MODIFIED:20241230T134710Z
UID:7951-1737388800-1737399600@www.de-oranje-man.nl
SUMMARY:Blue Monday Eenzame Ouderen Rotary Doorn Verwenmiddag Live Muziek Wilhelmus de Oranje Man - Leersum
DESCRIPTION:Ook dit jaar worden de ouderen door de Rotary in de watten gelegd. Van heinde en ver worden ze opgehaald en naar de Sporthal gebracht waar ze worden verwend met heerlijke hapjes\, drankjes en activiteiten en gezellige Liedjes van Toen & Nu door troubadour – liedjeszanger Wilhelmus De Oranje Man \nTijdens deze muzikale activiteit zal Troubadour Wilhelmus De Oranje Man weer zorgen voor contact en plezier door het zingen en spelen van de vele bekende liedjes afgestemd op het aanwezige publiek. \nMaak met liedjes contact en plezier!\nWilhelmus de Oranje Man \nMuzikale reis door de tijd en feest van herkenning met Hollandse liedjes van Toen en nu!\nVeel ervaring\, plezier\, ruimte en geduld in de omgang met mensen met dementie\, alzheimer\, verstandelijk beperking\, psychiatrische beperking\, lichamelijke beperking. \nLive muziek optredens voor senioren en ouderen – Gezellige middag voor ouderen – gezelligheid voor ouderen – entertainment senioren en ouderen – Zanger eenzame ouderen en senioren
URL:https://www.de-oranje-man.nl/event/blue-monday-eenzame-ouderen-rotary-doorn-verwenmiddag-live-muziek-wilhelmus-de-oranje-man-leersum/
CATEGORIES:Blue Monday Rotary Wilhelmus De Oranje Man,Blue Monday Verwendag ouderen muziek rotary
ATTACH;FMTTYPE=image/jpeg:https://www.de-oranje-man.nl/wp-content/uploads/2024/02/zanger-ouderen-dementie-beperking-.jpg
END:VEVENT
BEGIN:VEVENT
DTSTART;TZID=Europe/Amsterdam:20190121T160000
DTEND;TZID=Europe/Amsterdam:20190121T190000
DTSTAMP:20260423T103118
CREATED:20180123T162942Z
LAST-MODIFIED:20180123T162942Z
UID:3669-1548086400-1548097200@www.de-oranje-man.nl
SUMMARY:Blue Monday Rotary Club Doorn - Leersum De Binder Wilhelmus De Oranje Man
DESCRIPTION:Ca. 150 senioren/ouderen zullen weer op vele manieren door de Rotary Club Doorn in de watten worden gelegd.\nTijdens deze muzikale feestmiddag/avond zal Troubadour Wilhelmus De Oranje Man weer zorgen voor contact en plezier door het samen zingen en spelen van de vele bekende liedjes. \nMaak met liedjes contact en plezier!\nWilhelmus de Oranje Man \nMuzikale reis door de tijd en feest van herkenning met Hollandse liedjes van Toen en nu!\nVeel ervaring\, plezier\, ruimte en geduld in de omgang met mensen met dementie\, alzheimer\, verstandelijk beperking\, lichamelijke beperking.
URL:https://www.de-oranje-man.nl/event/blue-monday-rotary-club-doorn-leersum-binder-wilhelmus-oranje-man/
ATTACH;FMTTYPE=image/jpeg:https://www.de-oranje-man.nl/wp-content/uploads/2016/02/De-Oranje-Man-Blue-Monday-Rotary-Doorn-2016-03.jpg
END:VEVENT
BEGIN:VEVENT
DTSTART;TZID=Europe/Amsterdam:20180921T150000
DTEND;TZID=Europe/Amsterdam:20180921T160000
DTSTAMP:20260423T103118
CREATED:20180830T144457Z
LAST-MODIFIED:20180830T144536Z
UID:3951-1537542000-1537545600@www.de-oranje-man.nl
SUMMARY:Bedrijf en Samenleving - MSD - Nieuw Delftweide Haarlem - Troubadour Wilhelmus De Oranje Man - vr 21-9-18
DESCRIPTION:Contact en plezier in verzorgingstehuis!\nVerwendag vrijwilligers MSD en Mens en Samenleving om de bewoners van Nieuw Delftweide St Jakob in Haarlem een prachtige dag te verzorgen.\nTijdens deze muzikale feestmiddag zal Troubadour Wilhelmus De Oranje Man weer zorgen voor contact en plezier door het samen zingen en spelen van de vele bekende liedjes. \nMaak met liedjes contact en plezier!\nWilhelmus de Oranje Man \nMuzikale reis door de tijd en feest van herkenning met Hollandse liedjes van Toen en nu!\nVeel ervaring\, plezier\, ruimte en geduld in de omgang met mensen met dementie\, alzheimer\, verstandelijk beperking\, psychiatrische beperking\, lichamelijke beperking. \nFacebookTwitterLinkedInDelen
URL:https://www.de-oranje-man.nl/event/bedrijf-en-samenleving-msd-nieuw-delftweide-haarlem-troubadour-wilhelmus-de-oranje-man-vr-21-9-18/
END:VEVENT
BEGIN:VEVENT
DTSTART;TZID=Europe/Amsterdam:20180821T133000
DTEND;TZID=Europe/Amsterdam:20180821T150000
DTSTAMP:20260423T103118
CREATED:20180813T101713Z
LAST-MODIFIED:20180823T065136Z
UID:3923-1534858200-1534863600@www.de-oranje-man.nl
SUMMARY:Verwendag Clienten medewerkers Arbeidcentrum 's HeerenLoo - Schaapskooi Ede - Troubadour Wilhelmus De Oranje Man di 21 augustus 2018
DESCRIPTION:Liedjes van Toen & Nu door troubadour – liedjeszanger Wilhelmus De Oranje Man \nOptredens voor en met mensen met een beperking vind ik het allerleukste om te doen.\nTijdens deze muzikale activiteit zal Troubadour Wilhelmus De Oranje Man weer zorgen voor contact en plezier door het samen zingen en spelen van de vele bekende liedjes. \nMaak met liedjes contact en plezier!\nWilhelmus de Oranje Man \nMuzikale reis door de tijd en feest van herkenning met Hollandse liedjes van Toen en nu!\nVeel ervaring\, plezier\, ruimte en geduld in de omgang met mensen met dementie\, alzheimer\, verstandelijk beperking\, psychiatrische beperking\, lichamelijke beperking.
URL:https://www.de-oranje-man.nl/event/verwendag-clienten-medewerkers-arbeidcentrum-s-heerenloo-schaapskooi-ede-troubadour-wilhelmus-de-oranje-man-di-21-augustus-2018/
ATTACH;FMTTYPE=image/jpeg:https://www.de-oranje-man.nl/wp-content/uploads/2017/03/De-Oranje-Man-006-Instellingen-Hollandse-Liedjes-van-Toen-en-Nu-Troubadour-Beperking-Meervoudig-Gehandicapten-Senioren-Ouderen-Zonnebloem-1.jpg
END:VEVENT
BEGIN:VEVENT
DTSTART;TZID=Europe/Amsterdam:20180122T160000
DTEND;TZID=Europe/Amsterdam:20180122T190000
DTSTAMP:20260423T103118
CREATED:20171115T095521Z
LAST-MODIFIED:20171115T095521Z
UID:3607-1516636800-1516647600@www.de-oranje-man.nl
SUMMARY:Blue Monday Rotary Club Doorn - Sporthal De Binder
DESCRIPTION:Ca. 175 ouderen zullen weer op vele manieren in de watten worden gelegd.\nTijdens deze muzikale feestmiddag/avond zal Troubadour Wilhelmus De Oranje Man weer zorgen voor contact en plezier door het samen zingen en spelen van de vele bekende liedjes. \nMaak met liedjes contact en plezier!\nWilhelmus de Oranje Man \nMuzikale reis door de tijd en feest van herkenning met Hollandse liedjes van Toen en nu!\nVeel ervaring\, plezier\, ruimte en geduld in de omgang met mensen met dementie\, alzheimer\, verstandelijk beperking\, lichamelijke beperking.
URL:https://www.de-oranje-man.nl/event/blue-monday-rotary-club-doorn-sporthal-binder/
END:VEVENT
END:VCALENDAR