BEGIN:VCALENDAR
VERSION:2.0
PRODID:-//Wilhelmus de Oranje Man - ECPv6.15.19//NONSGML v1.0//EN
CALSCALE:GREGORIAN
METHOD:PUBLISH
X-ORIGINAL-URL:https://www.de-oranje-man.nl
X-WR-CALDESC:Evenementen voor Wilhelmus de Oranje Man
REFRESH-INTERVAL;VALUE=DURATION:PT1H
X-Robots-Tag:noindex
X-PUBLISHED-TTL:PT1H
BEGIN:VTIMEZONE
TZID:Europe/Amsterdam
BEGIN:DAYLIGHT
TZOFFSETFROM:+0100
TZOFFSETTO:+0200
TZNAME:CEST
DTSTART:20250330T010000
END:DAYLIGHT
BEGIN:STANDARD
TZOFFSETFROM:+0200
TZOFFSETTO:+0100
TZNAME:CET
DTSTART:20251026T010000
END:STANDARD
BEGIN:DAYLIGHT
TZOFFSETFROM:+0100
TZOFFSETTO:+0200
TZNAME:CEST
DTSTART:20260329T010000
END:DAYLIGHT
BEGIN:STANDARD
TZOFFSETFROM:+0200
TZOFFSETTO:+0100
TZNAME:CET
DTSTART:20261025T010000
END:STANDARD
BEGIN:DAYLIGHT
TZOFFSETFROM:+0100
TZOFFSETTO:+0200
TZNAME:CEST
DTSTART:20270328T010000
END:DAYLIGHT
BEGIN:STANDARD
TZOFFSETFROM:+0200
TZOFFSETTO:+0100
TZNAME:CET
DTSTART:20271031T010000
END:STANDARD
END:VTIMEZONE
BEGIN:VEVENT
DTSTART;TZID=Europe/Amsterdam:20260422T150000
DTEND;TZID=Europe/Amsterdam:20260422T163000
DTSTAMP:20260419T230026
CREATED:20250529T081235Z
LAST-MODIFIED:20250529T081235Z
UID:8189-1776870000-1776875400@www.de-oranje-man.nl
SUMMARY:Liedjesmiddag ouderen woonzorgcentrum Wilhelmus de Oranje Man - Sparrenheide
DESCRIPTION:Tijdens deze muzikale activiteit zal Troubadour Wilhelmus De Oranje Man weer zorgen voor contact en plezier voor vele senioren en ouderen in het woonzorgcentrum door het zingen en spelen van de vele bekende liedjes afgestemd op het aanwezige publiek. \nMaak met liedjes contact en plezier!\nWilhelmus de Oranje Man \nMuzikale reis door de tijd en feest van herkenning met Hollandse liedjes van Toen en nu!\nVeel ervaring\, plezier\, ruimte en geduld in de omgang met mensen met dementie\, alzheimer\, verstandelijk beperking\, psychiatrische beperking\, lichamelijke beperking. \nLive muziek optredens voor senioren en ouderen – Gezellige middag voor ouderen – gezelligheid voor ouderen – entertainment senioren en ouderen – Zanger eenzame ouderen en senioren
URL:https://www.de-oranje-man.nl/event/liedjesmiddag-ouderen-woonzorgcentrum-wilhelmus-de-oranje-man-sparrenheide/
CATEGORIES:oud Hollandse liedjes voor ouderen,oude liedjes van vroeger,ouderen zanger,ouderendag woonzorgcentrum zanger,ouderenvereniging zanger
ATTACH;FMTTYPE=image/jpeg:https://www.de-oranje-man.nl/wp-content/uploads/2024/02/Zanger-Ouderen-Seniorenzanger-Beperking-Wilhelmus-de-Oranje-man.jpg
END:VEVENT
BEGIN:VEVENT
DTSTART;TZID=Europe/Amsterdam:20260503T133000
DTEND;TZID=Europe/Amsterdam:20260503T160000
DTSTAMP:20260419T230026
CREATED:20260309T092028Z
LAST-MODIFIED:20260309T092028Z
UID:8891-1777815000-1777824000@www.de-oranje-man.nl
SUMMARY:G-actief beperking De Meern - live muziek Wilhelmus de Oranje man
DESCRIPTION:Liedjes van Toen & Nu door gitarist zanger Wilhelmus De Oranje Man\nG-actief beperking De Meern – live muziek Wilhelmus de Oranje man \nTijdens deze muzikale activiteit zal Troubadour / Senioren muzikant Wilhelmus De Oranje Man weer zorgen voor contact en plezier door het zingen en spelen van de vele bekende liedjes afgestemd op het aanwezige publiek. \nMaak met liedjes contact en plezier!\nWilhelmus de Oranje Man \n \nMuzikale reis door de tijd en feest van herkenning met Hollandse liedjes van Toen en nu!\nVeel ervaring\, plezier\, ruimte en geduld in de omgang met mensen met dementie\, alzheimer\, verstandelijk beperking\, psychiatrische beperking\, lichamelijke beperking. \nLive muziek optredens voor senioren en ouderen – Liedjesbingo – Meezingconcert senioren meezingconcert ouderen – Gezellige middag voor ouderen – gezelligheid voor ouderen – entertainment senioren en ouderen – Zanger eenzame ouderen en senioren
URL:https://www.de-oranje-man.nl/event/g-actief-beperking-de-meern-live-muziek-wilhelmus-de-oranje-man/
CATEGORIES:G-actief,G-actief Zanger Wilhelmus de Oranje Man
ATTACH;FMTTYPE=image/png:https://www.de-oranje-man.nl/wp-content/uploads/2019/05/troubadour-wilhelmus-de-oranje-man-samen-zingen-kent-geen-beperking.png
END:VEVENT
BEGIN:VEVENT
DTSTART;TZID=Europe/Amsterdam:20260505T143000
DTEND;TZID=Europe/Amsterdam:20260505T160000
DTSTAMP:20260419T230026
CREATED:20250930T161331Z
LAST-MODIFIED:20250930T161331Z
UID:8288-1777991400-1777996800@www.de-oranje-man.nl
SUMMARY:5 Mei viering ouderen Hof van Jacob Zanger Gitarist Wilhelmus de Oranje Man - Haarlem
DESCRIPTION:Gezellige muziekmiddag voor senioren Liedjes van Toen & Nu door troubadour – liedjeszanger Wilhelmus De Oranje Man \nTijdens deze muzikale activiteit zal Troubadour Wilhelmus De Oranje Man weer zorgen voor contact en plezier door het zingen en spelen van de vele bekende liedjes afgestemd op het aanwezige publiek. \nMaak met liedjes contact en plezier!\nWilhelmus de Oranje Man \nMuzikale reis door de tijd en feest van herkenning met Hollandse liedjes van Toen en nu!\nVeel ervaring\, plezier\, ruimte en geduld in de omgang met mensen met dementie\, alzheimer\, verstandelijk beperking\, psychiatrische beperking\, lichamelijke beperking. \nLive muziek optredens voor senioren en ouderen – Gezellige middag voor ouderen – gezelligheid voor ouderen – entertainment senioren en ouderen – Zanger eenzame ouderen en senioren
URL:https://www.de-oranje-man.nl/event/5-mei-viering-ouderen-hof-van-jacob-zanger-gitarist-wilhelmus-de-oranje-man-haarlem/
CATEGORIES:5 Mei viering Troubadour,5 mei woonzorgcentrum zanger Wilhelmus de Oranje Man
ATTACH;FMTTYPE=image/jpeg:https://www.de-oranje-man.nl/wp-content/uploads/2024/02/zanger-ouderen-dementie-beperking-.jpg
END:VEVENT
BEGIN:VEVENT
DTSTART;VALUE=DATE:20261026
DTEND;VALUE=DATE:20261102
DTSTAMP:20260419T230026
CREATED:20260121T083352Z
LAST-MODIFIED:20260121T083352Z
UID:8469-1792972800-1793577599@www.de-oranje-man.nl
SUMMARY:Liedjes van Vroeger en Nu – Zanger gitarist senioren ouderen beperking psychiatrie – Wilhelmus de Oranje Man helaas vandaag niet beschikbaar.
DESCRIPTION:Liedjes van Vroeger en Nu – Zanger gitarist senioren ouderen beperking psychiatrie – Wilhelmus de Oranje Man helaas vandaag niet beschikbaar.\nVandaag is Wilhelmus de Oranje man helaas niet beschikbaar vanwege reeds ander gemaakte afspraken. Heel graag een andere keer tot ziens! \nAls Wilhelmus De Oranje Man (en in nov/dec als de Zingende Sinterklaas en de Zingende Kerstman) verzorg ik een muzikale reis door de tijd en feest van herkenning met liedjes van Toen & Nu! Een liedjesprogramma speciaal voor senioren/ouderen en mensen met een beperking / psychiatrie. Een kleurrijk muzikaal evenement waar je wordt uitgedaagd om aan mee te doen. Waar je na afloop met plezier aan terug zult denken en nog lang positief over wordt nagepraat. \n \nLiedjes van Toen en Nu – Liedjes van Vroeger – Oud Hollandse liedjes voor ouderen – Liedjes Senioren Ouderenzorg \nFoto Jons Jeronimus Utrecht
URL:https://www.de-oranje-man.nl/event/liedjes-van-vroeger-en-nu-zanger-gitarist-senioren-ouderen-beperking-psychiatrie-wilhelmus-de-oranje-man-helaas-vandaag-niet-beschikbaar-9/
CATEGORIES:Hollandse liedjes van vroeger zanger
ATTACH;FMTTYPE=image/jpeg:https://www.de-oranje-man.nl/wp-content/uploads/2023/09/Wilhelmus-de-Oranje-Man-Zanger-Ouderen-en-mensen-met-beperking.jpg
END:VEVENT
END:VCALENDAR