BEGIN:VCALENDAR
VERSION:2.0
PRODID:-//Wilhelmus de Oranje Man - ECPv6.15.19//NONSGML v1.0//EN
CALSCALE:GREGORIAN
METHOD:PUBLISH
X-ORIGINAL-URL:https://www.de-oranje-man.nl
X-WR-CALDESC:Evenementen voor Wilhelmus de Oranje Man
REFRESH-INTERVAL;VALUE=DURATION:PT1H
X-Robots-Tag:noindex
X-PUBLISHED-TTL:PT1H
BEGIN:VTIMEZONE
TZID:Europe/Amsterdam
BEGIN:DAYLIGHT
TZOFFSETFROM:+0100
TZOFFSETTO:+0200
TZNAME:CEST
DTSTART:20190331T010000
END:DAYLIGHT
BEGIN:STANDARD
TZOFFSETFROM:+0200
TZOFFSETTO:+0100
TZNAME:CET
DTSTART:20191027T010000
END:STANDARD
BEGIN:DAYLIGHT
TZOFFSETFROM:+0100
TZOFFSETTO:+0200
TZNAME:CEST
DTSTART:20200329T010000
END:DAYLIGHT
BEGIN:STANDARD
TZOFFSETFROM:+0200
TZOFFSETTO:+0100
TZNAME:CET
DTSTART:20201025T010000
END:STANDARD
BEGIN:DAYLIGHT
TZOFFSETFROM:+0100
TZOFFSETTO:+0200
TZNAME:CEST
DTSTART:20210328T010000
END:DAYLIGHT
BEGIN:STANDARD
TZOFFSETFROM:+0200
TZOFFSETTO:+0100
TZNAME:CET
DTSTART:20211031T010000
END:STANDARD
END:VTIMEZONE
BEGIN:VEVENT
DTSTART;TZID=Europe/Amsterdam:20201215T140000
DTEND;TZID=Europe/Amsterdam:20201215T153000
DTSTAMP:20260424T021317
CREATED:20200309T131634Z
LAST-MODIFIED:20201223T160426Z
UID:5007-1608040800-1608046200@www.de-oranje-man.nl
SUMMARY:Wilhelmus De Zingende Kerstman Kerstliedjes bingo Beschermd wonen Verzorgingstehuis Lieven de Key Wilhelmus de Oranje Man - dinsdag 15 december 2020
DESCRIPTION:“Als bewoners je vertellen dat je geweldig bent zingende Kerstman (Wilhelmus Hoekstra De Oranje Man) hoef ik eigenlijk niets meer te zeggen! De bewoners hangen aan je lippen. Dankzij jouw muziek\, jouw enthousiasme en met het meebewegen krijg jij ze op de dansvloer\, jij laat ze stralen & weer jong voelen.  Dank je wel weer voor deze fantastische MOOIE middag met de KerstliedjesBINGO!\nMooi detail….de Dom op de achtergrond kleurt  zelfs oranje!! Jacqueline Sturkenboom\, welzijnsbegeleider Vechte en IJssel Lieven de Key”\n\nWilhelmus de zingende Kerstman\nPrettige feestdagen en een gelukkig nieuwjaar! I’m dreaming of a white Christmas & Jingle Bells\nPas goed op jezelf en de mensen om je heen en alle goeds voor 2021!\n\n\n\n\nDe Zingende Kerstman Kerstliedjes met ouderen en mensen met een beperking https://www.de-oranje-man.nl/troubadour/zingendekerstman/ \nDe Zingende Kerstman NIEUW 2020 – De Oranje Man Kerst LiedjesBINGO\nSpeciale Kerstliedjes BINGO editie met als thema Kerstliedjes – KerstQuiz vragen en Kerst fragmenten\nHelemaal NIEUW en nu al een daverend succes! Ideaal voor Jubileumfeest\, Seniorenfeest\, De Zonnebloem\, Vrouwen van Nu en om ouderen in de watten te leggen! Allemaal verschillende LiedjesBINGO kaarten met daarop de titels van veel Nederlandstalige nummers en een paar Engelstalige klassiekers. Wilhelmus De Oranje Man speelt de liedjes en de mensen strepen ze af op de LiedjesBINGO kaarten. Bij volle rij BINGO! en een prijsje. \nDe liedjesBINGO – Schot in de roos!\nOnder het genot van een bittergarnituur\, en een drankje werd het een middag vol herkenbare liedjes\, herinneringen ophalen\, een dansje wagen\, bingo spelen\, en mooie prijzen winnen! Werkelijk iedereen heeft genoten! Allereerst de bewoners want daar ging het om. Maar zeker ook de vrijwilligers en de Oranje Man zelf. Na afloop ontstond er zelfs een rij om de Oranje Man te bedanken voor de geweldige middag! Hoe leuk wil je het hebben.\nPublicatie “Vecht & IJssel Samen Beter – jan-febr. 2018” met themavoorpagina “De Oranje Man LiedjesBINGO + artikel” \n“Wilhelmus de Oranjeman inmiddels 3 keer geboekt (voor 2 zorglocaties van Brabantzorg) zowel in Oss als Volkel. Keer op keer een groot succes en er mag met recht gezegd worden dat Wilhelmus tot 1 van de betere muzikanten behoort voor onze doelgroep (senioren)\nDe liedjes bingo’s zijn een groot succes\, je ziet bewoners meezingen en genieten van alles. Het is een totaal concept en aan alles is gedacht. Wilhelmus komt geheel in oranje maatpak met oranje banier achter zich\, goede geluidsinstallatie (niet te hard) en wat mooi is is dat Wilhelmus naar de bewoners toe gaat i.p.v. op een podium blijft staan. Wat mij (en de bewoners) betreft komt hij vaker naar ons toe.\nEen aanrader voor de ouderenzorg!” \nErg leuk en een heerlijke ontspannen manier om contact te maken. Omdat mensen samen met buurvrouw\, buurman of vrijwilliger dit kunnen spelen en er altijd gespreksstof is n.a.v. de nummers op de kaarten. \nIk kan het zelf in goede banen leiden. Dus als mensen nog bijna geen kruisje op de kaart hebben speel ik dan een nummer van hun kaart of als er een prijs uit moet speel ik het ontbrekende nummer.\nOok kunnen de mensen vanaf de kaart verzoeknummers aanvragen.\nZo wordt het een heerlijk interactief gebeuren \n“Het was een groot succes! Iedereen zong mee met de liedjes die wel of niet op de bingokaart stonden” \nDe Oranje Man LiedjesBINGO\nGeschikt voor groepen van 15 tot 175 mensen.\nTijdsduur: 2 sets met korte pauze totaal ca. 90 minuten.\nElke kaart is verschillend\nEventuele verzoeknummers op maat toe te voegen\nThema van de dag of slogan van bedrijf als speciale editie op kaart mee te printen\nVoor voldoende Oranje Man Bingo pennen wordt gezorgd\nCa. 13 Prijzen in overleg zelf of door de Oranje Man geregeld. \nSpeciale verwenmiddag ouderen met dementie door medewerkers van een bedrijf\n“Wat een heerlijke manier om samen aan de slag te gaan met de liedjes en\nzo ongedwongen contact met elkaar te maken! Zo mooi wat voor verhalen er ineens boven komen en hoe de mensen ineens met elkaar gaan praten!” \nJubileumfeest diner Kegelclub Sans Souci Zierikzee\nWij vierden ons 120 jaar jubileumfeest\, daar hadden we de Oranje man voor gevraagd om tijdens het eten en tussendoor ons te vermaken met de LiedjesBINGO\, en dat is erg goed gelukt! Onze clubliederen waren ook opgenomen en speciaal verwerkt in de BingoKaarten. Zo werd de avond helemaal bijzonder. Ons jongste lid was 51 en de oudste 83. Iedereen deed enthousiast mee! Het was een prachtige\, oer gezellige avond! De Oranje man heeft maar één doel de mensen een TOP avond bezorgen. En dat is gelukt! Dank je wel Wilhelmus dat je er was !! \nMaak met liedjes contact en plezier!\nWilhelmus de Oranje Man \nMuzikale reis door de tijd en feest van herkenning met Hollandse liedjes van Toen en nu!\nVeel ervaring\, plezier\, ruimte en geduld in de omgang met mensen met dementie\, alzheimer\, verstandelijke beperking\, psychische & sociale beperking\, lichamelijke beperking.
URL:https://www.de-oranje-man.nl/event/kerstliedjes-bingo-beschermd-wonen-verzorgingstehuis-lieven-de-key-wilhelmus-de-oranje-man-dinsdag-15-december-2020/
CATEGORIES:kerstliedjes bingo beschermd wonen,zingende kerstman kerstliedjes ouderen mensen beperking
ATTACH;FMTTYPE=image/jpeg:https://www.de-oranje-man.nl/wp-content/uploads/2020/12/Wilhelmus-de-zingende-kerstman-Muzikale-Kerstman-Instelling-Beperking-Ouderen-Zorgcentra-dementie.jpg
END:VEVENT
BEGIN:VEVENT
DTSTART;TZID=Europe/Amsterdam:20200325T140000
DTEND;TZID=Europe/Amsterdam:20200325T153000
DTSTAMP:20260424T021317
CREATED:20200316T093124Z
LAST-MODIFIED:20200316T093124Z
UID:5013-1585144800-1585150200@www.de-oranje-man.nl
SUMMARY:Muzikale middag beschermd wonen troubadour Wilhelmus De Oranje Man - Lieven de Keij - wo 25 maart 2020
DESCRIPTION:Liedjes van Toen & Nu door troubadour – liedjeszanger Wilhelmus De Oranje Man \nFeestelijke muzikale middag – Huiskamers Beschermd wonen\nMet speciaal hiervoor gemaakte gitaarkrukversterker komt Wilhelmus langs\, met gitaar en zang volkomen draadloos en alles op batterijen en toch licht versterkt waar nodig. \nTijdens deze muzikale feestmiddag zal Troubadour Wilhelmus De Oranje Man weer zorgen voor contact en plezier door het samen zingen en spelen van de vele bekende liedjes. \nMaak met liedjes contact en plezier!\nWilhelmus de Oranje Man \nMuzikale reis door de tijd en feest van herkenning met Hollandse liedjes van Toen en nu!\nVeel ervaring\, plezier\, ruimte en geduld in de omgang met mensen met dementie\, alzheimer\, verstandelijk beperking\, lichamelijke beperking. \nLiedjeszanger met grote voorliefde als troubadour beperking\, troubadour verstandelijke gehandicapten\, troubadour alzheimer\, troubadour dementie\, troubadour Nederlandstalig\, Troubadour Hollands.
URL:https://www.de-oranje-man.nl/event/muzikale-middag-beschermd-wonen-troubadour-wilhelmus-de-oranje-man-lieven-de-keij-wo-25-maart-2020/
CATEGORIES:beschermd wonen troubadour
ATTACH;FMTTYPE=image/jpeg:https://www.de-oranje-man.nl/wp-content/uploads/2019/09/gitaarkruk-versterker-volkomen-draadloos-incl-bluetooth-de-oranje-man.jpg
END:VEVENT
BEGIN:VEVENT
DTSTART;TZID=Europe/Amsterdam:20200309T200000
DTEND;TZID=Europe/Amsterdam:20200309T220000
DTSTAMP:20260424T021317
CREATED:20190503T090904Z
LAST-MODIFIED:20200220T141635Z
UID:4480-1583784000-1583791200@www.de-oranje-man.nl
SUMMARY:Zeeuwse Vakantieweek Nieuw Hydepark Doorn - Liedjeszanger Wilhelmus De Oranje Man - ma 9 maart 2020
DESCRIPTION:Liedjes van Toen & Nu door troubadour – liedjeszanger Wilhelmus De Oranje Man \nZeeuwse Vakantieweek Doorn\nTijdens deze muzikale activiteit zal Troubadour Wilhelmus De Oranje Man weer zorgen voor contact en plezier door het zingen en spelen van de vele bekende liedjes afgestemd op het aanwezige publiek. \nMaak met liedjes contact en plezier!\nWilhelmus de Oranje Man \nMuzikale reis door de tijd en feest van herkenning met Hollandse liedjes van Toen en nu!\nVeel ervaring\, plezier\, ruimte en geduld in de omgang met mensen met dementie\, alzheimer\, verstandelijk beperking\, psychiatrische beperking\, lichamelijke beperking. \nLiedjeszanger met grote voorliefde als troubadour alzheimer\, troubadour dementie\, troubadour Nederlandstalig\, Troubadour Hollands.
URL:https://www.de-oranje-man.nl/event/zeeuwse-vakantieweek-nieuw-hydepark-doorn-liedjeszanger-wilhelmus-de-oranje-man-ma-9-maart-2020/
CATEGORIES:Zeeuwse Vakantieweek
ATTACH;FMTTYPE=image/jpeg:https://www.de-oranje-man.nl/wp-content/uploads/2019/03/2019banner04_wilhelmus-hoekstra-de-oranje-man-liedjeszanger-presentator-cabaratier-liedjesbingo-04-samen-zingen-een-kleurrijke-ervaring.jpg
END:VEVENT
BEGIN:VEVENT
DTSTART;TZID=Europe/Amsterdam:20200205T140000
DTEND;TZID=Europe/Amsterdam:20200205T153000
DTSTAMP:20260424T021317
CREATED:20191213T113902Z
LAST-MODIFIED:20200220T141428Z
UID:4764-1580911200-1580916600@www.de-oranje-man.nl
SUMMARY:Liedjesbingo Beschermd wonen Woonzorgcentrum Wilhelmus De Oranje Man Lieven de Keij wo 5 februari 2020
DESCRIPTION:Plezier en contact met bewoners familie en vrijwilligers personeel met De Oranje Man LiedjesBINGO\nHelemaal NIEUW en nu al een daverend succes! Ideaal voor Jubileumfeest\, Seniorenfeest\, De Zonnebloem\, Vrouwen van Nu en om ouderen in de watten te leggen! Allemaal verschillende LiedjesBINGO kaarten met daarop de titels van veel Nederlandstalige nummers en een paar Engelstalige klassiekers. Wilhelmus De Oranje Man speelt de liedjes en de mensen strepen ze af op de LiedjesBINGO kaarten. Bij volle rij BINGO! en een prijsje. \nDe liedjesBINGO – Schot in de roos!\nOnder het genot van een bittergarnituur\, en een drankje werd het een middag vol herkenbare liedjes\, herinneringen ophalen\, een dansje wagen\, bingo spelen\, en mooie prijzen winnen! Werkelijk iedereen heeft genoten! Allereerst de bewoners want daar ging het om. Maar zeker ook de vrijwilligers en de Oranje Man zelf. Na afloop ontstond er zelfs een rij om de Oranje Man te bedanken voor de geweldige middag! Hoe leuk wil je het hebben.\nPublicatie “Vecht & IJssel Samen Beter – jan-febr. 2018” met themavoorpagina “De Oranje Man LiedjesBINGO + artikel” \nErg leuk en een heerlijke ontspannen manier om contact te maken. Omdat mensen samen met buurvrouw\, buurman of vrijwilliger dit kunnen spelen en er altijd gespreksstof is n.a.v. de nummers op de kaarten. Ook zeer geschikt bij PG problematiek. Let hierbij wel op voldoende vrijwilligers of familie etc. \nIk kan het zelf in goede banen leiden. Dus als mensen nog bijna geen kruisje op de kaart hebben speel ik dan een nummer van hun kaart of als er een prijs uit moet speel ik het ontbrekende nummer.\nOok kunnen de mensen vanaf de kaart verzoeknummers aanvragen.\nZo wordt het een heerlijk interactief gebeuren \n“Het was een groot succes! Iedereen zong mee met de liedjes die wel of niet op de bingokaart stonden” \nDe Oranje Man LiedjesBINGO\nGeschikt voor groepen van 15 tot 175 mensen.\nTijdsduur: 2 sets met korte pauze totaal ca. 90 minuten.\nElke kaart is verschillend\nEventuele verzoeknummers op maat toe te voegen\nThema van de dag of slogan van bedrijf als speciale editie op kaart mee te printen\nVoor voldoende Oranje Man Bingo pennen wordt gezorgd\nCa. 13 Prijzen in overleg zelf of door de Oranje Man geregeld. \nSpeciale verwenmiddag ouderen met dementie door medewerkers van een bedrijf\n“Wat een heerlijke manier om samen aan de slag te gaan met de liedjes en\nzo ongedwongen contact met elkaar te maken! Zo mooi wat voor verhalen er ineens boven komen en hoe de mensen ineens met elkaar gaan praten!” \nJubileumfeest diner Kegelclub Sans Souci Zierikzee\nWij vierden ons 120 jaar jubileumfeest\, daar hadden we de Oranje man voor gevraagd om tijdens het eten en tussendoor ons te vermaken met de LiedjesBINGO\, en dat is erg goed gelukt! Onze clubliederen waren ook opgenomen en speciaal verwerkt in de BingoKaarten. Zo werd de avond helemaal bijzonder. Ons jongste lid was 51 en de oudste 83. Iedereen deed enthousiast mee! Het was een prachtige\, oer gezellige avond! De Oranje man heeft maar één doel de mensen een TOP avond bezorgen. En dat is gelukt! Dank je wel Wilhelmus dat je er was !! \nMaak met liedjes contact en plezier!\nWilhelmus de Oranje Man \nMuzikale reis door de tijd en feest van herkenning met Hollandse liedjes van Toen en nu!\nVeel ervaring\, plezier\, ruimte en geduld in de omgang met mensen met dementie\, alzheimer\, verstandelijke beperking\, psychische & sociale beperking\, lichamelijke beperking.\nLiedjeszanger met grote voorliefde en ervaring als troubadour beperking\, troubadour verstandelijk gehandicapten/beperking\, troubadour alzheimer\, troubadour dementie\, troubadour Nederlandstalig\, Troubadour Hollands.
URL:https://www.de-oranje-man.nl/event/liedjesbingo-beschermd-wonen-woonzorgcentrum-wilhelmus-de-oranje-man-lieven-de-keij-wo-5-februari-2020/
CATEGORIES:LiedjesBINGO Woonzorgcentrum
ATTACH;FMTTYPE=image/png:https://www.de-oranje-man.nl/wp-content/uploads/2019/01/afbeelding-van-liedjesbingo-tegeltje-samen-genieten-van-muziek-en-spel-wilhelmus-de-oranje-man.png
END:VEVENT
END:VCALENDAR