BEGIN:VCALENDAR
VERSION:2.0
PRODID:-//Wilhelmus de Oranje Man - ECPv6.15.19//NONSGML v1.0//EN
CALSCALE:GREGORIAN
METHOD:PUBLISH
X-WR-CALNAME:Wilhelmus de Oranje Man
X-ORIGINAL-URL:https://www.de-oranje-man.nl
X-WR-CALDESC:Evenementen voor Wilhelmus de Oranje Man
REFRESH-INTERVAL;VALUE=DURATION:PT1H
X-Robots-Tag:noindex
X-PUBLISHED-TTL:PT1H
BEGIN:VTIMEZONE
TZID:Europe/Amsterdam
BEGIN:DAYLIGHT
TZOFFSETFROM:+0100
TZOFFSETTO:+0200
TZNAME:CEST
DTSTART:20160327T010000
END:DAYLIGHT
BEGIN:STANDARD
TZOFFSETFROM:+0200
TZOFFSETTO:+0100
TZNAME:CET
DTSTART:20161030T010000
END:STANDARD
BEGIN:DAYLIGHT
TZOFFSETFROM:+0100
TZOFFSETTO:+0200
TZNAME:CEST
DTSTART:20170326T010000
END:DAYLIGHT
BEGIN:STANDARD
TZOFFSETFROM:+0200
TZOFFSETTO:+0100
TZNAME:CET
DTSTART:20171029T010000
END:STANDARD
BEGIN:DAYLIGHT
TZOFFSETFROM:+0100
TZOFFSETTO:+0200
TZNAME:CEST
DTSTART:20180325T010000
END:DAYLIGHT
BEGIN:STANDARD
TZOFFSETFROM:+0200
TZOFFSETTO:+0100
TZNAME:CET
DTSTART:20181028T010000
END:STANDARD
BEGIN:DAYLIGHT
TZOFFSETFROM:+0100
TZOFFSETTO:+0200
TZNAME:CEST
DTSTART:20190331T010000
END:DAYLIGHT
BEGIN:STANDARD
TZOFFSETFROM:+0200
TZOFFSETTO:+0100
TZNAME:CET
DTSTART:20191027T010000
END:STANDARD
BEGIN:DAYLIGHT
TZOFFSETFROM:+0100
TZOFFSETTO:+0200
TZNAME:CEST
DTSTART:20200329T010000
END:DAYLIGHT
BEGIN:STANDARD
TZOFFSETFROM:+0200
TZOFFSETTO:+0100
TZNAME:CET
DTSTART:20201025T010000
END:STANDARD
BEGIN:DAYLIGHT
TZOFFSETFROM:+0100
TZOFFSETTO:+0200
TZNAME:CEST
DTSTART:20210328T010000
END:DAYLIGHT
BEGIN:STANDARD
TZOFFSETFROM:+0200
TZOFFSETTO:+0100
TZNAME:CET
DTSTART:20211031T010000
END:STANDARD
BEGIN:DAYLIGHT
TZOFFSETFROM:+0100
TZOFFSETTO:+0200
TZNAME:CEST
DTSTART:20220327T010000
END:DAYLIGHT
BEGIN:STANDARD
TZOFFSETFROM:+0200
TZOFFSETTO:+0100
TZNAME:CET
DTSTART:20221030T010000
END:STANDARD
BEGIN:DAYLIGHT
TZOFFSETFROM:+0100
TZOFFSETTO:+0200
TZNAME:CEST
DTSTART:20230326T010000
END:DAYLIGHT
BEGIN:STANDARD
TZOFFSETFROM:+0200
TZOFFSETTO:+0100
TZNAME:CET
DTSTART:20231029T010000
END:STANDARD
BEGIN:DAYLIGHT
TZOFFSETFROM:+0100
TZOFFSETTO:+0200
TZNAME:CEST
DTSTART:20240331T010000
END:DAYLIGHT
BEGIN:STANDARD
TZOFFSETFROM:+0200
TZOFFSETTO:+0100
TZNAME:CET
DTSTART:20241027T010000
END:STANDARD
BEGIN:DAYLIGHT
TZOFFSETFROM:+0100
TZOFFSETTO:+0200
TZNAME:CEST
DTSTART:20250330T010000
END:DAYLIGHT
BEGIN:STANDARD
TZOFFSETFROM:+0200
TZOFFSETTO:+0100
TZNAME:CET
DTSTART:20251026T010000
END:STANDARD
BEGIN:DAYLIGHT
TZOFFSETFROM:+0100
TZOFFSETTO:+0200
TZNAME:CEST
DTSTART:20260329T010000
END:DAYLIGHT
BEGIN:STANDARD
TZOFFSETFROM:+0200
TZOFFSETTO:+0100
TZNAME:CET
DTSTART:20261025T010000
END:STANDARD
END:VTIMEZONE
BEGIN:VEVENT
DTSTART;TZID=Europe/Amsterdam:20250612T110000
DTEND;TZID=Europe/Amsterdam:20250612T140000
DTSTAMP:20260423T063410
CREATED:20250226T093845Z
LAST-MODIFIED:20250226T093845Z
UID:8018-1749726000-1749736800@www.de-oranje-man.nl
SUMMARY:Zomerfeest Zuidwester Rockanje – Gezellige muzikale bijeenkomst met cliënten en familie en begeleiding
DESCRIPTION:Zomerfeest Zuidwester – Gezellige muzikale bijeenkomst met cliënten en familie en begeleiding\nLiedjes van Toen & Nu door troubadour – liedjeszanger Wilhelmus De Oranje Man \nTijdens deze muzikale activiteit zal Troubadour Wilhelmus De Oranje Man weer zorgen voor contact en plezier door het zingen en spelen van de vele bekende liedjes afgestemd op het aanwezige publiek. \nMaak met liedjes contact en plezier!\nWilhelmus de Oranje Man \nMuzikale reis door de tijd en feest van herkenning met Hollandse liedjes van Toen en nu!\nVeel ervaring\, plezier\, ruimte en geduld in de omgang met mensen met dementie\, alzheimer\, verstandelijk beperking\, psychiatrische beperking\, lichamelijke beperking. \nLive muziek optredens voor senioren en ouderen – Gezellige middag voor ouderen – gezelligheid voor ouderen – entertainment senioren en ouderen – Zanger eenzame ouderen en senioren –  zanger beperking – gehandicaptenzorg live muziek
URL:https://www.de-oranje-man.nl/event/zomerfeest-zuidwester-rockanje-gezellige-muzikale-bijeenkomst-met-clienten-en-familie-en-begeleiding/
CATEGORIES:zomerfeest clienten beperking muziek zanger,zomerfeest clienten beperking zanger,Zomerfeest Clienten Dagbesteding Zuidwester - Zanger gitarist
ATTACH;FMTTYPE=image/png:https://www.de-oranje-man.nl/wp-content/uploads/2019/05/troubadour-wilhelmus-de-oranje-man-samen-zingen-kent-geen-beperking.png
END:VEVENT
BEGIN:VEVENT
DTSTART;TZID=Europe/Amsterdam:20180426T140000
DTEND;TZID=Europe/Amsterdam:20180426T160000
DTSTAMP:20260423T063410
CREATED:20171026T122121Z
LAST-MODIFIED:20171026T122121Z
UID:3593-1524751200-1524758400@www.de-oranje-man.nl
SUMMARY:Koningsdag Thema Zuidwester Dok 16 Middelharnis Wilhelmus De Oranje Man
DESCRIPTION:Samen met cliënten\, gasten en familie een hele mooie muzikale reis door de tijd en feest van herkenning met liedjes van Toen en van nu! \nMaak met liedjes contact en plezier!\nWilhelmus de Oranje Man – Troubadour Utrecht \nMuzikale reis door de tijd en feest van herkenning met Hollandse liedjes van Toen en nu!\nVeel ervaring\, plezier\, ruimte en geduld in de omgang met mensen met dementie\, alzheimer\, verstandelijk beperking\, lichamelijke beperking.
URL:https://www.de-oranje-man.nl/event/koningsdag-thema-zuidwester-dok-16-middelharnis-wilhelmus-oranje-man/
ATTACH;FMTTYPE=image/jpeg:https://www.de-oranje-man.nl/wp-content/uploads/2017/03/De-Oranje-Man-006-Instellingen-Hollandse-Liedjes-van-Toen-en-Nu-Troubadour-Beperking-Meervoudig-Gehandicapten-Senioren-Ouderen-Zonnebloem-1.jpg
END:VEVENT
BEGIN:VEVENT
DTSTART;TZID=Europe/Amsterdam:20170425T133000
DTEND;TZID=Europe/Amsterdam:20170425T153000
DTSTAMP:20260423T063410
CREATED:20170307T151458Z
LAST-MODIFIED:20170425T062521Z
UID:3179-1493127000-1493134200@www.de-oranje-man.nl
SUMMARY:Stichting Zuidwester - Brasserie DOK16 - Middelharnis - Koningsdag Feest en Wilhelmus de Oranje Man
DESCRIPTION:Muziek en samen zingen kent geen beperking! Thema “Koningsdag” voor en samen met cliënten en begeleiding. Liedjes afgestemd op aanwezig niveau.\nMuzikale reis door de tijd en feest van herkenning met liedjes van Toen & Nu! \nBrasserie DOK16 is niet zomaar een brasserie. Bijzonder is dat in de brasserie veel werkzaamheden worden verricht door mensen met een verstandelijke beperking. Brasserie DOK16 is namelijk een dagbestedingslocatie van Zuidwester. Daarnaast werken ze zoveel mogelijk met verse producten uit deze streek. \nIedereen is bijzonder! Ik heb een grote voorliefde voor optredens voor en met mensen met een beperking! \nBezorg met liedjes een fijne dag!\nWilhelmus de Oranje Man \nMuzikale reis door de tijd en feest van herkenning met Hollandse liedjes van Toen en nu!\nVeel ervaring\, plezier\, ruimte en geduld in de omgang met mensen met dementie\, alzheimer\, verstandelijk beperking\, lichamelijke beperking.
URL:https://www.de-oranje-man.nl/event/stichting-zuidwester-brasserie-dok-16-middelharnis-koningsdag-feest-en-wilhelmus-oranje-man/
LOCATION:Stichting Zuidwester Middelharnis\, Brasserie Dok 16\, Westerschelde 16 A\, Middelharnis\, 3241LK\, Nederland
ATTACH;FMTTYPE=image/jpeg:https://www.de-oranje-man.nl/wp-content/uploads/2017/03/De-Oranje-Man-006-Instellingen-Hollandse-Liedjes-van-Toen-en-Nu-Troubadour-Beperking-Meervoudig-Gehandicapten-Senioren-Ouderen-Zonnebloem-1.jpg
END:VEVENT
END:VCALENDAR