BEGIN:VCALENDAR
VERSION:2.0
PRODID:-//Wilhelmus de Oranje Man - ECPv6.15.19//NONSGML v1.0//EN
CALSCALE:GREGORIAN
METHOD:PUBLISH
X-WR-CALNAME:Wilhelmus de Oranje Man
X-ORIGINAL-URL:https://www.de-oranje-man.nl
X-WR-CALDESC:Evenementen voor Wilhelmus de Oranje Man
REFRESH-INTERVAL;VALUE=DURATION:PT1H
X-Robots-Tag:noindex
X-PUBLISHED-TTL:PT1H
BEGIN:VTIMEZONE
TZID:Europe/Amsterdam
BEGIN:DAYLIGHT
TZOFFSETFROM:+0100
TZOFFSETTO:+0200
TZNAME:CEST
DTSTART:20240331T010000
END:DAYLIGHT
BEGIN:STANDARD
TZOFFSETFROM:+0200
TZOFFSETTO:+0100
TZNAME:CET
DTSTART:20241027T010000
END:STANDARD
BEGIN:DAYLIGHT
TZOFFSETFROM:+0100
TZOFFSETTO:+0200
TZNAME:CEST
DTSTART:20250330T010000
END:DAYLIGHT
BEGIN:STANDARD
TZOFFSETFROM:+0200
TZOFFSETTO:+0100
TZNAME:CET
DTSTART:20251026T010000
END:STANDARD
BEGIN:DAYLIGHT
TZOFFSETFROM:+0100
TZOFFSETTO:+0200
TZNAME:CEST
DTSTART:20260329T010000
END:DAYLIGHT
BEGIN:STANDARD
TZOFFSETFROM:+0200
TZOFFSETTO:+0100
TZNAME:CET
DTSTART:20261025T010000
END:STANDARD
END:VTIMEZONE
BEGIN:VEVENT
DTSTART;TZID=Europe/Amsterdam:20250222T140000
DTEND;TZID=Europe/Amsterdam:20250222T160000
DTSTAMP:20260420T085728
CREATED:20241118T090255Z
LAST-MODIFIED:20241118T090255Z
UID:7880-1740232800-1740240000@www.de-oranje-man.nl
SUMMARY:Senioren Ouderen Carnaval Careyn Nieuw Tamarinde Carnaval Klassiekers Liedjes Wilhelmus de Oranje Man - za 22-2-25
DESCRIPTION:https://www.de-oranje-man.nl/wp-content/uploads/2024/02/Carnaval-Ouderen-Dementie-Muziekbingo-01.mp4\nSeniorenCarnaval Liedjes Klassiekers voor senioren ouderen in woonzorgcentrum/zorgcentra/verpleeghuis Nieuw Tamarinde in Utrecht. \nEen lijst met ruim 30 Carnaval klassiekers aller tijden zoals: Polonaise Hollandaise\, Er staat een paard in de gang\, ’s nachts na Tweeën\,Mien waar is mijn feestneus\,Een bloemetjesgordijn\,Zak eens lekker door\, Uche Uche Uche\, Laat de hele boel maar waaien\, Dans je de hele nacht met mij & Brabantse nachten zijn lang.  \nErg leuk en een heerlijke ontspannen manier om contact te maken.  \n \n“Dankjewel Wilhelmus De Oranje Man voor de mooie middag. Het blijft een feest om te zien hoe jij de bewoners met respect\, humor en enthousiasme meeneemt in het muzikale bingospel. Iedereen geniet! Zelfs na jouw vertrek zingen de bewoners nog de liedjes van de kaart. Echt geweldig!” Jacqueline Sturkenboom Beschermd wonen – Lieven de Key Utrecht \nDe Oranje Man Carnavals Klassiekers Liedjes speciaal voor senioren ouderen.\n* Geschikt voor groepen van 15 tot 150 mensen.\n* Tijdsduur: 2 sets met korte pauze totaal ca. 90 minuten.
URL:https://www.de-oranje-man.nl/event/senioren-ouderen-carnaval-careyn-nieuw-tamarinde-carnaval-klassiekers-liedjes-wilhelmus-de-oranje-man-za-22-2-25/
CATEGORIES:Carnaval Klassiekers Liedjes Senioren Ouderen
ATTACH;FMTTYPE=image/jpeg:https://www.de-oranje-man.nl/wp-content/uploads/2024/11/Carnaval-Klassiekers-Wilhelmus-de-Oranje-Man.jpg
END:VEVENT
END:VCALENDAR