BEGIN:VCALENDAR
VERSION:2.0
PRODID:-//Wilhelmus de Oranje Man - ECPv6.15.19//NONSGML v1.0//EN
CALSCALE:GREGORIAN
METHOD:PUBLISH
X-WR-CALNAME:Wilhelmus de Oranje Man
X-ORIGINAL-URL:https://www.de-oranje-man.nl
X-WR-CALDESC:Evenementen voor Wilhelmus de Oranje Man
REFRESH-INTERVAL;VALUE=DURATION:PT1H
X-Robots-Tag:noindex
X-PUBLISHED-TTL:PT1H
BEGIN:VTIMEZONE
TZID:Europe/Amsterdam
BEGIN:DAYLIGHT
TZOFFSETFROM:+0100
TZOFFSETTO:+0200
TZNAME:CEST
DTSTART:20220327T010000
END:DAYLIGHT
BEGIN:STANDARD
TZOFFSETFROM:+0200
TZOFFSETTO:+0100
TZNAME:CET
DTSTART:20221030T010000
END:STANDARD
BEGIN:DAYLIGHT
TZOFFSETFROM:+0100
TZOFFSETTO:+0200
TZNAME:CEST
DTSTART:20230326T010000
END:DAYLIGHT
BEGIN:STANDARD
TZOFFSETFROM:+0200
TZOFFSETTO:+0100
TZNAME:CET
DTSTART:20231029T010000
END:STANDARD
BEGIN:DAYLIGHT
TZOFFSETFROM:+0100
TZOFFSETTO:+0200
TZNAME:CEST
DTSTART:20240331T010000
END:DAYLIGHT
BEGIN:STANDARD
TZOFFSETFROM:+0200
TZOFFSETTO:+0100
TZNAME:CET
DTSTART:20241027T010000
END:STANDARD
BEGIN:DAYLIGHT
TZOFFSETFROM:+0100
TZOFFSETTO:+0200
TZNAME:CEST
DTSTART:20250330T010000
END:DAYLIGHT
BEGIN:STANDARD
TZOFFSETFROM:+0200
TZOFFSETTO:+0100
TZNAME:CET
DTSTART:20251026T010000
END:STANDARD
BEGIN:DAYLIGHT
TZOFFSETFROM:+0100
TZOFFSETTO:+0200
TZNAME:CEST
DTSTART:20260329T010000
END:DAYLIGHT
BEGIN:STANDARD
TZOFFSETFROM:+0200
TZOFFSETTO:+0100
TZNAME:CET
DTSTART:20261025T010000
END:STANDARD
END:VTIMEZONE
BEGIN:VEVENT
DTSTART;TZID=Europe/Amsterdam:20250401T133000
DTEND;TZID=Europe/Amsterdam:20250401T153000
DTSTAMP:20260422T141827
CREATED:20250313T094719Z
LAST-MODIFIED:20250313T094719Z
UID:8049-1743514200-1743521400@www.de-oranje-man.nl
SUMMARY:10 jaar Jubileumfeest Woonzorgcentrum Zanger Wilhelmus de Oranje Man Nieuw Overbos
DESCRIPTION:Tijdens deze muzikale activiteit ter gelegenheid van het 10 jarig jubileumfeest van Woonzorgcentrum Nieuw Overbos zal Troubadour Wilhelmus De Oranje Man weer zorgen voor contact en plezier voor vele senioren en ouderen in het woonzorgcentrum door het zingen en spelen van de vele bekende liedjes afgestemd op het aanwezige publiek. \nMaak met liedjes contact en plezier!\nWilhelmus de Oranje Man \nMuzikale reis door de tijd en feest van herkenning met Hollandse liedjes van Toen en nu!\nVeel ervaring\, plezier\, ruimte en geduld in de omgang met mensen met dementie\, alzheimer\, verstandelijk beperking\, psychiatrische beperking\, lichamelijke beperking. \nLive muziek optredens voor senioren en ouderen – Gezellige middag voor ouderen – gezelligheid voor ouderen – entertainment senioren en ouderen – Zanger eenzame ouderen en senioren
URL:https://www.de-oranje-man.nl/event/10-jaar-jubileumfeest-woonzorgcentrum-zanger-wilhelmus-de-oranje-man-nieuw-overbos/
CATEGORIES:10 jaar jubileumfeest
ATTACH;FMTTYPE=image/jpeg:https://www.de-oranje-man.nl/wp-content/uploads/2024/02/zanger-ouderen-dementie-beperking-.jpg
END:VEVENT
BEGIN:VEVENT
DTSTART;TZID=Europe/Amsterdam:20231218T133000
DTEND;TZID=Europe/Amsterdam:20231218T150000
DTSTAMP:20260422T141827
CREATED:20230619T104647Z
LAST-MODIFIED:20230619T104731Z
UID:7061-1702906200-1702911600@www.de-oranje-man.nl
SUMMARY:Zingende Kerstman Ouderen Woonzorgcentrum Nieuw Overbos  Heemstede - maandag 18-12-23
DESCRIPTION:Luister nu op Spotify de Kersthit van 2023: Kerst in Nederland Wilhelmus de Zingende Kerstman OOO heerlijk in de Sno. \nDe Zingende Kerstman\nTijdens de muzikale middag zal Wilhelmus de Zingen de Kerstman  weer zorgen voor contact en plezier met de vele bekende Kerstliedjes. \nWilhelmus de Zingende Kerstman is heel gemoedelijk en neemt de tijd voor een gesprekje met de bewoners en speelt ondertussen prachtige Kerstliedjes. \n“Beste Wilhelmus de zingende kerstman\,\nIn ruim 3 uur langs 13 verschillende woningen van Sovak in Terheijden zonder pauze en als een Topsporter door gaan.\nWat heb jij een geweldig optreden verzorgd. Op iedere woning kon je inspelen\, improviseren en er een feest van maken.\nWe willen je nu ook al weer voor volgend jaar als zingende kerstman reserveren.\nWe hebben al heel veel leuke reacties gehad en worden er weer heel blij van. Je bent voor ons op Sovak een groot artiest en een TOPPER! \nHeel veel lieve groetjes van ons allemaal 🙂” \nMaak met liedjes contact en plezier!\nWilhelmus de Zingende KerstMan Kerstliedjesbingo \nMuzikale reis door de tijd en feest van herkenning met Hollandse liedjes van vroeger en nu!\nVeel ervaring\, plezier\, ruimte en geduld in de omgang met kwetsbare mensen met dementie\, alzheimer\, verstandelijk beperking\, lichamelijke beperking.
URL:https://www.de-oranje-man.nl/event/zingende-kerstman-ouderen-woonzorgcentrum-nieuw-overbos-heemstede-maandag-18-12-23/
CATEGORIES:zingende Sinterklaas ouderen
ATTACH;FMTTYPE=image/jpeg:https://www.de-oranje-man.nl/wp-content/uploads/2021/11/Zingende-Kerstman.jpg
END:VEVENT
BEGIN:VEVENT
DTSTART;TZID=Europe/Amsterdam:20230315T100000
DTEND;TZID=Europe/Amsterdam:20230315T120000
DTSTAMP:20260422T141827
CREATED:20230228T143941Z
LAST-MODIFIED:20230314T185934Z
UID:6928-1678874400-1678881600@www.de-oranje-man.nl
SUMMARY:Muziek Spel en Bewegen met kwetsbare Ouderen - Thema Reizen - bijeenkomst 5 - wo 15-3-23 Stichting Sint Jacob Nieuw Overbos Heemstede
DESCRIPTION:Cursus Muziek en beweging met ouderen – Post HBO opleiding Conservatorium Amsterdam\nInterdisciplinair kunstproject: Muziek\, spel en beweging met en voor (kwetsbare) ouderen.\nMuziek Spel en Bewegen met kwetsbare Ouderen – Thema Reizen – bijeenkomst 5 – wo 15-3-23 Stichting Sint Jacob Nieuw Overbos Heemstede \nDe cursus Muziek en beweging met ouderen richt zich op kunstbeleving met en voor (kwetsbare) ouderen in onder andere verzorgingstehuizen\, dagcentra en kleinschalige woongemeenschappen. Sociale verbinding staat hierbij centraal. Door het gezamenlijk muziek maken met behulp van verschillende instrumenten en materialen\, door zingen en bewegen in combinatie met diverse spelvormen\, worden de ouderen gestimuleerd vanuit hun eigen fysieke en mentale mogelijkheden actief te participeren. \nStage: Post HBO Cursus Conservatorium van Amsterdam Muziek & Bewegen met (kwetsbare) Ouderen – voorjaar 2023.\nAan deze cursus is een stage verbonden van februari t/m april 2023. Deze zal ik lopen bij Stichting Sint Jacob Woonzorgcentrum Nieuw Overbos in Haarlem/Heemstede. \nCursus duo Jessica van Noord & Wilhelmus Hoekstra verzorgt een interdisciplinair stageproject van 6 workshops bijeenkomsten van ca. 60-90 minuten\, verdeeld over 6 weken.\nUitgangspunt is dat er gewerkt wordt met kwetsbare ouderen. Gemengde groep met eventueel deelnemers met een lichte vorm van dementie.\nDe 6de bijeenkomst betreft een (mini) presentatie of openbare workshop met naar keuze publiek als mantelzorgers\, vrijwilligers uit de instelling\, bewoners van de instelling of uit de buurt. \nDit sociaal-artistieke-interdisciplinaire stageproject laat zien dat de cursist in staat is een muzisch product te realiseren waarbij gebruik gemaakt wordt gemaakt van meerdere invalshoeken als muziek\, dans/beweging en theatrale aspecten. Hierbij wordt aan zowel artistieke\, didactische als sociale competenties van de cursist als deelnemers geappelleerd. \nCursus\nMuziek maken wordt vaak in verband gebracht met de ontwikkeling van het brein bij jonge kinderen\, maar dit geldt zeker ook voor ouderen. Nieuwe stimulansen waarbij verschillende zintuigen worden geprikkeld\, gepaard gaande met beweging en veel plezier\, zijn voor (kwetsbare) ouderen zeer verrijkend. \nJe bent nooit te oud om te leren! In de cursus leer je hoe je tijdens de educatieve activiteiten ouderen zelf actief kunt laten zijn door het maken van keuzes\, zelf dingen bedenken en het meebeslissen tijdens de workshops. Als workshopleider leer je de ouderen te verleiden tot kunstzinnige activiteiten en actieve kunstbeleving. Ze kunnen veel meer dan ze zelf denken! \nVoor meer info: https://www.de-oranje-man.nl/wilhelmus/muziek-en-beweging-met-ouderen/
URL:https://www.de-oranje-man.nl/event/muziek-en-beweging-met-kwetsbare-ouderen-thema-reizen-bijeenkomst-5-wo-15-3-23-stichting-sint-jacob-nieuw-overbos-heemstede/
CATEGORIES:muziek beweging kwetsbare ouderen
ATTACH;FMTTYPE=image/jpeg:https://www.de-oranje-man.nl/wp-content/uploads/2023/02/Muziek-Beweging-Kwetsbare-ouderen-Sint-Jacob-Nieuw-Overbos-Heemstede-bijeenkomst-1-Wilhelmus-Hoekstra-.jpg
END:VEVENT
END:VCALENDAR