BEGIN:VCALENDAR
VERSION:2.0
PRODID:-//Wilhelmus de Oranje Man - ECPv6.15.19//NONSGML v1.0//EN
CALSCALE:GREGORIAN
METHOD:PUBLISH
X-ORIGINAL-URL:https://www.de-oranje-man.nl
X-WR-CALDESC:Evenementen voor Wilhelmus de Oranje Man
REFRESH-INTERVAL;VALUE=DURATION:PT1H
X-Robots-Tag:noindex
X-PUBLISHED-TTL:PT1H
BEGIN:VTIMEZONE
TZID:Europe/Amsterdam
BEGIN:DAYLIGHT
TZOFFSETFROM:+0100
TZOFFSETTO:+0200
TZNAME:CEST
DTSTART:20240331T010000
END:DAYLIGHT
BEGIN:STANDARD
TZOFFSETFROM:+0200
TZOFFSETTO:+0100
TZNAME:CET
DTSTART:20241027T010000
END:STANDARD
BEGIN:DAYLIGHT
TZOFFSETFROM:+0100
TZOFFSETTO:+0200
TZNAME:CEST
DTSTART:20250330T010000
END:DAYLIGHT
BEGIN:STANDARD
TZOFFSETFROM:+0200
TZOFFSETTO:+0100
TZNAME:CET
DTSTART:20251026T010000
END:STANDARD
BEGIN:DAYLIGHT
TZOFFSETFROM:+0100
TZOFFSETTO:+0200
TZNAME:CEST
DTSTART:20260329T010000
END:DAYLIGHT
BEGIN:STANDARD
TZOFFSETFROM:+0200
TZOFFSETTO:+0100
TZNAME:CET
DTSTART:20261025T010000
END:STANDARD
END:VTIMEZONE
BEGIN:VEVENT
DTSTART;TZID=Europe/Amsterdam:20250503T133000
DTEND;TZID=Europe/Amsterdam:20250503T153000
DTSTAMP:20260422T141847
CREATED:20241025T075034Z
LAST-MODIFIED:20241025T075034Z
UID:7826-1746279000-1746286200@www.de-oranje-man.nl
SUMMARY:Muziekbingo Ouderen Antoniushof - 80 jaar Vrijheid - 4 en 5 mei comite Montfoort
DESCRIPTION:Muziekbingo Ouderen door Gitarist Zanger Wilhelmus de Oranje Man met liedjes van vroeger en nu voor ca 80 senioren ouderen uit Montfoort ivm 80 jaar vrijheid 4 en 5 mei comite Montfoort.\nWilhelmus De Oranje Man LiedjesBINGO\nSamen genieten van muziek en spel. Zeer interactief en nu al jaren elke keer een daverend succes! \n \nAllemaal verschillende LiedjesBINGO kaarten met daarop de titels van veel Nederlandstalige nummers en een paar Engelstalige klassiekers.\nIk speel de liedjes en de mensen strepen ze af op de Bingo Kaarten.\nBij volle rij BINGO! en een prijsje. \nErg leuk en een heerlijke ontspannen manier om contact te maken. Omdat mensen samen met buurvrouw\, buurman of vrijwilliger dit kunnen spelen en er altijd gespreksstof is n.a.v. de nummers op de kaarten. \nIk kan het zelf in goede banen leiden. Dus als mensen nog bijna geen kruisje op de kaart hebben speel ik dan een nummer van hun kaart of als er een prijs uit moet speel ik het ontbrekende nummer.\nOok kunnen de mensen vanaf de kaart verzoeknummers aanvragen.\nZo wordt het een heerlijk interactief gebeuren \n“Dankjewel Wilhelmus De Oranje Man voor de mooie middag. Het blijft een feest om te zien hoe jij de bewoners met respect\, humor en enthousiasme meeneemt in het muzikale bingospel. Iedereen geniet! Zelfs na jouw vertrek zingen de bewoners nog de liedjes van de kaart. Echt geweldig!” februari 2020 Jacqueline Sturkenboom Beschermd wonen – Lieven de Key Utrecht \nDe Oranje Man LiedjesBINGO\n* Geschikt voor groepen van 15 tot 150/200 mensen.\n* Tijdsduur: 2 sets met korte pauze totaal ca. 90 minuten.\n* Elke kaart is verschillend\n* Eventuele verzoeknummers op maat toe te voegen\n* Thema van de dag of slogan van bedrijf als speciale editie op kaart mee te printen\n* Voor voldoende Oranje Man Bingo pennen wordt gezorgd\n* Ca. 13 Prijzen in overleg zelf of door de Oranje Man geregeld.
URL:https://www.de-oranje-man.nl/event/muziekbingo-ouderen-antoniushof-80-jaar-vrijheid-4-en-5-mei-comite-montfoort/
CATEGORIES:bevrijdingsfeest ouderen
ATTACH;FMTTYPE=image/jpeg:https://www.de-oranje-man.nl/wp-content/uploads/2024/02/muziekbingo-seniorenmiddag-zanger-senioren-ouderen-.jpg
END:VEVENT
BEGIN:VEVENT
DTSTART;TZID=Europe/Amsterdam:20250513T200000
DTEND;TZID=Europe/Amsterdam:20250513T220000
DTSTAMP:20260422T141847
CREATED:20250410T091555Z
LAST-MODIFIED:20250410T091555Z
UID:8089-1747166400-1747173600@www.de-oranje-man.nl
SUMMARY:Live Muziekbingo Optreden Buitenhof Reizen Hospitaalschip Prins Willem Alexander Lemmer Gitarist Zanger Wilhelmus de Oranje Man
DESCRIPTION:Live Muziekbingo Optreden Buitenhof Reizen Hospitaalschip Prins Willem Alexander Lemmer Gitarist Zanger Wilhelmus de Oranje Man\nWilhelmus De Oranje Man LiedjesBINGO\nSamen genieten van muziek en spel. Zeer interactief optreden en nu al jaren elke keer een daverend succes! \n \nAllemaal verschillende LiedjesBINGO kaarten met daarop de titels van veel Nederlandstalige nummers en een paar Engelstalige klassiekers.\nIk speel de liedjes en de mensen strepen ze af op de Bingo Kaarten.\nBij volle rij BINGO! en een prijsje. \nErg leuk en een heerlijke ontspannen manier om contact te maken. Omdat mensen samen met buurvrouw\, buurman of vrijwilliger dit kunnen spelen en er altijd gespreksstof is n.a.v. de nummers op de kaarten. \nIk kan het zelf in goede banen leiden. Dus als mensen nog bijna geen kruisje op de kaart hebben speel ik dan een nummer van hun kaart of als er een prijs uit moet speel ik het ontbrekende nummer.\nOok kunnen de mensen vanaf de kaart verzoeknummers aanvragen.\nZo wordt het een heerlijk interactief gebeuren \n“Dankjewel Wilhelmus De Oranje Man voor de mooie middag. Het blijft een feest om te zien hoe jij de bewoners met respect\, humor en enthousiasme meeneemt in het muzikale bingospel. Iedereen geniet! Zelfs na jouw vertrek zingen de bewoners nog de liedjes van de kaart. Echt geweldig!” februari 2020 Jacqueline Sturkenboom Beschermd wonen – Lieven de Key Utrecht \nDe Oranje Man LiedjesBINGO / Muziekbingo Live muziek voor senioren / ouderen\n* Geschikt voor groepen van 15 tot 150 mensen.\n* Tijdsduur: 2 sets met korte pauze totaal ca. 90 minuten.\n* Elke kaart is verschillend\n* Eventuele verzoeknummers op maat toe te voegen\n* Thema van de dag of slogan van bedrijf als speciale editie op kaart mee te printen\n* Voor voldoende Oranje Man Bingo pennen wordt gezorgd\n* Ca. 13 Prijzen in overleg zelf of door de Oranje Man geregeld.
URL:https://www.de-oranje-man.nl/event/live-muziekbingo-optreden-buitenhof-reizen-hospitaalschip-prins-willem-alexander-lemmer-gitarist-zanger-wilhelmus-de-oranje-man/
CATEGORIES:Hospitaalschip PWA Buitenhof Reizen Liedjesbingo
ATTACH;FMTTYPE=image/jpeg:https://www.de-oranje-man.nl/wp-content/uploads/2024/02/muziekbingo-seniorenmiddag-zanger-senioren-ouderen-.jpg
END:VEVENT
BEGIN:VEVENT
DTSTART;TZID=Europe/Amsterdam:20250520T140000
DTEND;TZID=Europe/Amsterdam:20250520T173000
DTSTAMP:20260422T141847
CREATED:20250212T131052Z
LAST-MODIFIED:20250523T100437Z
UID:8007-1747749600-1747762200@www.de-oranje-man.nl
SUMMARY:Vrijwilligersfeest Liedjesbingo Muziekbingo Senioren Alrijne Gitarist Zanger Wilhelmus de Oranje Man met liedjes van vroeger en nu
DESCRIPTION:Oranje Liedjesbingo Muziekbingo Vrijwilligersfeest Senioren Alrijne door Gitarist Zanger Wilhelmus de Oranje Man met liedjes van vroeger en nu voor ca 100 vrijwilligers van Alrijne.\nWilhelmus De Oranje Man LiedjesBINGO\nSamen genieten van muziek en spel. Zeer interactief en nu al jaren elke keer een daverend succes! \n \nAllemaal verschillende LiedjesBINGO kaarten met daarop de titels van veel Nederlandstalige nummers en een paar Engelstalige klassiekers.\nIk speel de liedjes en de mensen strepen ze af op de Bingo Kaarten.\nBij volle rij BINGO! en een prijsje. \nErg leuk en een heerlijke ontspannen manier om contact te maken. Omdat mensen samen met buurvrouw\, buurman of vrijwilliger dit kunnen spelen en er altijd gespreksstof is n.a.v. de nummers op de kaarten. \nIk kan het zelf in goede banen leiden. Dus als mensen nog bijna geen kruisje op de kaart hebben speel ik dan een nummer van hun kaart of als er een prijs uit moet speel ik het ontbrekende nummer.\nOok kunnen de mensen vanaf de kaart verzoeknummers aanvragen.\nZo wordt het een heerlijk interactief gebeuren \n“Dankjewel Wilhelmus De Oranje Man voor de mooie middag. Het blijft een feest om te zien hoe jij de bewoners met respect\, humor en enthousiasme meeneemt in het muzikale bingospel. Iedereen geniet! Zelfs na jouw vertrek zingen de bewoners nog de liedjes van de kaart. Echt geweldig!” februari 2020 Jacqueline Sturkenboom Beschermd wonen – Lieven de Key Utrecht \nDe Oranje Man LiedjesBINGO\n* Geschikt voor groepen van 15 tot 250 mensen.\n* Tijdsduur: 2 sets met korte pauze totaal ca. 90 minuten.\n* Elke kaart is verschillend\n* Eventuele verzoeknummers op maat toe te voegen\n* Thema van de dag of slogan van bedrijf als speciale editie op kaart mee te printen\n* Voor voldoende Oranje Man Bingo pennen wordt gezorgd\n* Ca. 20 Prijzen in overleg zelf of door de Oranje Man geregeld.
URL:https://www.de-oranje-man.nl/event/liedjesbingo-muziekbingo-vrijwilligersfeest-senioren-alrijne-gitarist-zanger-wilhelmus-de-oranje-man-met-liedjes-van-vroeger-en-nu/
CATEGORIES:vrijwilligersfeest muziekbingo liedjesbingo ouderenzorg
ATTACH;FMTTYPE=image/jpeg:https://www.de-oranje-man.nl/wp-content/uploads/2024/02/muziekbingo-seniorenmiddag-zanger-senioren-ouderen-.jpg
END:VEVENT
END:VCALENDAR