BEGIN:VCALENDAR
VERSION:2.0
PRODID:-//Wilhelmus de Oranje Man - ECPv6.15.19//NONSGML v1.0//EN
CALSCALE:GREGORIAN
METHOD:PUBLISH
X-ORIGINAL-URL:https://www.de-oranje-man.nl
X-WR-CALDESC:Evenementen voor Wilhelmus de Oranje Man
REFRESH-INTERVAL;VALUE=DURATION:PT1H
X-Robots-Tag:noindex
X-PUBLISHED-TTL:PT1H
BEGIN:VTIMEZONE
TZID:Europe/Amsterdam
BEGIN:DAYLIGHT
TZOFFSETFROM:+0100
TZOFFSETTO:+0200
TZNAME:CEST
DTSTART:20230326T010000
END:DAYLIGHT
BEGIN:STANDARD
TZOFFSETFROM:+0200
TZOFFSETTO:+0100
TZNAME:CET
DTSTART:20231029T010000
END:STANDARD
BEGIN:DAYLIGHT
TZOFFSETFROM:+0100
TZOFFSETTO:+0200
TZNAME:CEST
DTSTART:20240331T010000
END:DAYLIGHT
BEGIN:STANDARD
TZOFFSETFROM:+0200
TZOFFSETTO:+0100
TZNAME:CET
DTSTART:20241027T010000
END:STANDARD
BEGIN:DAYLIGHT
TZOFFSETFROM:+0100
TZOFFSETTO:+0200
TZNAME:CEST
DTSTART:20250330T010000
END:DAYLIGHT
BEGIN:STANDARD
TZOFFSETFROM:+0200
TZOFFSETTO:+0100
TZNAME:CET
DTSTART:20251026T010000
END:STANDARD
END:VTIMEZONE
BEGIN:VEVENT
DTSTART;VALUE=DATE:20241016
DTEND;VALUE=DATE:20241023
DTSTAMP:20260422T110428
CREATED:20240411T124319Z
LAST-MODIFIED:20240411T124319Z
UID:7633-1729036800-1729641599@www.de-oranje-man.nl
SUMMARY:Seniorenzanger Wilhelmus de Oranje Man / Zingende Sinterklaas / Zingende Kerstman speciaal met seniorenshow / ouderen entertainment en mensen met een beperking is op deze datum helaas niet beschikbaar
DESCRIPTION:Seniorenzanger Wilhelmus de Oranje Man / Zingende Sinterklaas / Zingende Kerstman speciaal met seniorenshow / ouderen entertainment en mensen met een beperking is op deze datum helaas niet beschikbaar vanwege reeds andere geplande activiteiten. Graag een andere keer tot ziens! Wilhelmus Hoekstra \nWilhelmus de Oranje Man – Zingende Sinterklaas – Zingende Kerstman\nSenioren Entertainment – Senioren Shows – Senioren Acts – Senioren Programma / Artiest Ouderen – Ouderen Entertainment – Ouderen Shows – Ouderen programma / Beperking Entertainment – Beperking Shows – Beperking Programma – Alzheimer Dementie HerinneringenConcert – Meezingconcert – Zorginstellingen Entertainment\nLiedjes van Vroeger en Nu – Liedjes van Toen en Nu – LiedjesBINGO – Verzoekliedjes a-la-carte – Meezingconcert Senioren Ouderen + tekstboek –  Sinterklaasliedjesbingo – Kerstliedjesbingo – CarnavalliedjesBingo – BuurtverenigingLiedjesBingo \nFoto: Jons Jeronimus Utrecht\nFiets: Santos Travelmaster 3+ Oranje
URL:https://www.de-oranje-man.nl/event/seniorenzanger-wilhelmus-de-oranje-man-zingende-sinterklaas-zingende-kerstman-speciaal-met-seniorenshow-ouderen-entertainment-en-mensen-met-een-beperking-is-op-deze-datum-helaas-niet-beschikbaar/
CATEGORIES:seniorenzanger muziek voor ouderen
ATTACH;FMTTYPE=image/jpeg:https://www.de-oranje-man.nl/wp-content/uploads/2023/09/Wilhelmus-de-Oranje-Man-Zanger-Ouderen-en-mensen-met-beperking.jpg
END:VEVENT
END:VCALENDAR