BEGIN:VCALENDAR
VERSION:2.0
PRODID:-//Wilhelmus de Oranje Man - ECPv6.15.19//NONSGML v1.0//EN
CALSCALE:GREGORIAN
METHOD:PUBLISH
X-ORIGINAL-URL:https://www.de-oranje-man.nl
X-WR-CALDESC:Evenementen voor Wilhelmus de Oranje Man
REFRESH-INTERVAL;VALUE=DURATION:PT1H
X-Robots-Tag:noindex
X-PUBLISHED-TTL:PT1H
BEGIN:VTIMEZONE
TZID:Europe/Amsterdam
BEGIN:DAYLIGHT
TZOFFSETFROM:+0100
TZOFFSETTO:+0200
TZNAME:CEST
DTSTART:20200329T010000
END:DAYLIGHT
BEGIN:STANDARD
TZOFFSETFROM:+0200
TZOFFSETTO:+0100
TZNAME:CET
DTSTART:20201025T010000
END:STANDARD
BEGIN:DAYLIGHT
TZOFFSETFROM:+0100
TZOFFSETTO:+0200
TZNAME:CEST
DTSTART:20210328T010000
END:DAYLIGHT
BEGIN:STANDARD
TZOFFSETFROM:+0200
TZOFFSETTO:+0100
TZNAME:CET
DTSTART:20211031T010000
END:STANDARD
BEGIN:DAYLIGHT
TZOFFSETFROM:+0100
TZOFFSETTO:+0200
TZNAME:CEST
DTSTART:20220327T010000
END:DAYLIGHT
BEGIN:STANDARD
TZOFFSETFROM:+0200
TZOFFSETTO:+0100
TZNAME:CET
DTSTART:20221030T010000
END:STANDARD
BEGIN:DAYLIGHT
TZOFFSETFROM:+0100
TZOFFSETTO:+0200
TZNAME:CEST
DTSTART:20230326T010000
END:DAYLIGHT
BEGIN:STANDARD
TZOFFSETFROM:+0200
TZOFFSETTO:+0100
TZNAME:CET
DTSTART:20231029T010000
END:STANDARD
BEGIN:DAYLIGHT
TZOFFSETFROM:+0100
TZOFFSETTO:+0200
TZNAME:CEST
DTSTART:20240331T010000
END:DAYLIGHT
BEGIN:STANDARD
TZOFFSETFROM:+0200
TZOFFSETTO:+0100
TZNAME:CET
DTSTART:20241027T010000
END:STANDARD
BEGIN:DAYLIGHT
TZOFFSETFROM:+0100
TZOFFSETTO:+0200
TZNAME:CEST
DTSTART:20250330T010000
END:DAYLIGHT
BEGIN:STANDARD
TZOFFSETFROM:+0200
TZOFFSETTO:+0100
TZNAME:CET
DTSTART:20251026T010000
END:STANDARD
BEGIN:DAYLIGHT
TZOFFSETFROM:+0100
TZOFFSETTO:+0200
TZNAME:CEST
DTSTART:20260329T010000
END:DAYLIGHT
BEGIN:STANDARD
TZOFFSETFROM:+0200
TZOFFSETTO:+0100
TZNAME:CET
DTSTART:20261025T010000
END:STANDARD
END:VTIMEZONE
BEGIN:VEVENT
DTSTART;TZID=Europe/Amsterdam:20250213T150000
DTEND;TZID=Europe/Amsterdam:20250213T163000
DTSTAMP:20260422T110439
CREATED:20250128T142352Z
LAST-MODIFIED:20250128T142352Z
UID:7995-1739458800-1739464200@www.de-oranje-man.nl
SUMMARY:Muziekmiddag Senioren Ouderen Hof van Jacob Sint Jacob Haarlem Samen zingen met Wilhelmus de Oranje Man
DESCRIPTION:Gezellige muzikale bijeenkomst met ouderen en senioren op Hof van jacob / Sint Jacob in Haarlem Liedjes van Toen & Nu door troubadour – liedjeszanger Wilhelmus De Oranje Man \nTijdens deze muzikale activiteit zal Troubadour Wilhelmus De Oranje Man weer zorgen voor contact en plezier door het zingen en spelen van de vele bekende liedjes afgestemd op het aanwezige publiek. \nMaak met liedjes contact en plezier!\nWilhelmus de Oranje Man \nMuzikale reis door de tijd en feest van herkenning met Hollandse liedjes van Toen en nu!\nVeel ervaring\, plezier\, ruimte en geduld in de omgang met mensen met dementie\, alzheimer\, verstandelijk beperking\, psychiatrische beperking\, lichamelijke beperking. \nLive muziek optredens voor senioren en ouderen – Gezellige seniorenmiddag voor ouderen – gezelligheid voor ouderen – entertainment senioren en ouderen – Zanger eenzame ouderen en senioren
URL:https://www.de-oranje-man.nl/event/muziekmiddag-senioren-ouderen-hof-van-jacob-sint-jacob-haarlem-samen-zingen-met-wilhelmus-de-oranje-man/
CATEGORIES:live muziek woonzorgcentrum ouderen,live muziekbingo zang gitaar ouderen
ATTACH;FMTTYPE=image/jpeg:https://www.de-oranje-man.nl/wp-content/uploads/2024/02/zanger-ouderen-dementie-beperking-.jpg
END:VEVENT
BEGIN:VEVENT
DTSTART;VALUE=DATE:20241016
DTEND;VALUE=DATE:20241023
DTSTAMP:20260422T110439
CREATED:20240411T124319Z
LAST-MODIFIED:20240411T124319Z
UID:7633-1729036800-1729641599@www.de-oranje-man.nl
SUMMARY:Seniorenzanger Wilhelmus de Oranje Man / Zingende Sinterklaas / Zingende Kerstman speciaal met seniorenshow / ouderen entertainment en mensen met een beperking is op deze datum helaas niet beschikbaar
DESCRIPTION:Seniorenzanger Wilhelmus de Oranje Man / Zingende Sinterklaas / Zingende Kerstman speciaal met seniorenshow / ouderen entertainment en mensen met een beperking is op deze datum helaas niet beschikbaar vanwege reeds andere geplande activiteiten. Graag een andere keer tot ziens! Wilhelmus Hoekstra \nWilhelmus de Oranje Man – Zingende Sinterklaas – Zingende Kerstman\nSenioren Entertainment – Senioren Shows – Senioren Acts – Senioren Programma / Artiest Ouderen – Ouderen Entertainment – Ouderen Shows – Ouderen programma / Beperking Entertainment – Beperking Shows – Beperking Programma – Alzheimer Dementie HerinneringenConcert – Meezingconcert – Zorginstellingen Entertainment\nLiedjes van Vroeger en Nu – Liedjes van Toen en Nu – LiedjesBINGO – Verzoekliedjes a-la-carte – Meezingconcert Senioren Ouderen + tekstboek –  Sinterklaasliedjesbingo – Kerstliedjesbingo – CarnavalliedjesBingo – BuurtverenigingLiedjesBingo \nFoto: Jons Jeronimus Utrecht\nFiets: Santos Travelmaster 3+ Oranje
URL:https://www.de-oranje-man.nl/event/seniorenzanger-wilhelmus-de-oranje-man-zingende-sinterklaas-zingende-kerstman-speciaal-met-seniorenshow-ouderen-entertainment-en-mensen-met-een-beperking-is-op-deze-datum-helaas-niet-beschikbaar/
CATEGORIES:seniorenzanger muziek voor ouderen
ATTACH;FMTTYPE=image/jpeg:https://www.de-oranje-man.nl/wp-content/uploads/2023/09/Wilhelmus-de-Oranje-Man-Zanger-Ouderen-en-mensen-met-beperking.jpg
END:VEVENT
BEGIN:VEVENT
DTSTART;TZID=Europe/Amsterdam:20240125T133000
DTEND;TZID=Europe/Amsterdam:20240125T150000
DTSTAMP:20260422T110439
CREATED:20231221T131232Z
LAST-MODIFIED:20231221T131232Z
UID:7284-1706189400-1706194800@www.de-oranje-man.nl
SUMMARY:Sint Jacob Woonzorgcentrum Nieuw Delftweide do 25-1-24 Wilhelmus de Oranje Man zanger Ouderen
DESCRIPTION:Liedjes van Toen & Nu door troubadour – liedjeszanger Wilhelmus De Oranje Man ivm muzikale middag ouderen \nTijdens deze muzikale activiteit zal Zanger Gitarist Wilhelmus de Oranje Man weer zorgen voor contact en plezier door het zingen en spelen van de vele bekende liedjes afgestemd op het aanwezige publiek. Hollandse meezingers en Engelstalige klassiekers. \nDoor middel van zijn unieke “mobiele versterker” volledig draadloos met zenders is Wilhelmus direct speelklaar zonder snoeren waar mensen over kunnen struikelen.\nOp deze manier kan hij in elke ruimte tuin/ binnentuin / straat toch licht versterkt optreden zodat zang en gitaar duidelijk overkomen maar niet te hard. \nMaak met liedjes contact en plezier!\nWilhelmus de Oranje Man \nMuzikale reis door de tijd en feest van herkenning met Hollandse liedjes van Toen en nu!\nVeel ervaring\, plezier\, ruimte en geduld in de omgang met mensen met dementie\, alzheimer\, verstandelijk beperking\, psychiatrische beperking\, lichamelijke beperking. \nLive muziek optredens voor senioren en ouderen – Gezellige middag voor ouderen – gezelligheid voor ouderen – entertainment senioren en ouderen – Zanger eenzame ouderen en senioren
URL:https://www.de-oranje-man.nl/event/sint-jacob-woonzorgcentrum-nieuw-delftweide-do-25-1-24-wilhelmus-de-oranje-man-zanger-ouderen/
CATEGORIES:zanger ouderen
ATTACH;FMTTYPE=image/jpeg:https://www.de-oranje-man.nl/wp-content/uploads/2023/09/Wilhelmus-de-Oranje-Man-Zanger-Ouderen-en-mensen-met-beperking.jpg
END:VEVENT
BEGIN:VEVENT
DTSTART;TZID=Europe/Amsterdam:20210518T141500
DTEND;TZID=Europe/Amsterdam:20210518T154500
DTSTAMP:20260422T110439
CREATED:20210323T154308Z
LAST-MODIFIED:20210323T154308Z
UID:5718-1621347300-1621352700@www.de-oranje-man.nl
SUMMARY:Woonzorgcentrum Bosbeek Zanger Wilhelmus de Oranje Man - Sint Jacob Heemstede di 18 mei 2021
DESCRIPTION:Gezellige middag voor ouderen Tuinoptreden Liedjes van Toen & Nu door troubadour – liedjeszanger Wilhelmus De Oranje Man \nOptredens omgezet naar mobiel buiten optreden binnentuin met speciale mobiele versterker en accu. \nDoor middel van zijn unieke “mobiele versterker” volledig draadloos met zenders is Wilhelmus direct speelklaar zonder snoeren waar mensen over kunnen struikelen.\nOp deze manier kan hij in elke tuin/ binnentuin / straat toch licht versterkt optreden zodat zang en gitaar duidelijk overkomen maar niet te hard. \nTijdens deze muzikale activiteit zal Troubadour Wilhelmus De Oranje Man weer zorgen voor contact en plezier door het zingen en spelen van de vele bekende liedjes afgestemd op het aanwezige publiek. \nMaak met liedjes contact en plezier!\nWilhelmus de Oranje Man \nMuzikale reis door de tijd en feest van herkenning met Hollandse liedjes van Toen en nu!\nVeel ervaring\, plezier\, ruimte en geduld in de omgang met mensen met dementie\, alzheimer\, verstandelijk beperking\, psychiatrische beperking\, lichamelijke beperking. \nLive muziek optredens voor senioren en ouderen – Gezellige middag voor ouderen – gezelligheid voor ouderen – entertainment senioren en ouderen – Zanger eenzame ouderen en senioren
URL:https://www.de-oranje-man.nl/event/woonzorgcentrum-bosbeek-zanger-wilhelmus-de-oranje-man-sint-jacob-heemstede-di-18-mei-2021/
CATEGORIES:woonzorgcentrum binnentuin muziek
ATTACH;FMTTYPE=image/jpeg:https://www.de-oranje-man.nl/wp-content/uploads/2020/05/Binnen-tuin-buiten-optreden-instelling-woonzorgcentrum-wilhelmus-de-oranje-man-02-1.jpg
END:VEVENT
END:VCALENDAR