BEGIN:VCALENDAR
VERSION:2.0
PRODID:-//Wilhelmus de Oranje Man - ECPv6.15.19//NONSGML v1.0//EN
CALSCALE:GREGORIAN
METHOD:PUBLISH
X-WR-CALNAME:Wilhelmus de Oranje Man
X-ORIGINAL-URL:https://www.de-oranje-man.nl
X-WR-CALDESC:Evenementen voor Wilhelmus de Oranje Man
REFRESH-INTERVAL;VALUE=DURATION:PT1H
X-Robots-Tag:noindex
X-PUBLISHED-TTL:PT1H
BEGIN:VTIMEZONE
TZID:Europe/Amsterdam
BEGIN:DAYLIGHT
TZOFFSETFROM:+0100
TZOFFSETTO:+0200
TZNAME:CEST
DTSTART:20220327T010000
END:DAYLIGHT
BEGIN:STANDARD
TZOFFSETFROM:+0200
TZOFFSETTO:+0100
TZNAME:CET
DTSTART:20221030T010000
END:STANDARD
BEGIN:DAYLIGHT
TZOFFSETFROM:+0100
TZOFFSETTO:+0200
TZNAME:CEST
DTSTART:20230326T010000
END:DAYLIGHT
BEGIN:STANDARD
TZOFFSETFROM:+0200
TZOFFSETTO:+0100
TZNAME:CET
DTSTART:20231029T010000
END:STANDARD
BEGIN:DAYLIGHT
TZOFFSETFROM:+0100
TZOFFSETTO:+0200
TZNAME:CEST
DTSTART:20240331T010000
END:DAYLIGHT
BEGIN:STANDARD
TZOFFSETFROM:+0200
TZOFFSETTO:+0100
TZNAME:CET
DTSTART:20241027T010000
END:STANDARD
END:VTIMEZONE
BEGIN:VEVENT
DTSTART;TZID=Europe/Amsterdam:20230415T100000
DTEND;TZID=Europe/Amsterdam:20230415T170000
DTSTAMP:20260425T004809
CREATED:20220913T092213Z
LAST-MODIFIED:20221212T175323Z
UID:6654-1681552800-1681578000@www.de-oranje-man.nl
SUMMARY:Cursus Muziek en beweging met ouderen - Post HBO opleiding Conservatorium Amsterdam - Wilhelmus de Oranje Man
DESCRIPTION:Cursus Muziek en beweging met ouderen – Post HBO opleiding Conservatorium Amsterdam – Wilhelmus de Oranje Man\nInterdisciplinair kunstproject: Muziek\, spel en beweging met en voor (kwetsbare) ouderen. \nAltijd ben ik bezig om me verder te ontwikkelen om te kijken hoe ik mijn optredens nog veelzijdiger\, beter en mooier kan maken. Daarom volg ik dit najaar 2022 deze cursus Muziek en beweging met Ouderen op het Conservatorium in Amsterdam. Ik verheug mij hier enorm op en ben heel benieuwd wat voor nieuwe inzichten mij dit zal opleveren. \nZie https://www.conservatoriumvanamsterdam.nl/studie/na-en-bijscholing/muziek-en-beweging-met-ouderen/ \nDe cursus Muziek en beweging met ouderen richt zich op kunstbeleving met en voor (kwetsbare) ouderen in onder andere verzorgingstehuizen\, dagcentra en kleinschalige woongemeenschappen. Sociale verbinding staat hierbij centraal. Door het gezamenlijk muziek maken met behulp van verschillende instrumenten en materialen\, door zingen en bewegen in combinatie met diverse spelvormen\, worden de ouderen gestimuleerd vanuit hun eigen fysieke en mentale mogelijkheden actief te participeren. \nMuziek maken wordt vaak in verband gebracht met de ontwikkeling van het brein bij jonge kinderen\, maar dit geldt zeker ook voor ouderen. Nieuwe stimulansen waarbij verschillende zintuigen worden geprikkeld\, gepaard gaande met beweging en veel plezier\, zijn voor (kwetsbare) ouderen zeer verrijkend. \nJe bent nooit te oud om te leren! In de cursus leer je hoe je tijdens de educatieve activiteiten ouderen zelf actief kunt laten zijn door het maken van keuzes\, zelf dingen bedenken en het meebeslissen tijdens de workshops. Als workshopleider leer je de ouderen te verleiden tot kunstzinnige activiteiten en actieve kunstbeleving. Ze kunnen veel meer dan ze zelf denken! \nLesprogramma\nDe cursisten ontwikkelen kennis en vaardigheden met betrekking tot het omgaan met de mogelijkheden en beperkingen van ouderen op het gebied van musiceren en bewegen. Hierbij is het belangrijk dat de cursisten zich kunnen verplaatsen in de belevingswereld van de ouderen.\nDeze kennis en vaardigheden worden met theorie ondersteund en in de praktijk toegepast.\nDe cursisten werken tijdens de stage toe naar een artistieke eindpresentatie met de doelgroep.\nDe cursisten leren zelfstandig een dergelijk project voor genoemde doelgroep te ontwerpen\, uit te voeren en te evalueren.\nDe cursisten kunnen werken aan hun persoonlijke leerdoelen gestimuleerd vanuit de intervisie.\nIndien hij/zij heeft voldaan aan de opdrachten\, ontvangt de cursist aan het eind van de opleiding het certificaat ‘Muziek en beweging met ouderen’ van het Conservatorium van Amsterdam
URL:https://www.de-oranje-man.nl/event/cursus-muziek-en-beweging-met-ouderen-post-hbo-opleiding-conservatorium-amsterdam-wilhelmus-de-oranje-man-2/
CATEGORIES:muziek beweging ouderen wilhelmus de oranje man
ATTACH;FMTTYPE=image/jpeg:https://www.de-oranje-man.nl/wp-content/uploads/2022/09/muziekmetouderen-wilhelmusdeoranjeman-conservatoriumamsterdam-scaled.jpeg
END:VEVENT
END:VCALENDAR