BEGIN:VCALENDAR
VERSION:2.0
PRODID:-//Wilhelmus de Oranje Man - ECPv6.15.19//NONSGML v1.0//EN
CALSCALE:GREGORIAN
METHOD:PUBLISH
X-ORIGINAL-URL:https://www.de-oranje-man.nl
X-WR-CALDESC:Evenementen voor Wilhelmus de Oranje Man
REFRESH-INTERVAL;VALUE=DURATION:PT1H
X-Robots-Tag:noindex
X-PUBLISHED-TTL:PT1H
BEGIN:VTIMEZONE
TZID:Europe/Amsterdam
BEGIN:DAYLIGHT
TZOFFSETFROM:+0100
TZOFFSETTO:+0200
TZNAME:CEST
DTSTART:20240331T010000
END:DAYLIGHT
BEGIN:STANDARD
TZOFFSETFROM:+0200
TZOFFSETTO:+0100
TZNAME:CET
DTSTART:20241027T010000
END:STANDARD
BEGIN:DAYLIGHT
TZOFFSETFROM:+0100
TZOFFSETTO:+0200
TZNAME:CEST
DTSTART:20250330T010000
END:DAYLIGHT
BEGIN:STANDARD
TZOFFSETFROM:+0200
TZOFFSETTO:+0100
TZNAME:CET
DTSTART:20251026T010000
END:STANDARD
BEGIN:DAYLIGHT
TZOFFSETFROM:+0100
TZOFFSETTO:+0200
TZNAME:CEST
DTSTART:20260329T010000
END:DAYLIGHT
BEGIN:STANDARD
TZOFFSETFROM:+0200
TZOFFSETTO:+0100
TZNAME:CET
DTSTART:20261025T010000
END:STANDARD
END:VTIMEZONE
BEGIN:VEVENT
DTSTART;TZID=Europe/Amsterdam:20250828T190000
DTEND;TZID=Europe/Amsterdam:20250828T203000
DTSTAMP:20260423T094250
CREATED:20250801T072335Z
LAST-MODIFIED:20250820T095638Z
UID:8209-1756407600-1756413000@www.de-oranje-man.nl
SUMMARY:Meezingcafe Woonzorgcentrum Liedjes van Vroeger Live Muziek avond Wilhelmus de Oranje Man Lieven de Key Utrecht
DESCRIPTION:Meezingcafe concert senioren ouderen en familie met tekstboek Verzorgingstehuis Lieven de Keij Utrecht\nGewoon lekker samen zingen met tekstboek! Alle bekende liedjes als: Laat me\, Blij dat ik je niet vergeten ben\, Het Dorp\, Malle Babbe\, Land van Maas en Waal\, Tulpen uit Amsterdam\, De kleine dingen die het doen\, Het is een nacht en Engelstalige klassiekers als Blue Suede Shoes en Country Roads.\nEen feest van herkenning en muzikale reis door de tijd met Wilhelmus de Oranje Man. \nVoor meer info zie: https://www.de-oranje-man.nl/troubadour/meezingconcert-senioren-ouderen-met-tekstboek/ \n \n \n \nOok geschikt als herinneringen concert voor mensen met alzheimer/dementie.\nAangezien ik veel optreed in verzorgingstehuizen en instellingen\, ben ik me zeer bewust van de onschatbare waarde van herinneringen. Ik begrijp hoe cruciaal het is om ze te koesteren\, vooral omdat het behouden van herinneringen niet vanzelfsprekend is. Tijdens het meezingconcert delen we samen de prachtigste muzikale herinneringen en creëren we nieuwe\, zodat ze beter in ons geheugen blijven bestaan. \nHeerlijk ongedwongen samen zingen. \nWelk liedje/nummer wil jij horen?\n\n\nKies uit de lijst van 62 nummers en laat het me weten.\nHier vind je de complete spotify afspeellijst van de liedjes van het meezing concert. \nKies uit 62 liedjes van vroeger en nu in 100 handzame mappen met alle liedteksten.\nNa een paar inzingers kiezen we met elkaar wat we verder die dag gaan zingen. \n100 Mooie handzame Oranje mappen (na afloop wel weer inleveren)\nAlle liedteksten duidelijk leesbaar met mooie grote letters 18 pts.\nAfgedrukt op mooi stevig 120 grams papier. \nMet bekenden\, vriendinnen/vrienden of gewoon jezelf.\nMet familie\, je moeder/vader\, je oma/opa\, je broer/zus.\nVoor seniorenmiddag ouderenmiddag\, koren\, oranjevereniging\, Thomashuis\, Alzheimer café of dorpsfeest.
URL:https://www.de-oranje-man.nl/event/woonzorgcentrum-liedjes-van-vroeger-live-muziek-avond-wilhelmus-de-oranje-man-lieven-de-key-utrecht/
CATEGORIES:beschermd wonen,beschermd wonen troubadour,meezing concert senioren met tekstboek,meezingcafe senioren ouderen,meezingconcert ouderen met tekstboek,meezingconcert senioren ouderen en familie
ATTACH;FMTTYPE=image/jpeg:https://www.de-oranje-man.nl/wp-content/uploads/2024/02/zanger-ouderen-dementie-beperking-.jpg
END:VEVENT
END:VCALENDAR