BEGIN:VCALENDAR
VERSION:2.0
PRODID:-//Wilhelmus de Oranje Man - ECPv6.15.19//NONSGML v1.0//EN
CALSCALE:GREGORIAN
METHOD:PUBLISH
X-ORIGINAL-URL:https://www.de-oranje-man.nl
X-WR-CALDESC:Evenementen voor Wilhelmus de Oranje Man
REFRESH-INTERVAL;VALUE=DURATION:PT1H
X-Robots-Tag:noindex
X-PUBLISHED-TTL:PT1H
BEGIN:VTIMEZONE
TZID:Europe/Amsterdam
BEGIN:DAYLIGHT
TZOFFSETFROM:+0100
TZOFFSETTO:+0200
TZNAME:CEST
DTSTART:20160327T010000
END:DAYLIGHT
BEGIN:STANDARD
TZOFFSETFROM:+0200
TZOFFSETTO:+0100
TZNAME:CET
DTSTART:20161030T010000
END:STANDARD
BEGIN:DAYLIGHT
TZOFFSETFROM:+0100
TZOFFSETTO:+0200
TZNAME:CEST
DTSTART:20170326T010000
END:DAYLIGHT
BEGIN:STANDARD
TZOFFSETFROM:+0200
TZOFFSETTO:+0100
TZNAME:CET
DTSTART:20171029T010000
END:STANDARD
BEGIN:DAYLIGHT
TZOFFSETFROM:+0100
TZOFFSETTO:+0200
TZNAME:CEST
DTSTART:20180325T010000
END:DAYLIGHT
BEGIN:STANDARD
TZOFFSETFROM:+0200
TZOFFSETTO:+0100
TZNAME:CET
DTSTART:20181028T010000
END:STANDARD
BEGIN:DAYLIGHT
TZOFFSETFROM:+0100
TZOFFSETTO:+0200
TZNAME:CEST
DTSTART:20190331T010000
END:DAYLIGHT
BEGIN:STANDARD
TZOFFSETFROM:+0200
TZOFFSETTO:+0100
TZNAME:CET
DTSTART:20191027T010000
END:STANDARD
BEGIN:DAYLIGHT
TZOFFSETFROM:+0100
TZOFFSETTO:+0200
TZNAME:CEST
DTSTART:20200329T010000
END:DAYLIGHT
BEGIN:STANDARD
TZOFFSETFROM:+0200
TZOFFSETTO:+0100
TZNAME:CET
DTSTART:20201025T010000
END:STANDARD
BEGIN:DAYLIGHT
TZOFFSETFROM:+0100
TZOFFSETTO:+0200
TZNAME:CEST
DTSTART:20210328T010000
END:DAYLIGHT
BEGIN:STANDARD
TZOFFSETFROM:+0200
TZOFFSETTO:+0100
TZNAME:CET
DTSTART:20211031T010000
END:STANDARD
BEGIN:DAYLIGHT
TZOFFSETFROM:+0100
TZOFFSETTO:+0200
TZNAME:CEST
DTSTART:20220327T010000
END:DAYLIGHT
BEGIN:STANDARD
TZOFFSETFROM:+0200
TZOFFSETTO:+0100
TZNAME:CET
DTSTART:20221030T010000
END:STANDARD
END:VTIMEZONE
BEGIN:VEVENT
DTSTART;TZID=Europe/Amsterdam:20210901T130000
DTEND;TZID=Europe/Amsterdam:20210901T170000
DTSTAMP:20260420T221338
CREATED:20210809T094217Z
LAST-MODIFIED:20210809T094217Z
UID:5854-1630501200-1630515600@www.de-oranje-man.nl
SUMMARY:Heeren Loo Jubileumfeest Wilhelmus de Oranje Man - wo 1 september 2021
DESCRIPTION:
URL:https://www.de-oranje-man.nl/event/heeren-loo-jubileumfeest-wilhelmus-de-oranje-man-wo-1-september-2021/
CATEGORIES:Jubileumfeest
ATTACH;FMTTYPE=image/jpeg:https://www.de-oranje-man.nl/wp-content/uploads/2020/05/Binnen-tuin-buiten-optreden-instelling-woonzorgcentrum-wilhelmus-de-oranje-man-03.jpg
END:VEVENT
BEGIN:VEVENT
DTSTART;TZID=Europe/Amsterdam:20191228T140000
DTEND;TZID=Europe/Amsterdam:20191228T160000
DTSTAMP:20260420T221338
CREATED:20191030T102724Z
LAST-MODIFIED:20191030T102724Z
UID:4719-1577541600-1577548800@www.de-oranje-man.nl
SUMMARY:Verjaardagsfeest Annie 90 Sovak Terheijden Ganzenpad Troubadour Wilhelmus De Oranje Man - za 28-12-19
DESCRIPTION:Bewoonster Annie wordt vandaag 90 en dat gaan we vieren!\nTijdens de muzikale middag zal Troubadour Wilhelmus De Oranje Man weer zorgen voor contact en plezier met de vele bekende liedjes. \nMaak met liedjes contact en plezier!\nWilhelmus de Oranje Man \nMuzikale reis door de tijd en feest van herkenning met Hollandse liedjes van Toen en nu!\nVeel ervaring\, plezier\, ruimte en geduld in de omgang met mensen met dementie\, alzheimer\, verstandelijk beperking\, lichamelijke beperking.
URL:https://www.de-oranje-man.nl/event/verjaardagsfeest-annie-90-sovak-terheijden-ganzenpad-troubadour-wilhelmus-de-oranje-man-za-28-12-19/
CATEGORIES:verjaardagsfeest 90
END:VEVENT
BEGIN:VEVENT
DTSTART;TZID=Europe/Amsterdam:20190916T103000
DTEND;TZID=Europe/Amsterdam:20190916T190000
DTSTAMP:20260420T221338
CREATED:20190904T095917Z
LAST-MODIFIED:20190904T095917Z
UID:4665-1568629800-1568660400@www.de-oranje-man.nl
SUMMARY:Muziek op Reis Vrienden van Zuidwester Wilhelmus De Oranje Man - 3 optredens  dagbesteding Middelharnis en Goes
DESCRIPTION:Muziek op Reis Vrienden van Zuidwester Wilhelmus De Oranje Man – 3 optredens dagbesteding Middelharnis en Goes \nLiedjes van Toen & Nu door troubadour – liedjeszanger Wilhelmus De Oranje Man \nSamen zingen kent geen beperking!\nTijdens deze muzikale activiteit zal Troubadour Wilhelmus De Oranje Man weer zorgen voor contact en plezier door het zingen en spelen van de vele bekende liedjes afgestemd op de bewoners\, cliënten\, personeel en familie. \nMaak met liedjes contact en plezier!\nWilhelmus de Oranje Man \nMuzikale reis door de tijd en feest van herkenning met Hollandse liedjes van Toen en nu!\nVeel ervaring\, plezier\, ruimte en geduld in de omgang met mensen met dementie\, alzheimer\, verstandelijk beperking\, psychiatrische beperking\, lichamelijke beperking.
URL:https://www.de-oranje-man.nl/event/muziek-op-reis-vrienden-van-zuidwester-wilhelmus-de-oranje-man-3-optredens-dagbesteding-middelharnis-en-goes/
CATEGORIES:Muziek op reis Dagbesteding
ATTACH;FMTTYPE=image/jpeg:https://www.de-oranje-man.nl/wp-content/uploads/2017/10/muziek-op-reis-vrienden-van-zuidwester-troubadour-wilhelmus-de-oranje-man.jpg
END:VEVENT
BEGIN:VEVENT
DTSTART;TZID=Europe/Amsterdam:20190816T133000
DTEND;TZID=Europe/Amsterdam:20190816T153000
DTSTAMP:20260420T221338
CREATED:20190513T151103Z
LAST-MODIFIED:20190513T151103Z
UID:4512-1565962200-1565969400@www.de-oranje-man.nl
SUMMARY:Afsluiting Zomerperiodefeest Sovak Terheijden - Wilhelmus De Oranje Man - vrijdag 16 augustus 2019
DESCRIPTION:Liedjes van Toen & Nu door troubadour – liedjeszanger Wilhelmus De Oranje Man \nSamen zingen kent geen beperking!\nTijdens deze muzikale activiteit zal Troubadour Wilhelmus De Oranje Man weer zorgen voor contact en plezier door het zingen en spelen van de vele bekende liedjes afgestemd op de bewoners\, cliënten\, personeel en familie. \nMaak met liedjes contact en plezier!\nWilhelmus de Oranje Man \nMuzikale reis door de tijd en feest van herkenning met Hollandse liedjes van Toen en nu!\nVeel ervaring\, plezier\, ruimte en geduld in de omgang met mensen met dementie\, alzheimer\, verstandelijk beperking\, psychiatrische beperking\, lichamelijke beperking.
URL:https://www.de-oranje-man.nl/event/afsluiting-zomerperiodefeest-sovak-terheijden-wilhelmus-de-oranje-man-vrijdag-16-augustus-2019/
CATEGORIES:zomerfeest beperking
ATTACH;FMTTYPE=image/png:https://www.de-oranje-man.nl/wp-content/uploads/2019/05/troubadour-wilhelmus-de-oranje-man-samen-zingen-kent-geen-beperking.png
END:VEVENT
BEGIN:VEVENT
DTSTART;TZID=Europe/Amsterdam:20190702T133000
DTEND;TZID=Europe/Amsterdam:20190702T150000
DTSTAMP:20260420T221338
CREATED:20190221T111847Z
LAST-MODIFIED:20190221T111847Z
UID:4279-1562074200-1562079600@www.de-oranje-man.nl
SUMMARY:Zorgboerderij Inner Art De Kwakel - Muziekmiddag Wilhelmus De Oranje Man di 2 juli 2019
DESCRIPTION:Liedjes van Toen & Nu door troubadour – liedjeszanger Wilhelmus De Oranje Man\nZorgboerderij Inner Art de Kwakel – zeer gemengde doelgroep – dementerend psychiatrie verslaving ouderen middelbare leeftijd en jongeren. \nTijdens deze muzikale activiteit zal Troubadour Wilhelmus De Oranje Man weer zorgen voor contact en plezier door het samen zingen en spelen van de vele bekende liedjes. \nMaak met liedjes contact en plezier!\nWilhelmus de Oranje Man \nMuzikale reis door de tijd en feest van herkenning met Hollandse liedjes van Toen en nu!\nVeel ervaring\, plezier\, ruimte en geduld in de omgang met mensen met dementie\, alzheimer\, psychiatrie\, verslaving\, verstandelijk beperking\, lichamelijke beperking.
URL:https://www.de-oranje-man.nl/event/zorgboerderij-inner-art-de-kwakel-muziekmiddag-wilhelmus-de-oranje-man-di-2-juli-2019/
CATEGORIES:zorgboerderij
END:VEVENT
BEGIN:VEVENT
DTSTART;TZID=Europe/Amsterdam:20190629T110000
DTEND;TZID=Europe/Amsterdam:20190629T130000
DTSTAMP:20260420T221338
CREATED:20190503T131318Z
LAST-MODIFIED:20190503T131318Z
UID:4488-1561806000-1561813200@www.de-oranje-man.nl
SUMMARY:zomerfeest Ipse de Bruggen 421-423 binnenplaats Liedjeszanger Wilhelmus De Oranje Man - za 29 juni 2019 Zwammerdam
DESCRIPTION:Liedjes van Toen & Nu door troubadour – liedjeszanger Wilhelmus De Oranje Man \nSamen zingen kent geen beperking!\nTijdens deze muzikale activiteit zal Troubadour Wilhelmus De Oranje Man weer zorgen voor contact en plezier door het zingen en spelen van de vele bekende liedjes afgestemd op de bewoners\, cliënten\, personeel en familie. \nMaak met liedjes contact en plezier!\nWilhelmus de Oranje Man \nMuzikale reis door de tijd en feest van herkenning met Hollandse liedjes van Toen en nu!\nVeel ervaring\, plezier\, ruimte en geduld in de omgang met mensen met dementie\, alzheimer\, verstandelijk beperking\, psychiatrische beperking\, lichamelijke beperking.
URL:https://www.de-oranje-man.nl/event/zomerfeest-ipse-de-bruggen-421-423-binnenplaats-liedjeszanger-wilhelmus-de-oranje-man-za-29-juni-2019-zwammerdam/
CATEGORIES:zomerfeest beperking
ATTACH;FMTTYPE=image/jpeg:https://www.de-oranje-man.nl/wp-content/uploads/2019/03/2019banner003_wilhelmus-hoekstra-de-oranje-man-liedjeszanger-presentator-cabaratier-liedjesbingo-samen-stralen-kent-geen-beperking.jpg
END:VEVENT
BEGIN:VEVENT
DTSTART;TZID=Europe/Amsterdam:20190623T130000
DTEND;TZID=Europe/Amsterdam:20190623T170000
DTSTAMP:20260420T221338
CREATED:20190506T071759Z
LAST-MODIFIED:20190506T071759Z
UID:4494-1561294800-1561309200@www.de-oranje-man.nl
SUMMARY:Zomerbraderie Sovak Terheyden - Wilhelmus De Oranje Man -  troubadour - zo 23 juni 2019
DESCRIPTION:Liedjes van Toen & Nu door troubadour – liedjeszanger Wilhelmus De Oranje Man \nSamen zingen kent geen beperking!\nTijdens deze muzikale activiteit zal Troubadour Wilhelmus De Oranje Man weer zorgen voor contact en plezier door het zingen en spelen van de vele bekende liedjes afgestemd op de bewoners\, cliënten\, personeel en familie. \nMaak met liedjes contact en plezier!\nWilhelmus de Oranje Man \nMuzikale reis door de tijd en feest van herkenning met Hollandse liedjes van Toen en nu!\nVeel ervaring\, plezier\, ruimte en geduld in de omgang met mensen met dementie\, alzheimer\, verstandelijk beperking\, psychiatrische beperking\, lichamelijke beperking.
URL:https://www.de-oranje-man.nl/event/zomerbraderie-sovak-terheyden-wilhelmus-de-oranje-man-troubadour-zo-23-juni-2019/
CATEGORIES:beperking
ATTACH;FMTTYPE=image/png:https://www.de-oranje-man.nl/wp-content/uploads/2019/05/troubadour-wilhelmus-de-oranje-man-samen-zingen-kent-geen-beperking.png
END:VEVENT
BEGIN:VEVENT
DTSTART;TZID=Europe/Amsterdam:20190607T133000
DTEND;TZID=Europe/Amsterdam:20190607T153000
DTSTAMP:20260420T221338
CREATED:20181120T130952Z
LAST-MODIFIED:20181120T130952Z
UID:4131-1559914200-1559921400@www.de-oranje-man.nl
SUMMARY:Samen zingen kent geen beperking - Troubadour Wilhelmus De Oranje Man Sovak - vr 7-6-19
DESCRIPTION:Liedjes van Toen & Nu door troubadour – liedjeszanger Wilhelmus De Oranje Man \nSamen zingen kent geen beperking!\nTijdens deze muzikale activiteit zal Troubadour Wilhelmus De Oranje Man weer zorgen voor contact en plezier door het zingen en spelen van de vele bekende liedjes afgestemd op de bewoners\, cliënten\, personeel en familie. \nMaak met liedjes contact en plezier!\nWilhelmus de Oranje Man \nMuzikale reis door de tijd en feest van herkenning met Hollandse liedjes van Toen en nu!\nVeel ervaring\, plezier\, ruimte en geduld in de omgang met mensen met dementie\, alzheimer\, verstandelijk beperking\, psychiatrische beperking\, lichamelijke beperking.
URL:https://www.de-oranje-man.nl/event/samen-zingen-kent-geen-beperking-troubadour-wilhelmus-de-oranje-man-sovak-vr-7-6-19/
ATTACH;FMTTYPE=image/png:https://www.de-oranje-man.nl/wp-content/uploads/2016/06/muziek-en-samen-zingen-kent-geen-beperking-De-Oranje-Man.png
END:VEVENT
BEGIN:VEVENT
DTSTART;TZID=Europe/Amsterdam:20190518T170000
DTEND;TZID=Europe/Amsterdam:20190518T190000
DTSTAMP:20260420T221338
CREATED:20190503T143558Z
LAST-MODIFIED:20190503T143558Z
UID:4490-1558198800-1558206000@www.de-oranje-man.nl
SUMMARY:De Hoge Weide Reinaerde - Samen zingen kent geen beperking - Wilhelmus De Oranje Man za 18 mei 2019
DESCRIPTION:Liedjes van Toen & Nu door troubadour – liedjeszanger Wilhelmus De Oranje Man \nSamen zingen kent geen beperking!\nTijdens deze muzikale activiteit zal Troubadour Wilhelmus De Oranje Man weer zorgen voor contact en plezier door het zingen en spelen van de vele bekende liedjes afgestemd op de bewoners\, cliënten\, personeel en familie. \nMaak met liedjes contact en plezier!\nWilhelmus de Oranje Man \nMuzikale reis door de tijd en feest van herkenning met Hollandse liedjes van Toen en nu!\nVeel ervaring\, plezier\, ruimte en geduld in de omgang met mensen met dementie\, alzheimer\, verstandelijk beperking\, psychiatrische beperking\, lichamelijke beperking.
URL:https://www.de-oranje-man.nl/event/de-hoge-weide-reinaerde-samen-zingen-kent-geen-beperking-wilhelmus-de-oranje-man-za-18-mei-2019/
CATEGORIES:beperking
ATTACH;FMTTYPE=image/png:https://www.de-oranje-man.nl/wp-content/uploads/2016/06/muziek-en-samen-zingen-kent-geen-beperking-De-Oranje-Man.png
END:VEVENT
BEGIN:VEVENT
DTSTART;TZID=Europe/Amsterdam:20190425T133000
DTEND;TZID=Europe/Amsterdam:20190425T153000
DTSTAMP:20260420T221338
CREATED:20181018T122521Z
LAST-MODIFIED:20181018T122521Z
UID:4042-1556199000-1556206200@www.de-oranje-man.nl
SUMMARY:Sovak Dagbesteding Troubadour Wilhelmus De Oranje Man do 25 april 2019
DESCRIPTION:Liedjes van Toen & Nu door troubadour – liedjeszanger Wilhelmus De Oranje Man \nTijdens deze muzikale activiteit zal Troubadour Wilhelmus De Oranje Man weer zorgen voor contact en plezier door het zingen en spelen van de vele bekende liedjes afgestemd op het aanwezige publiek. \nMaak met liedjes contact en plezier!\nWilhelmus de Oranje Man \nMuzikale reis door de tijd en feest van herkenning met Hollandse liedjes van Toen en nu!\nVeel ervaring\, plezier\, ruimte en geduld in de omgang met mensen met dementie\, alzheimer\, verstandelijk beperking\, psychiatrische beperking\, lichamelijke beperking.
URL:https://www.de-oranje-man.nl/event/sovak-dagbesteding-troubadour-wilhelmus-de-oranje-man-do-25-april-2019/
ATTACH;FMTTYPE=image/jpeg:https://www.de-oranje-man.nl/wp-content/uploads/2017/04/De-Oranje-Man-Prokkel-optreden.jpg
END:VEVENT
BEGIN:VEVENT
DTSTART;TZID=Europe/Amsterdam:20190405T193000
DTEND;TZID=Europe/Amsterdam:20190405T210000
DTSTAMP:20260420T221338
CREATED:20190313T140251Z
LAST-MODIFIED:20190313T140251Z
UID:4315-1554492600-1554498000@www.de-oranje-man.nl
SUMMARY:ASVZ woonvoorziening mensen verstandelijke beperking - Wilhelmus De Oranje Man liedjeszanger - Rotterdam vr 5 april 2019
DESCRIPTION:Liedjes van Toen & Nu door troubadour – liedjeszanger Wilhelmus De Oranje Man\nASVZ woonvoorziening mensen verstandelijke beperking – Wilhelmus De Oranje Man liedjeszanger – Rotterdam vr 5 april 2019 \nTijdens deze muzikale activiteit zal Troubadour Wilhelmus De Oranje Man weer zorgen voor contact en plezier door het zingen en spelen van de vele bekende liedjes afgestemd op het aanwezige publiek. \nMaak met liedjes contact en plezier!\nWilhelmus de Oranje Man \nMuzikale reis door de tijd en feest van herkenning met Hollandse liedjes van Toen en nu!\nVeel ervaring\, plezier\, ruimte en geduld in de omgang met mensen met dementie\, alzheimer\, verstandelijk beperking\, psychiatrische beperking\, lichamelijke beperking.
URL:https://www.de-oranje-man.nl/event/asvz-woonvoorziening-mensen-verstandelijke-beperking-wilhelmus-de-oranje-man-liedjeszanger-rotterdam-vr-5-april-2019/
CATEGORIES:woonvoorziening verstandelijke beperking
END:VEVENT
BEGIN:VEVENT
DTSTART;TZID=Europe/Amsterdam:20190215T153000
DTEND;TZID=Europe/Amsterdam:20190215T180000
DTSTAMP:20260420T221338
CREATED:20181001T074217Z
LAST-MODIFIED:20181001T074217Z
UID:3986-1550244600-1550253600@www.de-oranje-man.nl
SUMMARY:Nieuwjaarsreceptie Zozijn Wilp - Clienten familie en personeel - Troubadour Wilhelmus De Oranje Man
DESCRIPTION:Tijdens deze muzikale feestmiddag en nieuwjaarsreceptie voor cliënten familie en personeel zal Troubadour Wilhelmus De Oranje Man weer zorgen voor contact en plezier door het samen zingen en spelen van de vele bekende liedjes. \nMaak met liedjes contact en plezier!\nWilhelmus de Oranje Man \nMuzikale reis door de tijd en feest van herkenning met Hollandse liedjes van Toen en nu!\nVeel ervaring\, plezier\, ruimte en geduld in de omgang met kwetsbare mensen; met dementie\, alzheimer\, verstandelijke beperking\, psychiatrische beperking en lichamelijke beperking.
URL:https://www.de-oranje-man.nl/event/nieuwjaarsreceptie-zozijn-wilp-clienten-familie-en-personeel-troubadour-wilhelmus-de-oranje-man/
END:VEVENT
BEGIN:VEVENT
DTSTART;TZID=Europe/Amsterdam:20190112T133000
DTEND;TZID=Europe/Amsterdam:20190112T150000
DTSTAMP:20260420T221338
CREATED:20181112T141956Z
LAST-MODIFIED:20181112T141956Z
UID:4122-1547299800-1547305200@www.de-oranje-man.nl
SUMMARY:Nieuwjaarsparty Ipse De Bruggen Waddinxveen - Troubadour Beperking Wilhelmus De Oranje Man
DESCRIPTION:Liedjes van Toen & Nu door troubadour – liedjeszanger Wilhelmus De Oranje Man \nSamen zingen kent geen beperking!\nTijdens deze muzikale activiteit zal Troubadour Wilhelmus De Oranje Man weer zorgen voor contact en plezier door het zingen en spelen van de vele bekende liedjes afgestemd op de bewoners\, cliënten\, personeel en familie. \nMaak met liedjes contact en plezier!\nWilhelmus de Oranje Man \nMuzikale reis door de tijd en feest van herkenning met Hollandse liedjes van Toen en nu!\nVeel ervaring\, plezier\, ruimte en geduld in de omgang met mensen met dementie\, alzheimer\, verstandelijk beperking\, psychiatrische beperking\, lichamelijke beperking.
URL:https://www.de-oranje-man.nl/event/nieuwjaarsparty-ipse-de-bruggen-waddinxveen-troubadour-beperking-wilhelmus-de-oranje-man/
ATTACH;FMTTYPE=image/png:https://www.de-oranje-man.nl/wp-content/uploads/2016/06/muziek-en-samen-zingen-kent-geen-beperking-De-Oranje-Man.png
END:VEVENT
BEGIN:VEVENT
DTSTART;TZID=Europe/Amsterdam:20181205T140000
DTEND;TZID=Europe/Amsterdam:20181205T153000
DTSTAMP:20260420T221338
CREATED:20181122T114908Z
LAST-MODIFIED:20181122T114908Z
UID:4135-1544018400-1544023800@www.de-oranje-man.nl
SUMMARY:Sinterklaas Ipse de Bruggen - De Haven Clienten Personeel Troubadour Wilhelmus De Oranje Man - 5-12-18
DESCRIPTION:ens deze muzikale feestmiddag zullen Sinterklaas en Pieten samen met de cliënten en personeel en Troubadour Wilhelmus De Oranje Man weer zorgen voor contact en plezier door het samen zingen en spelen van de vele bekende Sinterklaasliedjes. \nMaak met liedjes contact en plezier!\nWilhelmus de Oranje Man \nMuzikale reis door de tijd en feest van herkenning met Hollandse liedjes van Toen en nu!\nVeel ervaring\, plezier\, ruimte en geduld in de omgang met mensen met dementie\, alzheimer\, verstandelijk beperking\, lichamelijke beperking.
URL:https://www.de-oranje-man.nl/event/sinterklaas-ipse-de-bruggen-de-haven-clienten-personeel-troubadour-wilhelmus-de-oranje-man-5-12-18/
ATTACH;FMTTYPE=image/jpeg:https://www.de-oranje-man.nl/wp-content/uploads/2018/01/Sinterklaas-Liedjes-Wilhelmus-De-Oranje-Man-e1516184881166.jpg
END:VEVENT
BEGIN:VEVENT
DTSTART;TZID=Europe/Amsterdam:20180829T113000
DTEND;TZID=Europe/Amsterdam:20180829T133000
DTSTAMP:20260420T221338
CREATED:20180608T074026Z
LAST-MODIFIED:20180608T074026Z
UID:3888-1535542200-1535549400@www.de-oranje-man.nl
SUMMARY:Stranddag Ik ben Zuidwester - Havana Beachclub - Troubadour Wilhelmus De Oranje Man wo 29-8-18
DESCRIPTION:Liedjes van Toen & Nu door troubadour – liedjeszanger Wilhelmus De Oranje Man \nTijdens deze muzikale activiteit zal Troubadour Wilhelmus De Oranje Man weer zorgen voor contact en plezier door het samen zingen en spelen van de vele bekende liedjes. \nMaak met liedjes contact en plezier!\nWilhelmus de Oranje Man \nMuzikale reis door de tijd en feest van herkenning met Hollandse liedjes van Toen en nu!\nVeel ervaring\, plezier\, ruimte en geduld in de omgang met mensen met dementie\, alzheimer\, verstandelijk beperking\, lichamelijke beperking.
URL:https://www.de-oranje-man.nl/event/stranddag-ik-ben-zuidwester-havana-beachclub-troubadour-wilhelmus-de-oranje-man-wo-29-8-18/
ATTACH;FMTTYPE=image/png:https://www.de-oranje-man.nl/wp-content/uploads/2014/05/wp_dom_021_ss_1370_470.png
END:VEVENT
BEGIN:VEVENT
DTSTART;TZID=Europe/Amsterdam:20180812T133000
DTEND;TZID=Europe/Amsterdam:20180812T163000
DTSTAMP:20260420T221338
CREATED:20180622T064331Z
LAST-MODIFIED:20180622T064331Z
UID:3900-1534080600-1534091400@www.de-oranje-man.nl
SUMMARY:Sovak Koningsveld Clienten Feestmiddag Troubadour Wilhelmus De Oranje Man zo 12 aug 2018
DESCRIPTION:Liedjes van Toen & Nu door troubadour – liedjeszanger Wilhelmus De Oranje Man \nFeestelijke muzikale middag bij Sovak Terheijden. Tijdens deze muzikale feestmiddag zal Troubadour Wilhelmus De Oranje Man weer zorgen voor contact en plezier door het samen zingen en spelen van de vele bekende liedjes. \nMaak met liedjes contact en plezier!\nWilhelmus de Oranje Man \nMuzikale reis door de tijd en feest van herkenning met Hollandse liedjes van Toen en nu!\nVeel ervaring\, plezier\, ruimte en geduld in de omgang met mensen met dementie\, alzheimer\, verstandelijk beperking\, lichamelijke beperking.
URL:https://www.de-oranje-man.nl/event/sovak-koningsveld-clienten-feestmiddag-troubadour-wilhelmus-de-oranje-man-zo-12-aug-2018/
END:VEVENT
BEGIN:VEVENT
DTSTART;TZID=Europe/Amsterdam:20180628T140000
DTEND;TZID=Europe/Amsterdam:20180628T163000
DTSTAMP:20260420T221338
CREATED:20180510T071751Z
LAST-MODIFIED:20180510T093008Z
UID:3842-1530194400-1530203400@www.de-oranje-man.nl
SUMMARY:Opening Nieuw Gebouw Sovak Terheijden - Kleurrijke Presentator Wilhelmus De Oranje Man 28 juni 2018
DESCRIPTION:Als Muzikale Presentator zal Wilhelmus De Oranje Man deze middag voor Clienten\, medewerkers\, familie en genodigden op kleurrijke wijze  presenteren\, sprekers en gasten inleiden en verder aan elkaar verbinden met een muzikale noot. \nFeestelijke muzikale middag bij de officiële opening van het nieuwe gebouw van Sovak . Tijdens deze muzikale feestmiddag zal Troubadour Wilhelmus De Oranje Man weer zorgen voor contact en plezier door het samen zingen en spelen van de vele bekende liedjes. \nMaak met liedjes contact en plezier!\nWilhelmus de Oranje Man \nMuzikale reis door de tijd en feest van herkenning met Hollandse liedjes van Toen en nu!\nVeel ervaring\, plezier\, ruimte en geduld in de omgang met mensen met dementie\, alzheimer\, verstandelijk beperking\, lichamelijke beperking. \nhttps://www.de-oranje-man.nl/troubadour/presentator/ \nAls presentator liedjeszanger en entertainer zorgt Wilhelmus De Oranje Man op kleurrijke en muzikale wijze voor de verbinding op uw evenement. Presenteren voor groepen van de meest uiteenlopende samenstellingen en dan de sfeer scheppen dat mensen zich vrij voelen en onbevangen meedoen. Met ruimte voor persoonlijk contact en mensen speciaal in het zonnetje te zetten. Met de bijzondere mogelijkheid van persoonlijk en/of gezamenlijk lied speciaal afgestemd op de situatie. Zeer geschikt als presentator senioren\, presentator ouderen\, presentator beperking\, presentator beurzen\, verwendagen\, jubilea\, families\, bijeenkomsten voor vrijwilligers\, mantelzorgers\, gemeenten\, De Zonnebloem\, verzorgingstehuizen en ik heb een grote voorliefde voor optredens voor en met mensen met een beperking. \nGraag help ik\, hoe bijzonder uw groep ook is\, om gezamenlijk eruit te halen wat er in zit zodat de mensen nog lang met veel plezier hierop terug zullen kijken. Door mijn levenservaring\, zowel persoonlijk\,sociaal als zakelijk ben ik gewend om te gaan met mensen op alle mogelijke niveaus. Ik weet hoe fijn het is om gezamenlijk iets moois te beleven. Inmiddels heb ik honderden optredens verzorgd\, heb oog voor mensen\, betrek ze erbij en laat ze waar mogelijk stralen. Ik heb een grote voorliefde voor optredens voor en met mensen met een beperking.
URL:https://www.de-oranje-man.nl/event/opening-nieuw-gebouw-sovak-terheijden-kleurrijke-presentator-wilhelmus-de-oranje-man-28-juni-2018/
ATTACH;FMTTYPE=image/jpeg:https://www.de-oranje-man.nl/wp-content/uploads/2017/04/Presentator-Wilhelmus-De-Oranje-Man-Voor-een-kleurrijke-muzikale-presentatie.jpg
END:VEVENT
BEGIN:VEVENT
DTSTART;TZID=Europe/Amsterdam:20180603T140000
DTEND;TZID=Europe/Amsterdam:20180603T160000
DTSTAMP:20260420T221338
CREATED:20180514T124933Z
LAST-MODIFIED:20180514T124933Z
UID:3855-1528034400-1528041600@www.de-oranje-man.nl
SUMMARY:Cordaan - Liedjeszanger Instelling Wilhelmus De Oranje Man zo 3 juni 2018
DESCRIPTION:Liedjes van Toen & Nu door troubadour – liedjeszanger Wilhelmus De Oranje Man \nFeestelijke muzikale middag bij Cordaan / Amsterdam. Tijdens deze muzikale feestmiddag zal Troubadour Wilhelmus De Oranje Man weer zorgen voor contact en plezier door het samen zingen en spelen van de vele bekende liedjes. \nMaak met liedjes contact en plezier!\nWilhelmus de Oranje Man \nMuzikale reis door de tijd en feest van herkenning met Hollandse liedjes van Toen en nu!\nVeel ervaring\, plezier\, ruimte en geduld in de omgang met mensen met dementie\, alzheimer\, verstandelijk beperking\, lichamelijke beperking.
URL:https://www.de-oranje-man.nl/event/cordaan-liedjeszanger-instelling-wilhelmus-de-oranje-man-zo-3-juni-2018/
ATTACH;FMTTYPE=image/jpeg:https://www.de-oranje-man.nl/wp-content/uploads/2017/03/De-Oranje-Man-006-Instellingen-Hollandse-Liedjes-van-Toen-en-Nu-Troubadour-Beperking-Meervoudig-Gehandicapten-Senioren-Ouderen-Zonnebloem-1.jpg
END:VEVENT
BEGIN:VEVENT
DTSTART;TZID=Europe/Amsterdam:20170916T173000
DTEND;TZID=Europe/Amsterdam:20170916T193000
DTSTAMP:20260420T221338
CREATED:20170704T072115Z
LAST-MODIFIED:20170704T072130Z
UID:3472-1505583000-1505590200@www.de-oranje-man.nl
SUMMARY:Sovak BBQ - Troubadour Wilhelmus De Oranje Man
DESCRIPTION:Feestelijke BBQ op de Zeggelaan 112\nSamen met cliënten\, gasten en familie een hele mooie muzikale reis door de tijd en feest van herkenning met liedjes van Toen en van nu! \nMaak met liedjes contact en plezier!\nWilhelmus de Oranje Man – Troubadour Utrecht \nMuzikale reis door de tijd en feest van herkenning met Hollandse liedjes van Toen en nu!\nVeel ervaring\, plezier\, ruimte en geduld in de omgang met mensen met dementie\, alzheimer\, verstandelijk beperking\, lichamelijke beperking.
URL:https://www.de-oranje-man.nl/event/sovak-bbq-troubadour-wilhelmus-oranje-man/
ATTACH;FMTTYPE=image/jpeg:https://www.de-oranje-man.nl/wp-content/uploads/2017/03/De-Oranje-Man-001-Muzikale-Reis-door-de-tIjd-Hollandse-Liedjes-van-Toen-en-Nu-Troubadour-Beperking-Meervoudig-Gehandicapten-Mantelzorgers-Vrijwilligers-Dementie-Senioren-Ouderen-Zonnebloem.jpg
END:VEVENT
END:VCALENDAR