BEGIN:VCALENDAR
VERSION:2.0
PRODID:-//Wilhelmus de Oranje Man - ECPv6.15.19//NONSGML v1.0//EN
CALSCALE:GREGORIAN
METHOD:PUBLISH
X-WR-CALNAME:Wilhelmus de Oranje Man
X-ORIGINAL-URL:https://www.de-oranje-man.nl
X-WR-CALDESC:Evenementen voor Wilhelmus de Oranje Man
REFRESH-INTERVAL;VALUE=DURATION:PT1H
X-Robots-Tag:noindex
X-PUBLISHED-TTL:PT1H
BEGIN:VTIMEZONE
TZID:Europe/Amsterdam
BEGIN:DAYLIGHT
TZOFFSETFROM:+0100
TZOFFSETTO:+0200
TZNAME:CEST
DTSTART:20160327T010000
END:DAYLIGHT
BEGIN:STANDARD
TZOFFSETFROM:+0200
TZOFFSETTO:+0100
TZNAME:CET
DTSTART:20161030T010000
END:STANDARD
BEGIN:DAYLIGHT
TZOFFSETFROM:+0100
TZOFFSETTO:+0200
TZNAME:CEST
DTSTART:20170326T010000
END:DAYLIGHT
BEGIN:STANDARD
TZOFFSETFROM:+0200
TZOFFSETTO:+0100
TZNAME:CET
DTSTART:20171029T010000
END:STANDARD
BEGIN:DAYLIGHT
TZOFFSETFROM:+0100
TZOFFSETTO:+0200
TZNAME:CEST
DTSTART:20180325T010000
END:DAYLIGHT
BEGIN:STANDARD
TZOFFSETFROM:+0200
TZOFFSETTO:+0100
TZNAME:CET
DTSTART:20181028T010000
END:STANDARD
END:VTIMEZONE
BEGIN:VEVENT
DTSTART;TZID=Europe/Amsterdam:20170414T143000
DTEND;TZID=Europe/Amsterdam:20170414T163000
DTSTAMP:20260423T163035
CREATED:20170309T135058Z
LAST-MODIFIED:20170309T135058Z
UID:3195-1492180200-1492187400@www.de-oranje-man.nl
SUMMARY:Prive Feest - Eloise 7 jaar - Barendrecht - Clown Snorre
DESCRIPTION:Prachtig verjaardagsfeest met de hele klas lekker thuis in mini theater setting. Clown Snorre verzorgt interactieve muzikale kindershow met liedjes acts & dansjes. Na afloop vraag je je nog steeds af waar die brandende spekjes nou vandaan komen! zie: http://www.clownsnorre.nl
URL:https://www.de-oranje-man.nl/event/prive-feest-eloise-7-jaar-barendrecht-clown-snorre/
END:VEVENT
END:VCALENDAR