BEGIN:VCALENDAR
VERSION:2.0
PRODID:-//Wilhelmus de Oranje Man - ECPv6.15.19//NONSGML v1.0//EN
CALSCALE:GREGORIAN
METHOD:PUBLISH
X-WR-CALNAME:Wilhelmus de Oranje Man
X-ORIGINAL-URL:https://www.de-oranje-man.nl
X-WR-CALDESC:Evenementen voor Wilhelmus de Oranje Man
REFRESH-INTERVAL;VALUE=DURATION:PT1H
X-Robots-Tag:noindex
X-PUBLISHED-TTL:PT1H
BEGIN:VTIMEZONE
TZID:Europe/Amsterdam
BEGIN:DAYLIGHT
TZOFFSETFROM:+0100
TZOFFSETTO:+0200
TZNAME:CEST
DTSTART:20160327T010000
END:DAYLIGHT
BEGIN:STANDARD
TZOFFSETFROM:+0200
TZOFFSETTO:+0100
TZNAME:CET
DTSTART:20161030T010000
END:STANDARD
BEGIN:DAYLIGHT
TZOFFSETFROM:+0100
TZOFFSETTO:+0200
TZNAME:CEST
DTSTART:20170326T010000
END:DAYLIGHT
BEGIN:STANDARD
TZOFFSETFROM:+0200
TZOFFSETTO:+0100
TZNAME:CET
DTSTART:20171029T010000
END:STANDARD
BEGIN:DAYLIGHT
TZOFFSETFROM:+0100
TZOFFSETTO:+0200
TZNAME:CEST
DTSTART:20180325T010000
END:DAYLIGHT
BEGIN:STANDARD
TZOFFSETFROM:+0200
TZOFFSETTO:+0100
TZNAME:CET
DTSTART:20181028T010000
END:STANDARD
END:VTIMEZONE
BEGIN:VEVENT
DTSTART;TZID=Europe/Amsterdam:20170518T183000
DTEND;TZID=Europe/Amsterdam:20170518T200000
DTSTAMP:20260423T165840
CREATED:20170405T121153Z
LAST-MODIFIED:20170405T121153Z
UID:3222-1495132200-1495137600@www.de-oranje-man.nl
SUMMARY:Muziekfeesten - Vrienden van Philadelphia - Wilhelmus De Oranje Man & Jurgen Jonkers - Amsterdam
DESCRIPTION:Muziekfeesten – Vrienden van Philadelphia – Wilhelmus De Oranje Man & Jurgen Jonkers – Amsterdam\nMuziek en samen zingen kent geen beperking! Thema “Muziekfeesten” voor en samen met ca. 150-200 cliënten en begeleiding. Liedjes afgestemd op aanwezig niveau.\nMuzikale reis door de tijd en feest van herkenning met liedjes van Toen & Nu!\nDaarna Jurgen Jonkers met Frans Bauer act! \nSamen gaan we er vast een prachtig feest van maken!\n3 x Feest in Doorwerth\, Amsterdam & Zwolle\nIedereen is bijzonder! Ik heb een grote voorliefde voor optredens voor en met mensen met een verstandelijke beperking!\nBezorg met liedjes een fijne dag!\nWilhelmus De Oranje Man https://www.de-oranje-man.nl
URL:https://www.de-oranje-man.nl/event/muziekfeesten-vrienden-philadelphia-wilhelmus-oranje-man-jurgen-jonkers-amsterdam/
LOCATION:Spinozalyceum\, Amsterdam
END:VEVENT
BEGIN:VEVENT
DTSTART;TZID=Europe/Amsterdam:20170513T143000
DTEND;TZID=Europe/Amsterdam:20170513T160000
DTSTAMP:20260423T165840
CREATED:20170405T120759Z
LAST-MODIFIED:20170405T120759Z
UID:3219-1494685800-1494691200@www.de-oranje-man.nl
SUMMARY:Muziekfeesten - Vrienden van Philadelphia - Wilhelmus De Oranje Man & Jurgen Jonkers - Doorwerth
DESCRIPTION:Muziekfeesten – Vrienden van Philadelphia – Wilhelmus De Oranje Man & Jurgen Jonkers – Doorwerth\nMuziek en samen zingen kent geen beperking! Thema “Muziekfeesten” voor en samen met ca. 150-200 cliënten en begeleiding. Liedjes afgestemd op aanwezig niveau.\nMuzikale reis door de tijd en feest van herkenning met liedjes van Toen & Nu!\nDaarna Jurgen Jonkers met Frans Bauer act! \nSamen gaan we er vast een prachtig feest van maken!\n3 x Feest in Doorwerth\, Amsterdam & Zwolle\nIedereen is bijzonder! Ik heb een grote voorliefde voor optredens voor en met mensen met een verstandelijke beperking!\nBezorg met liedjes een fijne dag!\nWilhelmus De Oranje Man https://www.de-oranje-man.nl
URL:https://www.de-oranje-man.nl/event/muziekfeesten-vrienden-philadelphia-wilhelmus-oranje-man-jurgen-jonkers-doorwerth/
LOCATION:Hotel Doorwerth\, Doorwerth
END:VEVENT
END:VCALENDAR