BEGIN:VCALENDAR
VERSION:2.0
PRODID:-//Wilhelmus de Oranje Man - ECPv6.15.19//NONSGML v1.0//EN
CALSCALE:GREGORIAN
METHOD:PUBLISH
X-WR-CALNAME:Wilhelmus de Oranje Man
X-ORIGINAL-URL:https://www.de-oranje-man.nl
X-WR-CALDESC:Evenementen voor Wilhelmus de Oranje Man
REFRESH-INTERVAL;VALUE=DURATION:PT1H
X-Robots-Tag:noindex
X-PUBLISHED-TTL:PT1H
BEGIN:VTIMEZONE
TZID:Europe/Amsterdam
BEGIN:DAYLIGHT
TZOFFSETFROM:+0100
TZOFFSETTO:+0200
TZNAME:CEST
DTSTART:20180325T010000
END:DAYLIGHT
BEGIN:STANDARD
TZOFFSETFROM:+0200
TZOFFSETTO:+0100
TZNAME:CET
DTSTART:20181028T010000
END:STANDARD
BEGIN:DAYLIGHT
TZOFFSETFROM:+0100
TZOFFSETTO:+0200
TZNAME:CEST
DTSTART:20190331T010000
END:DAYLIGHT
BEGIN:STANDARD
TZOFFSETFROM:+0200
TZOFFSETTO:+0100
TZNAME:CET
DTSTART:20191027T010000
END:STANDARD
BEGIN:DAYLIGHT
TZOFFSETFROM:+0100
TZOFFSETTO:+0200
TZNAME:CEST
DTSTART:20200329T010000
END:DAYLIGHT
BEGIN:STANDARD
TZOFFSETFROM:+0200
TZOFFSETTO:+0100
TZNAME:CET
DTSTART:20201025T010000
END:STANDARD
END:VTIMEZONE
BEGIN:VEVENT
DTSTART;TZID=Europe/Amsterdam:20191209T160000
DTEND;TZID=Europe/Amsterdam:20191209T210000
DTSTAMP:20260423T115015
CREATED:20191209T084105Z
LAST-MODIFIED:20191209T084354Z
UID:4754-1575907200-1575925200@www.de-oranje-man.nl
SUMMARY:Ouderen en Jongeren samen dineren en zingen Vonk Diner Madurodam Wilhelmus de Oranje Man maandag 9-12-2019
DESCRIPTION:Op 9 december is het Madurodam VONK-diner. Twee generaties komen samen om met elkaar te dineren\, te zingen én elkaar beter te leren kennen. Met als doel om eenzaamheid onder ouderen tegen te gaan. Want niemand hoort alleen te zijn rond de feestdagen! \nOuderen en jongeren samen dineren en zingen tijdens Vonk Diner in Madurodam\nWilhelmus De Oranje zal dit Kerstdiner muzikaal opluisteren met liedjes van Toen en Nu. \nZie voor meer info https://www.madurodam.nl/nl/vonk\nhttps://www.youtube.com/watch?v=DJKc1n-Kgrw\nhttps://verkeersbureaus.info/nieuws/2018/12/18/127049-vonk-springt-over-tussen-175-kinderen-en-ouderen-in-madurodam/
URL:https://www.de-oranje-man.nl/event/ouderen-en-jongeren-samen-dineren-en-zingen-vonk-diner-madurodam-wilhelmus-de-oranje-man-maandag-9-12-2019/
CATEGORIES:Vonk Kerstdiner Madurodam
ATTACH;FMTTYPE=image/jpeg:https://www.de-oranje-man.nl/wp-content/uploads/2019/02/Wilhelmus-De-Oranje-Man-Troubadour-Hollandse-liedjes-van-Toen-en-Nu-02.jpg
END:VEVENT
END:VCALENDAR