BEGIN:VCALENDAR
VERSION:2.0
PRODID:-//Wilhelmus de Oranje Man - ECPv6.15.19//NONSGML v1.0//EN
CALSCALE:GREGORIAN
METHOD:PUBLISH
X-WR-CALNAME:Wilhelmus de Oranje Man
X-ORIGINAL-URL:https://www.de-oranje-man.nl
X-WR-CALDESC:Evenementen voor Wilhelmus de Oranje Man
REFRESH-INTERVAL;VALUE=DURATION:PT1H
X-Robots-Tag:noindex
X-PUBLISHED-TTL:PT1H
BEGIN:VTIMEZONE
TZID:Europe/Amsterdam
BEGIN:DAYLIGHT
TZOFFSETFROM:+0100
TZOFFSETTO:+0200
TZNAME:CEST
DTSTART:20160327T010000
END:DAYLIGHT
BEGIN:STANDARD
TZOFFSETFROM:+0200
TZOFFSETTO:+0100
TZNAME:CET
DTSTART:20161030T010000
END:STANDARD
BEGIN:DAYLIGHT
TZOFFSETFROM:+0100
TZOFFSETTO:+0200
TZNAME:CEST
DTSTART:20170326T010000
END:DAYLIGHT
BEGIN:STANDARD
TZOFFSETFROM:+0200
TZOFFSETTO:+0100
TZNAME:CET
DTSTART:20171029T010000
END:STANDARD
BEGIN:DAYLIGHT
TZOFFSETFROM:+0100
TZOFFSETTO:+0200
TZNAME:CEST
DTSTART:20180325T010000
END:DAYLIGHT
BEGIN:STANDARD
TZOFFSETFROM:+0200
TZOFFSETTO:+0100
TZNAME:CET
DTSTART:20181028T010000
END:STANDARD
BEGIN:DAYLIGHT
TZOFFSETFROM:+0100
TZOFFSETTO:+0200
TZNAME:CEST
DTSTART:20190331T010000
END:DAYLIGHT
BEGIN:STANDARD
TZOFFSETFROM:+0200
TZOFFSETTO:+0100
TZNAME:CET
DTSTART:20191027T010000
END:STANDARD
BEGIN:DAYLIGHT
TZOFFSETFROM:+0100
TZOFFSETTO:+0200
TZNAME:CEST
DTSTART:20200329T010000
END:DAYLIGHT
BEGIN:STANDARD
TZOFFSETFROM:+0200
TZOFFSETTO:+0100
TZNAME:CET
DTSTART:20201025T010000
END:STANDARD
BEGIN:DAYLIGHT
TZOFFSETFROM:+0100
TZOFFSETTO:+0200
TZNAME:CEST
DTSTART:20210328T010000
END:DAYLIGHT
BEGIN:STANDARD
TZOFFSETFROM:+0200
TZOFFSETTO:+0100
TZNAME:CET
DTSTART:20211031T010000
END:STANDARD
END:VTIMEZONE
BEGIN:VEVENT
DTSTART;TZID=Europe/Amsterdam:20201217T130000
DTEND;TZID=Europe/Amsterdam:20201217T150000
DTSTAMP:20260421T070644
CREATED:20201208T171001Z
LAST-MODIFIED:20201223T160239Z
UID:5632-1608210000-1608217200@www.de-oranje-man.nl
SUMMARY:Dagbesteding Zuidwester Wilhelmus de Zingende Muzikale Kerstman - Hellevoetsluis 17-12-20
DESCRIPTION:Wilhelmus de zingende Kerstman\nPrettige feestdagen en een gelukkig nieuwjaar! I’m dreaming of a white Christmas & Jingle Bells\nPas goed op jezelf en de mensen om je heen en alle goeds voor 2021!\n\n\n\nDe Zingende Kerstman\nTijdens de muzikale middag zal Troubadour Zanger Wilhelmus De Oranje Man weer zorgen voor contact en plezier met de vele bekende liedjes.\nVandaag helemaal speciaal als Wilhelmus de Zingende Kerstman trekt hij buiten al zingend langs de diverse woningen en de cliënten van de groepen dagbesteding en te begeleiden met heerlijke Kerstliedjes \nMaak met liedjes contact en plezier!\nWilhelmus de Oranje Man \nMuzikale reis door de tijd en feest van herkenning met Hollandse liedjes van vroeger en nu!\nVeel ervaring\, plezier\, ruimte en geduld in de omgang met kwetsbare mensen met dementie\, alzheimer\, verstandelijk beperking\, lichamelijke beperking.
URL:https://www.de-oranje-man.nl/event/dagbesteding-zuidwester-wilhelmus-de-zingende-muzikale-kerstman-hellevoetsluis-17-12-20/
CATEGORIES:De zingende kerstman dagbesteding beperking
ATTACH;FMTTYPE=image/jpeg:https://www.de-oranje-man.nl/wp-content/uploads/2020/12/Wilhelmus-de-zingende-kerstman-Muzikale-Kerstman-Instelling-Beperking-Ouderen-Zorgcentra-dementie.jpg
END:VEVENT
BEGIN:VEVENT
DTSTART;TZID=Europe/Amsterdam:20190718T100000
DTEND;TZID=Europe/Amsterdam:20190718T150000
DTSTAMP:20260421T070644
CREATED:20190503T092519Z
LAST-MODIFIED:20190503T092519Z
UID:4482-1563444000-1563462000@www.de-oranje-man.nl
SUMMARY:Stranddag Ik ben Zuidwester - Samen zingen kent geen beperking - Wilhelmus De Oranje Man - do 18 juli 2019
DESCRIPTION:Liedjes van Toen & Nu door troubadour – liedjeszanger Wilhelmus De Oranje Man \nSamen zingen kent geen beperking!\nTijdens deze muzikale activiteit zal Troubadour Wilhelmus De Oranje Man weer zorgen voor contact en plezier door het zingen en spelen van de vele bekende liedjes afgestemd op de bewoners\, cliënten\, personeel en familie. \nMaak met liedjes contact en plezier!\nWilhelmus de Oranje Man \nMuzikale reis door de tijd en feest van herkenning met Hollandse liedjes van Toen en nu!\nVeel ervaring\, plezier\, ruimte en geduld in de omgang met mensen met dementie\, alzheimer\, verstandelijk beperking\, psychiatrische beperking\, lichamelijke beperking.
URL:https://www.de-oranje-man.nl/event/stranddag-ik-ben-zuidwester-samen-zingen-kent-geen-beperking-wilhelmus-de-oranje-man-do-18-juli-2019/
CATEGORIES:dagbesteding beperking
ATTACH;FMTTYPE=image/png:https://www.de-oranje-man.nl/wp-content/uploads/2016/06/muziek-en-samen-zingen-kent-geen-beperking-De-Oranje-Man.png
END:VEVENT
BEGIN:VEVENT
DTSTART;TZID=Europe/Amsterdam:20190424T140000
DTEND;TZID=Europe/Amsterdam:20190424T160000
DTSTAMP:20260421T070644
CREATED:20181204T083722Z
LAST-MODIFIED:20181204T083722Z
UID:4138-1556114400-1556121600@www.de-oranje-man.nl
SUMMARY:Samen zingen kent geen beperking! Wilhelmus De Oranje Man - wo 24-4-19 Middelharnis Ik ben Zuidwester
DESCRIPTION:Liedjes van Toen & Nu door troubadour – liedjeszanger Wilhelmus De Oranje Man \nSamen zingen kent geen beperking!\nTijdens deze muzikale activiteit zal Troubadour Wilhelmus De Oranje Man weer zorgen voor contact en plezier door het zingen en spelen van de vele bekende liedjes afgestemd op de bewoners\, cliënten\, personeel en familie. \nMaak met liedjes contact en plezier!\nWilhelmus de Oranje Man \nMuzikale reis door de tijd en feest van herkenning met Hollandse liedjes van Toen en nu!\nVeel ervaring\, plezier\, ruimte en geduld in de omgang met mensen met dementie\, alzheimer\, verstandelijk beperking\, psychiatrische beperking\, lichamelijke beperking.
URL:https://www.de-oranje-man.nl/event/samen-zingen-kent-geen-beperking-wilhelmus-de-oranje-man-wo-24-4-19-middelharnis-ik-ben-zuidwester/
ATTACH;FMTTYPE=image/png:https://www.de-oranje-man.nl/wp-content/uploads/2016/06/muziek-en-samen-zingen-kent-geen-beperking-De-Oranje-Man.png
END:VEVENT
BEGIN:VEVENT
DTSTART;TZID=Europe/Amsterdam:20180920T143000
DTEND;TZID=Europe/Amsterdam:20180920T193000
DTSTAMP:20260421T070644
CREATED:20180703T065725Z
LAST-MODIFIED:20180703T065725Z
UID:3913-1537453800-1537471800@www.de-oranje-man.nl
SUMMARY:Muziek op Reis - Vrienden Ik ben Zuidwester - Hellevoetsluis & Middelharnis 20 september 2018 Troubadour Wilhelmus De Oranje Man
DESCRIPTION:Liedjes van Toen & Nu door troubadour – liedjeszanger Wilhelmus De Oranje Man \nFeestelijke muzikale dag in kader van Muziek op Reis. Tijdens deze muzikale feestmiddag zal Troubadour Wilhelmus De Oranje Man weer zorgen voor contact en plezier door het samen zingen en spelen van de vele bekende liedjes. \nMaak met liedjes contact en plezier!\nWilhelmus de Oranje Man \nMuzikale reis door de tijd en feest van herkenning met Hollandse liedjes van Toen en nu!\nVeel ervaring\, plezier\, ruimte en geduld in de omgang met mensen met dementie\, alzheimer\, verstandelijk beperking\, lichamelijke beperking.
URL:https://www.de-oranje-man.nl/event/muziek-op-reis-vrienden-ik-ben-zuidwester-hellevoetsluis-middelharnis-20-september-2018-troubadour-wilhelmus-de-oranje-man/
ATTACH;FMTTYPE=image/jpeg:https://www.de-oranje-man.nl/wp-content/uploads/2017/10/muziek-op-reis-vrienden-van-zuidwester-troubadour-wilhelmus-de-oranje-man.jpg
END:VEVENT
BEGIN:VEVENT
DTSTART;TZID=Europe/Amsterdam:20180829T113000
DTEND;TZID=Europe/Amsterdam:20180829T133000
DTSTAMP:20260421T070644
CREATED:20180608T074026Z
LAST-MODIFIED:20180608T074026Z
UID:3888-1535542200-1535549400@www.de-oranje-man.nl
SUMMARY:Stranddag Ik ben Zuidwester - Havana Beachclub - Troubadour Wilhelmus De Oranje Man wo 29-8-18
DESCRIPTION:Liedjes van Toen & Nu door troubadour – liedjeszanger Wilhelmus De Oranje Man \nTijdens deze muzikale activiteit zal Troubadour Wilhelmus De Oranje Man weer zorgen voor contact en plezier door het samen zingen en spelen van de vele bekende liedjes. \nMaak met liedjes contact en plezier!\nWilhelmus de Oranje Man \nMuzikale reis door de tijd en feest van herkenning met Hollandse liedjes van Toen en nu!\nVeel ervaring\, plezier\, ruimte en geduld in de omgang met mensen met dementie\, alzheimer\, verstandelijk beperking\, lichamelijke beperking.
URL:https://www.de-oranje-man.nl/event/stranddag-ik-ben-zuidwester-havana-beachclub-troubadour-wilhelmus-de-oranje-man-wo-29-8-18/
ATTACH;FMTTYPE=image/png:https://www.de-oranje-man.nl/wp-content/uploads/2014/05/wp_dom_021_ss_1370_470.png
END:VEVENT
BEGIN:VEVENT
DTSTART;TZID=Europe/Amsterdam:20171105T103000
DTEND;TZID=Europe/Amsterdam:20171105T160000
DTSTAMP:20260421T070644
CREATED:20171009T124344Z
LAST-MODIFIED:20171009T125004Z
UID:3552-1509877800-1509897600@www.de-oranje-man.nl
SUMMARY:Muziek op Reis - Vrienden van Zuidwester Middelharnis Troubadour Wilhelmus de Oranje Man
DESCRIPTION:Muziek op Reis – Vrienden van Zuidwester\nSamen met cliënten\, gasten en familie een hele mooie muzikale reis door de tijd en feest van herkenning met liedjes van Toen en van nu! \nZondag 5 november om 10.30-11:45/12:00 uur\nWoning Westerschelde 7 te Middelharnis:  \nZondag 5 november om 13.00-14:15/14:30 uur\nwoning Haringvliet 19 te Middelharnis :  \nZondag 5 november om 14.45-16:00 uur\nWoning Dijk 36 te Middelharnis:  \nMaak met liedjes contact en plezier!\nWilhelmus de Oranje Man – Troubadour Utrecht \nMuzikale reis door de tijd en feest van herkenning met Hollandse liedjes van Toen en nu!\nVeel ervaring\, plezier\, ruimte en geduld in de omgang met mensen met dementie\, alzheimer\, verstandelijk beperking\, lichamelijke beperking.
URL:https://www.de-oranje-man.nl/event/muziek-op-reis-vrienden-zuidwester-middelharnis-troubadour-wilhelmus-oranje-man/
ATTACH;FMTTYPE=image/jpeg:https://www.de-oranje-man.nl/wp-content/uploads/2017/10/muziek-op-reis-vrienden-van-zuidwester-troubadour-wilhelmus-de-oranje-man.jpg
END:VEVENT
END:VCALENDAR