BEGIN:VCALENDAR
VERSION:2.0
PRODID:-//Wilhelmus de Oranje Man - ECPv6.15.19//NONSGML v1.0//EN
CALSCALE:GREGORIAN
METHOD:PUBLISH
X-ORIGINAL-URL:https://www.de-oranje-man.nl
X-WR-CALDESC:Evenementen voor Wilhelmus de Oranje Man
REFRESH-INTERVAL;VALUE=DURATION:PT1H
X-Robots-Tag:noindex
X-PUBLISHED-TTL:PT1H
BEGIN:VTIMEZONE
TZID:Europe/Amsterdam
BEGIN:DAYLIGHT
TZOFFSETFROM:+0100
TZOFFSETTO:+0200
TZNAME:CEST
DTSTART:20170326T010000
END:DAYLIGHT
BEGIN:STANDARD
TZOFFSETFROM:+0200
TZOFFSETTO:+0100
TZNAME:CET
DTSTART:20171029T010000
END:STANDARD
BEGIN:DAYLIGHT
TZOFFSETFROM:+0100
TZOFFSETTO:+0200
TZNAME:CEST
DTSTART:20180325T010000
END:DAYLIGHT
BEGIN:STANDARD
TZOFFSETFROM:+0200
TZOFFSETTO:+0100
TZNAME:CET
DTSTART:20181028T010000
END:STANDARD
BEGIN:DAYLIGHT
TZOFFSETFROM:+0100
TZOFFSETTO:+0200
TZNAME:CEST
DTSTART:20190331T010000
END:DAYLIGHT
BEGIN:STANDARD
TZOFFSETFROM:+0200
TZOFFSETTO:+0100
TZNAME:CET
DTSTART:20191027T010000
END:STANDARD
BEGIN:DAYLIGHT
TZOFFSETFROM:+0100
TZOFFSETTO:+0200
TZNAME:CEST
DTSTART:20200329T010000
END:DAYLIGHT
BEGIN:STANDARD
TZOFFSETFROM:+0200
TZOFFSETTO:+0100
TZNAME:CET
DTSTART:20201025T010000
END:STANDARD
BEGIN:DAYLIGHT
TZOFFSETFROM:+0100
TZOFFSETTO:+0200
TZNAME:CEST
DTSTART:20210328T010000
END:DAYLIGHT
BEGIN:STANDARD
TZOFFSETFROM:+0200
TZOFFSETTO:+0100
TZNAME:CET
DTSTART:20211031T010000
END:STANDARD
BEGIN:DAYLIGHT
TZOFFSETFROM:+0100
TZOFFSETTO:+0200
TZNAME:CEST
DTSTART:20220327T010000
END:DAYLIGHT
BEGIN:STANDARD
TZOFFSETFROM:+0200
TZOFFSETTO:+0100
TZNAME:CET
DTSTART:20221030T010000
END:STANDARD
BEGIN:DAYLIGHT
TZOFFSETFROM:+0100
TZOFFSETTO:+0200
TZNAME:CEST
DTSTART:20230326T010000
END:DAYLIGHT
BEGIN:STANDARD
TZOFFSETFROM:+0200
TZOFFSETTO:+0100
TZNAME:CET
DTSTART:20231029T010000
END:STANDARD
BEGIN:DAYLIGHT
TZOFFSETFROM:+0100
TZOFFSETTO:+0200
TZNAME:CEST
DTSTART:20240331T010000
END:DAYLIGHT
BEGIN:STANDARD
TZOFFSETFROM:+0200
TZOFFSETTO:+0100
TZNAME:CET
DTSTART:20241027T010000
END:STANDARD
END:VTIMEZONE
BEGIN:VEVENT
DTSTART;TZID=Europe/Amsterdam:20230429T140000
DTEND;TZID=Europe/Amsterdam:20230429T150000
DTSTAMP:20260422T234535
CREATED:20221209T084856Z
LAST-MODIFIED:20221209T084856Z
UID:6769-1682776800-1682780400@www.de-oranje-man.nl
SUMMARY:Oranjeweek Laurens Dijkveld Ijsselmonde - Wilhelmus de Oranje Man - za 29-4-23
DESCRIPTION:Liedjes van Toen & Nu door troubadour – liedjeszanger Wilhelmus De Oranje Man \nTijdens deze muzikale activiteit zal Troubadour Wilhelmus De Oranje Man weer zorgen voor contact en plezier door het zingen en spelen van de vele bekende liedjes afgestemd op het aanwezige publiek. \nDoor middel van zijn unieke “mobiele versterker” volledig draadloos met zenders is Wilhelmus direct speelklaar zonder snoeren waar mensen over kunnen struikelen.\nOp deze manier kan hij in elke ruimte tuin/ binnentuin / straat toch licht versterkt optreden zodat zang en gitaar duidelijk overkomen maar niet te hard. \nMaak met liedjes contact en plezier!\nWilhelmus de Oranje Man \nMuzikale reis door de tijd en feest van herkenning met Hollandse liedjes van Toen en nu!\nVeel ervaring\, plezier\, ruimte en geduld in de omgang met mensen met dementie\, alzheimer\, verstandelijk beperking\, psychiatrische beperking\, lichamelijke beperking. \nLive muziek optredens voor senioren en ouderen – Gezellige middag voor ouderen – gezelligheid voor ouderen – entertainment senioren en ouderen – Zanger eenzame ouderen en seniorenL
URL:https://www.de-oranje-man.nl/event/oranjeweek-laurens-dijkveld-ijsselmonde-wilhelmus-de-oranje-man-za-29-4-23/
CATEGORIES:oranjeweek woonzorgcentrum
ATTACH;FMTTYPE=image/jpeg:https://www.de-oranje-man.nl/wp-content/uploads/2021/09/Wilhelmus-de-Oranje-Man-De-Gelukkeling-04-1.jpg
END:VEVENT
BEGIN:VEVENT
DTSTART;TZID=Europe/Amsterdam:20190427T143000
DTEND;TZID=Europe/Amsterdam:20190427T154500
DTSTAMP:20260422T234535
CREATED:20180508T092445Z
LAST-MODIFIED:20190424T064512Z
UID:3838-1556375400-1556379900@www.de-oranje-man.nl
SUMMARY:Laurens Zorg IJsselmonde Woonzorgcentrum Dijkveld Koningsdag 2019 Wilhelmus De Oranje Man 27-4-19
DESCRIPTION:Liedjes van Toen & Nu door troubadour – liedjeszanger Wilhelmus De Oranje Man \nFeestelijke muzikale Koningsdag. Tijdens deze muzikale middag zal Troubadour Wilhelmus De Oranje Man weer zorgen voor contact en plezier door het samen zingen en spelen van de vele bekende liedjes. \nMaak met liedjes contact en plezier!\nWilhelmus de Oranje Man \nMuzikale reis door de tijd en feest van herkenning met Hollandse liedjes van Toen en nu!\nVeel ervaring\, plezier\, ruimte en geduld in de omgang met mensen met dementie\, alzheimer\, verstandelijk beperking\, lichamelijke beperking.
URL:https://www.de-oranje-man.nl/event/laurens-zorg-ijsselmonde-woonzorgcentrum-dijkveld-koningsdag-2019-wilhelmus-de-oranje-man-27-4-19/
END:VEVENT
BEGIN:VEVENT
DTSTART;TZID=Europe/Amsterdam:20180421T143000
DTEND;TZID=Europe/Amsterdam:20180421T153000
DTSTAMP:20260422T234535
CREATED:20171117T151302Z
LAST-MODIFIED:20171117T151302Z
UID:3623-1524321000-1524324600@www.de-oranje-man.nl
SUMMARY:Oranje Muziekmiddag - Ijsselmonde - Wilhelmus de Oranje Man
DESCRIPTION:Tijdens deze muzikale feestmiddag zal Troubadour Wilhelmus De Oranje Man weer zorgen voor contact en plezier door het samen zingen en spelen van de vele bekende liedjes. \nMaak met liedjes contact en plezier!\nWilhelmus de Oranje Man \nMuzikale reis door de tijd en feest van herkenning met Hollandse liedjes van Toen en nu!\nVeel ervaring\, plezier\, ruimte en geduld in de omgang met mensen met dementie\, alzheimer\, verstandelijk beperking\, lichamelijke beperking.
URL:https://www.de-oranje-man.nl/event/oranje-muziekmiddag-ijsselmonde-wilhelmus-oranje-man/
ATTACH;FMTTYPE=image/jpeg:https://www.de-oranje-man.nl/wp-content/uploads/2014/03/De-Oranje-Man-Troubadour-Utrecht-Hollandse-Liedjes.jpg
END:VEVENT
END:VCALENDAR