BEGIN:VCALENDAR
VERSION:2.0
PRODID:-//Wilhelmus de Oranje Man - ECPv6.15.19//NONSGML v1.0//EN
CALSCALE:GREGORIAN
METHOD:PUBLISH
X-ORIGINAL-URL:https://www.de-oranje-man.nl
X-WR-CALDESC:Evenementen voor Wilhelmus de Oranje Man
REFRESH-INTERVAL;VALUE=DURATION:PT1H
X-Robots-Tag:noindex
X-PUBLISHED-TTL:PT1H
BEGIN:VTIMEZONE
TZID:Europe/Amsterdam
BEGIN:DAYLIGHT
TZOFFSETFROM:+0100
TZOFFSETTO:+0200
TZNAME:CEST
DTSTART:20230326T010000
END:DAYLIGHT
BEGIN:STANDARD
TZOFFSETFROM:+0200
TZOFFSETTO:+0100
TZNAME:CET
DTSTART:20231029T010000
END:STANDARD
BEGIN:DAYLIGHT
TZOFFSETFROM:+0100
TZOFFSETTO:+0200
TZNAME:CEST
DTSTART:20240331T010000
END:DAYLIGHT
BEGIN:STANDARD
TZOFFSETFROM:+0200
TZOFFSETTO:+0100
TZNAME:CET
DTSTART:20241027T010000
END:STANDARD
BEGIN:DAYLIGHT
TZOFFSETFROM:+0100
TZOFFSETTO:+0200
TZNAME:CEST
DTSTART:20250330T010000
END:DAYLIGHT
BEGIN:STANDARD
TZOFFSETFROM:+0200
TZOFFSETTO:+0100
TZNAME:CET
DTSTART:20251026T010000
END:STANDARD
BEGIN:DAYLIGHT
TZOFFSETFROM:+0100
TZOFFSETTO:+0200
TZNAME:CEST
DTSTART:20260329T010000
END:DAYLIGHT
BEGIN:STANDARD
TZOFFSETFROM:+0200
TZOFFSETTO:+0100
TZNAME:CET
DTSTART:20261025T010000
END:STANDARD
END:VTIMEZONE
BEGIN:VEVENT
DTSTART;TZID=Europe/Amsterdam:20250419T140000
DTEND;TZID=Europe/Amsterdam:20250419T160000
DTSTAMP:20260423T053737
CREATED:20241216T113919Z
LAST-MODIFIED:20241216T113919Z
UID:7930-1745071200-1745078400@www.de-oranje-man.nl
SUMMARY:Meezingconcert senioren ouderen met tekstboek WABO Wijk bij Duurstede Ewoud & Elisabeth Gasthuis
DESCRIPTION:Meezingconcert senioren ouderen met tekstboek WABO Wijk bij Duurstede Ewoud & Elisabeth Gasthuis\nGewoon lekker samen zingen met tekstboek! Alle bekende liedjes als: Laat me\, Blij dat ik je niet vergeten ben\, Het Dorp\, Malle Babbe\, Land van Maas en Waal\, Tulpen uit Amsterdam\, De kleine dingen die het doen\, Het is een nacht en Engelstalige klassiekers als Blue Suede Shoes en Country Roads.\nEen feest van herkenning en muzikale reis door de tijd met Wilhelmus de Oranje Man. \nVoor meer info zie: https://www.de-oranje-man.nl/troubadour/meezingconcert-senioren-ouderen-met-tekstboek/ \n \n \n \nOok geschikt als herinneringen concert voor mensen met alzheimer/dementie.\nAangezien ik veel optreed in verzorgingstehuizen en instellingen\, ben ik me zeer bewust van de onschatbare waarde van herinneringen. Ik begrijp hoe cruciaal het is om ze te koesteren\, vooral omdat het behouden van herinneringen niet vanzelfsprekend is. Tijdens het meezingconcert delen we samen de prachtigste muzikale herinneringen en creëren we nieuwe\, zodat ze beter in ons geheugen blijven bestaan. \nHeerlijk ongedwongen samen zingen. \nWelk liedje/nummer wil jij horen?\n\n\nKies uit de lijst van 62 nummers en laat het me weten.\nHier vind je de complete spotify afspeellijst van de liedjes van het meezing concert. \nKies uit 62 liedjes van vroeger en nu in 100 handzame mappen met alle liedteksten.\nNa een paar inzingers kiezen we met elkaar wat we verder die dag gaan zingen. \n100 Mooie handzame Oranje mappen (na afloop wel weer inleveren)\nAlle liedteksten duidelijk leesbaar met mooie grote letters 18 pts.\nAfgedrukt op mooi stevig 120 grams papier. \nMet bekenden\, vriendinnen/vrienden of gewoon jezelf.\nMet familie\, je moeder/vader\, je oma/opa\, je broer/zus.\nVoor seniorenmiddag ouderenmiddag\, koren\, oranjevereniging\, Thomashuis\, Alzheimer café of dorpsfeest.
URL:https://www.de-oranje-man.nl/event/meezingconcert-senioren-ouderen-met-tekstboek-wabo-wijk-bij-duurstede-ewoud-elisabeth-gasthuis/
CATEGORIES:meezing concert senioren met tekstboek,meezingconcert ouderen met tekstboek
ATTACH;FMTTYPE=image/jpeg:https://www.de-oranje-man.nl/wp-content/uploads/2024/03/Meezing-Herinneringen-Concert-Senioren-Ouderen-met-Tekstboek-Wilhelmus-de-Oranje-Man.jpg
END:VEVENT
BEGIN:VEVENT
DTSTART;TZID=Europe/Amsterdam:20240606T190000
DTEND;TZID=Europe/Amsterdam:20240606T203000
DTSTAMP:20260423T053737
CREATED:20240411T141629Z
LAST-MODIFIED:20240411T141713Z
UID:7637-1717700400-1717705800@www.de-oranje-man.nl
SUMMARY:Meezingconcert senioren ouderen met tekstboek Zanger Wilhelmus de Oranje Man Zorgcentrum de Haven - Bunschoten
DESCRIPTION:Meezingconcert senioren ouderen met tekstboek in woonzorgcentrum de Haven\nGewoon lekker samen zingen met tekstboek! Alle bekende liedjes als: Laat me\, Blij dat ik je niet vergeten ben\, Het Dorp\, Malle Babbe\, Land van Maas en Waal\, Tulpen uit Amsterdam\, De kleine dingen die het doen\, Het is een nacht en Engelstalige klassiekers als Blue Suede Shoes en Country Roads.\nEen feest van herkenning en muzikale reis door de tijd met Wilhelmus de Oranje Man. \nVoor meer info zie: https://www.de-oranje-man.nl/troubadour/meezingconcert-senioren-ouderen-met-tekstboek/ \n \n \n \nOok geschikt als herinneringen concert voor mensen met alzheimer/dementie.\nAangezien ik veel optreed in verzorgingstehuizen en instellingen\, ben ik me zeer bewust van de onschatbare waarde van herinneringen. Ik begrijp hoe cruciaal het is om ze te koesteren\, vooral omdat het behouden van herinneringen niet vanzelfsprekend is. Tijdens het meezingconcert delen we samen de prachtigste muzikale herinneringen en creëren we nieuwe\, zodat ze beter in ons geheugen blijven bestaan. \nHeerlijk ongedwongen samen zingen. \nWelk liedje/nummer wil jij horen?\n\n\nKies uit de lijst van 62 nummers en laat het me weten.\nHier vind je de complete spotify afspeellijst van de liedjes van het meezing concert. \nKies uit 62 liedjes van vroeger en nu in 100 handzame mappen met alle liedteksten.\nNa een paar inzingers kiezen we met elkaar wat we verder die dag gaan zingen. \n100 Mooie handzame Oranje mappen (na afloop wel weer inleveren)\nAlle liedteksten duidelijk leesbaar met mooie grote letters 18 pts.\nAfgedrukt op mooi stevig 120 grams papier. \nMet bekenden\, vriendinnen/vrienden of gewoon jezelf.\nMet familie\, je moeder/vader\, je oma/opa\, je broer/zus.\nVoor seniorenmiddag ouderenmiddag\, koren\, oranjevereniging\, Thomashuis\, Alzheimer café of dorpsfeest.
URL:https://www.de-oranje-man.nl/event/meezingconcert-senioren-ouderen-met-tekstboek-zanger-wilhelmus-de-oranje-man-zorgcentrum-de-haven-bunschoten/
CATEGORIES:meezingconcert ouderen met tekstboek
ATTACH;FMTTYPE=image/jpeg:https://www.de-oranje-man.nl/wp-content/uploads/2024/03/Meezing-Herinneringen-Concert-Senioren-Ouderen-met-Tekstboek-Wilhelmus-de-Oranje-Man.jpg
END:VEVENT
END:VCALENDAR