BEGIN:VCALENDAR
VERSION:2.0
PRODID:-//Wilhelmus de Oranje Man - ECPv6.15.19//NONSGML v1.0//EN
CALSCALE:GREGORIAN
METHOD:PUBLISH
X-WR-CALNAME:Wilhelmus de Oranje Man
X-ORIGINAL-URL:https://www.de-oranje-man.nl
X-WR-CALDESC:Evenementen voor Wilhelmus de Oranje Man
REFRESH-INTERVAL;VALUE=DURATION:PT1H
X-Robots-Tag:noindex
X-PUBLISHED-TTL:PT1H
BEGIN:VTIMEZONE
TZID:Europe/Amsterdam
BEGIN:DAYLIGHT
TZOFFSETFROM:+0100
TZOFFSETTO:+0200
TZNAME:CEST
DTSTART:20250330T010000
END:DAYLIGHT
BEGIN:STANDARD
TZOFFSETFROM:+0200
TZOFFSETTO:+0100
TZNAME:CET
DTSTART:20251026T010000
END:STANDARD
BEGIN:DAYLIGHT
TZOFFSETFROM:+0100
TZOFFSETTO:+0200
TZNAME:CEST
DTSTART:20260329T010000
END:DAYLIGHT
BEGIN:STANDARD
TZOFFSETFROM:+0200
TZOFFSETTO:+0100
TZNAME:CET
DTSTART:20261025T010000
END:STANDARD
BEGIN:DAYLIGHT
TZOFFSETFROM:+0100
TZOFFSETTO:+0200
TZNAME:CEST
DTSTART:20270328T010000
END:DAYLIGHT
BEGIN:STANDARD
TZOFFSETFROM:+0200
TZOFFSETTO:+0100
TZNAME:CET
DTSTART:20271031T010000
END:STANDARD
END:VTIMEZONE
BEGIN:VEVENT
DTSTART;TZID=Europe/Amsterdam:20260430T140000
DTEND;TZID=Europe/Amsterdam:20260430T150000
DTSTAMP:20260420T063335
CREATED:20251022T125224Z
LAST-MODIFIED:20251022T125224Z
UID:8319-1777557600-1777561200@www.de-oranje-man.nl
SUMMARY:Woonzorgcentrum Meerhoeve Sint Jacob Live muziek ouderen Wilhelmus de Oranje Man
DESCRIPTION:Tijdens deze muzikale activiteit zal Troubadour Wilhelmus De Oranje Man weer zorgen voor contact en plezier voor vele senioren en ouderen in het woonzorgcentrum door het zingen en spelen van de vele bekende liedjes afgestemd op het aanwezige publiek. \nMaak met liedjes contact en plezier!\nWilhelmus de Oranje Man \nMuzikale reis door de tijd en feest van herkenning met Hollandse liedjes van Toen en nu!\nVeel ervaring\, plezier\, ruimte en geduld in de omgang met mensen met dementie\, alzheimer\, verstandelijk beperking\, psychiatrische beperking\, lichamelijke beperking. \nLive muziek optredens voor senioren en ouderen – Gezellige middag voor ouderen – gezelligheid voor ouderen – entertainment senioren en ouderen – Zanger eenzame ouderen en senioren
URL:https://www.de-oranje-man.nl/event/woonzorgcentrum-meerhoeve-sint-jacob-live-muziek-ouderen-wilhelmus-de-oranje-man/
CATEGORIES:woonzorgcentrum mobiel optreden zanger gitarist,woonzorgcentrum zanger,woonzorgcentrum zanger gitarist,woonzorgcentrum zanger live muziek
ATTACH;FMTTYPE=image/jpeg:https://www.de-oranje-man.nl/wp-content/uploads/2024/02/zanger-ouderen-dementie-beperking-.jpg
END:VEVENT
BEGIN:VEVENT
DTSTART;TZID=Europe/Amsterdam:20260505T143000
DTEND;TZID=Europe/Amsterdam:20260505T160000
DTSTAMP:20260420T063335
CREATED:20250930T161331Z
LAST-MODIFIED:20250930T161331Z
UID:8288-1777991400-1777996800@www.de-oranje-man.nl
SUMMARY:5 Mei viering ouderen Hof van Jacob Zanger Gitarist Wilhelmus de Oranje Man - Haarlem
DESCRIPTION:Gezellige muziekmiddag voor senioren Liedjes van Toen & Nu door troubadour – liedjeszanger Wilhelmus De Oranje Man \nTijdens deze muzikale activiteit zal Troubadour Wilhelmus De Oranje Man weer zorgen voor contact en plezier door het zingen en spelen van de vele bekende liedjes afgestemd op het aanwezige publiek. \nMaak met liedjes contact en plezier!\nWilhelmus de Oranje Man \nMuzikale reis door de tijd en feest van herkenning met Hollandse liedjes van Toen en nu!\nVeel ervaring\, plezier\, ruimte en geduld in de omgang met mensen met dementie\, alzheimer\, verstandelijk beperking\, psychiatrische beperking\, lichamelijke beperking. \nLive muziek optredens voor senioren en ouderen – Gezellige middag voor ouderen – gezelligheid voor ouderen – entertainment senioren en ouderen – Zanger eenzame ouderen en senioren
URL:https://www.de-oranje-man.nl/event/5-mei-viering-ouderen-hof-van-jacob-zanger-gitarist-wilhelmus-de-oranje-man-haarlem/
CATEGORIES:5 Mei viering Troubadour,5 mei woonzorgcentrum zanger Wilhelmus de Oranje Man
ATTACH;FMTTYPE=image/jpeg:https://www.de-oranje-man.nl/wp-content/uploads/2024/02/zanger-ouderen-dementie-beperking-.jpg
END:VEVENT
BEGIN:VEVENT
DTSTART;TZID=Europe/Amsterdam:20260910T150000
DTEND;TZID=Europe/Amsterdam:20260910T163000
DTSTAMP:20260420T063335
CREATED:20260121T075227Z
LAST-MODIFIED:20260121T075227Z
UID:8458-1789052400-1789057800@www.de-oranje-man.nl
SUMMARY:Hollandse Liedjes van Vroeger & Nu door troubadour – liedjeszanger Wilhelmus De Oranje Man Woonzorgcentrum Hof van Jacob Haarlem
DESCRIPTION:Hollandse Liedjes van Vroeger & Nu door troubadour – liedjeszanger Wilhelmus De Oranje Man Woonzorgcentrum Hof van Jacob Haarlem\nWoonzorgcentrum muzikale bijeenkomst Sint Jacob Haarlem\nLiedjes van Toen & Nu door troubadour – liedjeszanger Wilhelmus De Oranje Man \nTijdens deze muzikale activiteit zal Troubadour Wilhelmus De Oranje Man weer zorgen voor contact en plezier door het zingen en spelen van de vele bekende Hollandse liedjes van vroeger en nu afgestemd op het aanwezige publiek. \n \nMaak met liedjes contact en plezier!\nWilhelmus de Oranje Man \nMuzikale reis door de tijd en feest van herkenning met Hollandse liedjes van Toen en nu!\nVeel ervaring\, plezier\, ruimte en geduld in de omgang met mensen met dementie\, alzheimer\, verstandelijk beperking\, psychiatrische beperking\, lichamelijke beperking. \nLive muziek optredens voor senioren en ouderen – Gezellige seniorenmiddag voor ouderen – gezelligheid voor ouderen – entertainment senioren en ouderen – Zanger eenzame ouderen en senioren
URL:https://www.de-oranje-man.nl/event/hollandse-liedjes-van-vroeger-nu-door-troubadour-liedjeszanger-wilhelmus-de-oranje-man-woonzorgcentrum-hof-van-jacob-haarlem-3/
CATEGORIES:Hollandse Liedjes van Vroeger,Hollandse liedjes van vroeger zanger,Hollandse Middag Zanger Ouderen
ATTACH;FMTTYPE=image/jpeg:https://www.de-oranje-man.nl/wp-content/uploads/2025/11/Hollandse-Liedjes-Senioren-Ouderen-Beperking-de-Oranje-Man-scaled.jpg
END:VEVENT
BEGIN:VEVENT
DTSTART;TZID=Europe/Amsterdam:20261203T140000
DTEND;TZID=Europe/Amsterdam:20261203T170000
DTSTAMP:20260420T063335
CREATED:20250930T161924Z
LAST-MODIFIED:20250930T161924Z
UID:8290-1796306400-1796317200@www.de-oranje-man.nl
SUMMARY:Zingende Sinterklaas met gitaar speelt sinterklaasliedjes en voorstelling ouderen woonzorgcentrum Hof van Jacob 1 & 2
DESCRIPTION:Zingende Sinterklaas met gitaar speelt sinterklaasliedjes en voorstelling ouderen woonzorgcentrum Hof van Jacob\nDe Zingende Sinterklaas\n\n\nVriendelijke muzikale Sinterklaas die in zijn stijlvolle kostuum en prachtige gitaar de vele Sinterklaasklassiekers live speelt en zingt. Is gewend om met alle mogelijke mensen om te gaan. Hij heeft een grote voorliefde voor optredens voor ouderen\, voor en met mensen met een beperking\, voor gemengd samengestelde groepen.. De perfecte act voor uw Sinterklaasactiviteit op uw instelling of woonzorgcentrum. Zeer ervaren in omgang/gesprekjes met mensen met dementie/alzheimer en mensen met een beperking. Sinterklaas neemt hier rustig de tijd voor en doet zelfs nog even mee met de ochtendgymnastiek. Ook zeer ervaren in de omgang met kinderen. \n\nSinterklaas Liedjes Repertoire – De Zingende Sinterklaas\nIk speel een mengeling van de bekende Sinterklaasliedjes zoals:\nHoor wie klopt daar kinderen\, Zie ginds komt de stoomboot\, Pakjes Piet ging uit fietsen\, Daar wordt aan de deur geklopt\, De Zak van Sinterklaas\, Dag Sinterklaasje dag dag\, Jongens heb je ’t al vernomen\, Sinterklaas Kapoentje\, Rommel de bommel\, Hoor de wind waait\, Oh kom er eens kijken en nog veel meer. \nIk beschik over een mobiele geluidsinstallatie met zenders en volledig op accu zodat ik overal draadloos kan spelen en zowel binnen als buiten heel makkelijk kan verplaatsen. \n\nWilhelmus de Oranje Man als de zingende Sinterklaas\nSinds 2021 helemaal nieuw na enorm groot succes van de Zingende Kerstman in 2020\nUniek in Nederland en ook weer in 2024 een waar festijn. Enthousiast en nooit kinderachtig. \n“Als bewoners je vertellen dat je geweldig bent zingende Sinterklaas (Wilhelmus Hoekstra De Oranje Man) hoef ik eigenlijk niets meer te zeggen! De bewoners hangen aan je lippen. Dankzij jouw muziek\, jouw enthousiasme en met het meebewegen krijg jij ze op de dansvloer\, jij laat ze stralen & weer jong voelen. Dank je wel weer voor deze fantastische MOOIE middag met de liedjesBINGO!\nJacqueline Sturkenboom\, welzijnsbegeleider Vechte en IJssel Lieven de Key”\n\n“Beste Wilhelmus de zingende Sinterklaas\,\nIn ruim 3 uur langs 13 verschillende woningen van Sovak in Terheijden zonder pauze en als een Topsporter door gaan.\nWat heb jij een geweldig optreden verzorgd. Op iedere woning kon je inspelen\, improviseren en er een feest van maken.\nWe willen je nu ook al weer voor volgend jaar als zingende kerstman reserveren.\nWe hebben al heel veel leuke reacties gehad en worden er weer heel blij van. Je bent voor ons op Sovak een groot artiest en een TOPPER! \nHeel veel lieve groetjes van ons allemaal 🙂” \n\nSpeciale Sinterklaas editie van de liedjesbingo gebaseerd op het principe van de succesvolle Liedjesbingo.\nIk heb de liedjesbingo verder uitgebreid met Quizvragen. Hele lijst met Sinterklaasliedjes samengesteld en prachtige nieuweSinterklaasliedjesbingo kaarten gemaakt. \n\nIk kijk er naar uit om met elkaar weer iets heel bijzonders van de Sinterklaas periode te maken.\nGraag  tot ziens bij de Sinterklaas Liedjes Bingo of Sinterklaasactiviteit !\nWilhelmus De Oranje Man \nBen je geïnteresseerd in de Sinterklaasliedjes Bingo of de Zingende Sinterklaas om Sinterklaassfeer in uw verzorgingstehuis of instelling te brengen? \nvraag direct een offerte aan:\n\n\n  \n\n\n\nnaam*\n \n\n \ne-mail*\n \n\n \ntelefoonnummer\n \n\n \nbedrijfsnaam\n\nsoort event/feest/workshop\n\ndatum & tijdstip\n\nplaats\n\naantal personen\n\nbeschikbaar budget ca.\n\n \ntoelichting\n \n\n \nhoe ben je bij de oranje man gekomen?\n\n \ngegevens met * zijn verplicht\n \n*Ik ga akkoord met de verwerking van deze gegevens zoals beschreven in de privacy verklaringPrivacy Verklaring.\n \n\n \n			Your browser does not support JavaScript!. Please enable javascript in your browser in order to get form work properly.\n	\n\n\n\n \nDe Oranje Man – Hollandse liedjes van Toen en … NU! Liedjeszanger – Presentator – Entertainer
URL:https://www.de-oranje-man.nl/event/zingende-sinterklaas-met-gitaar-speelt-sinterklaasliedjes-en-voorstelling-ouderen-woonzorgcentrum-hof-van-jacob-1-2/
CATEGORIES:Zingende Sinterklaas live gitaar zang Woonzorgcentrum,Zingende Sinterklaas met gitaar,Zingende Sinterklaas met gitaar senioren ouderen,zingende Sinterklaas ouderen,Zingende Sinterklaas Ouderenzorg
ATTACH;FMTTYPE=image/jpeg:https://www.de-oranje-man.nl/wp-content/uploads/2024/10/De-Zingende-Sinterklaas-0.jpg
END:VEVENT
BEGIN:VEVENT
DTSTART;TZID=Europe/Amsterdam:20261217T140000
DTEND;TZID=Europe/Amsterdam:20261217T170000
DTSTAMP:20260420T063335
CREATED:20250930T162516Z
LAST-MODIFIED:20250930T162516Z
UID:8292-1797516000-1797526800@www.de-oranje-man.nl
SUMMARY:Zingende Kerstman met Gitaar speelt Kerstliedjes - Senioren Ouderen en Familie - Hof van Jacob Haarlem
DESCRIPTION:Zingende Kerstman met gitaar speelt Kerstliedjes – Senioren Ouderen en Familie – Hof van Jacob Haarlem \nWilhelmus de zingende Kerstman met gitaar – I wish you a Merry Christmas! \n \nLuister nu op Spotify de Kersthit van 2026: Kerst in Nederland Wilhelmus de Zingende Kerstman OOO heerlijk in de Sno. \nTijdens de muzikale middag zal Wilhelmus de Zingende Kerstman  weer zorgen voor contact en plezier met de vele bekende Kerstliedjes  \n\nWilhelmus de Zingende Kerstman is heel gemoedelijk en neemt de tijd voor een gesprekje met de bewoners en speelt ondertussen prachtige Kerstliedjes. \n“Beste Wilhelmus de zingende kerstman\,\nIn ruim 3 uur langs 13 verschillende woningen van Sovak in Terheijden zonder pauze en als een Topsporter door gaan.\nWat heb jij een geweldig optreden verzorgd. Op iedere woning kon je inspelen\, improviseren en er een feest van maken.\nWe willen je nu ook al weer voor volgend jaar als zingende kerstman reserveren.\nWe hebben al heel veel leuke reacties gehad en worden er weer heel blij van. Je bent voor ons op Sovak een groot artiest en een TOPPER! \nHeel veel lieve groetjes van ons allemaal 🙂” \nMaak met liedjes contact en plezier!\nWilhelmus de Zingende KerstMan Kerstliedjesbingo \nMuzikale reis door de tijd en feest van herkenning met Hollandse liedjes van vroeger en nu!\nVeel ervaring\, plezier\, ruimte en geduld in de omgang met kwetsbare mensen met dementie\, alzheimer\, verstandelijk beperking\, lichamelijke beperking.\nWilhelmus de Oranje Man – Senioren Entertainment – Seniorenshows – Seniorenprogramma – Ouderen entertainment – Artiest ouderen
URL:https://www.de-oranje-man.nl/event/zingende-kerstman-met-gitaar-speelt-kerstliedjes-senioren-ouderen-en-familie-hof-van-jacob-haarlem/
CATEGORIES:zingende kerstman gitaar,zingende kerstman kerstliedjes ouderen mensen beperking,zingende kerstman kerstliedjesbingo,zingende kerstman met gitaar,Zingende Kerstman Ouderen Entertainment,Zingende Kerstman Ouderen gitarist zanger,zingende kerstman ouderen woonzorgcentrum,zingende kerstman woonzorgcentrum,Zingende Kerstman Woonzorgcentrum Live Gitaar zang
ATTACH;FMTTYPE=image/jpeg:https://www.de-oranje-man.nl/wp-content/uploads/2024/09/Zingende-Kerstman-Gitaar.jpg
END:VEVENT
END:VCALENDAR