BEGIN:VCALENDAR
VERSION:2.0
PRODID:-//Wilhelmus de Oranje Man - ECPv6.15.19//NONSGML v1.0//EN
CALSCALE:GREGORIAN
METHOD:PUBLISH
X-WR-CALNAME:Wilhelmus de Oranje Man
X-ORIGINAL-URL:https://www.de-oranje-man.nl
X-WR-CALDESC:Evenementen voor Wilhelmus de Oranje Man
REFRESH-INTERVAL;VALUE=DURATION:PT1H
X-Robots-Tag:noindex
X-PUBLISHED-TTL:PT1H
BEGIN:VTIMEZONE
TZID:Europe/Amsterdam
BEGIN:DAYLIGHT
TZOFFSETFROM:+0100
TZOFFSETTO:+0200
TZNAME:CEST
DTSTART:20180325T010000
END:DAYLIGHT
BEGIN:STANDARD
TZOFFSETFROM:+0200
TZOFFSETTO:+0100
TZNAME:CET
DTSTART:20181028T010000
END:STANDARD
BEGIN:DAYLIGHT
TZOFFSETFROM:+0100
TZOFFSETTO:+0200
TZNAME:CEST
DTSTART:20190331T010000
END:DAYLIGHT
BEGIN:STANDARD
TZOFFSETFROM:+0200
TZOFFSETTO:+0100
TZNAME:CET
DTSTART:20191027T010000
END:STANDARD
BEGIN:DAYLIGHT
TZOFFSETFROM:+0100
TZOFFSETTO:+0200
TZNAME:CEST
DTSTART:20200329T010000
END:DAYLIGHT
BEGIN:STANDARD
TZOFFSETFROM:+0200
TZOFFSETTO:+0100
TZNAME:CET
DTSTART:20201025T010000
END:STANDARD
END:VTIMEZONE
BEGIN:VEVENT
DTSTART;TZID=Europe/Amsterdam:20191230T133000
DTEND;TZID=Europe/Amsterdam:20191230T153000
DTSTAMP:20260421T073523
CREATED:20190911T115512Z
LAST-MODIFIED:20190911T115512Z
UID:4695-1577712600-1577719800@www.de-oranje-man.nl
SUMMARY:Beschermd wonen 4 x huiskamer optreden Troubadour Wilhelmus De Oranje Man - Careyn Spijkenisse - ma 30-12-19
DESCRIPTION:Liedjes van Toen & Nu door troubadour – liedjeszanger Wilhelmus De Oranje Man \n4 Huiskameroptredens bij beschermd wonen.\nDoor middel van zijn unieke “gitaarkruk versterker” volledig draadloos met zenders is Wilhelmus direct speelklaar zonder snoeren waar mensen over kunnen struikelen. Op deze manier kan hij in elke huiskamer toch licht versterkt optreden zodat zang en gitaar duidelijk overkomen maar niet te hard.  \nTijdens deze muzikale activiteit zal Troubadour Wilhelmus De Oranje Man weer zorgen voor contact en plezier door het zingen en spelen van de vele bekende liedjes afgestemd op het aanwezige publiek. \nMaak met liedjes contact en plezier!\nWilhelmus de Oranje Man \nMuzikale reis door de tijd en feest van herkenning met Hollandse liedjes van Toen en nu!\nVeel ervaring\, plezier\, ruimte en geduld in de omgang met mensen met dementie\, alzheimer\, verstandelijk beperking\, psychiatrische beperking\, lichamelijke beperking.
URL:https://www.de-oranje-man.nl/event/beschermd-wonen-4-x-huiskamer-optreden-troubadour-wilhelmus-de-oranje-man-careyn-spijkenisse-ma-30-12-19/
CATEGORIES:huiskamer optreden beschermd wonen
ATTACH;FMTTYPE=image/jpeg:https://www.de-oranje-man.nl/wp-content/uploads/2019/09/gitaarkruk-versterker-volkomen-draadloos-incl-bluetooth-de-oranje-man.jpg
END:VEVENT
END:VCALENDAR