BEGIN:VCALENDAR
VERSION:2.0
PRODID:-//Wilhelmus de Oranje Man - ECPv6.15.19//NONSGML v1.0//EN
CALSCALE:GREGORIAN
METHOD:PUBLISH
X-WR-CALNAME:Wilhelmus de Oranje Man
X-ORIGINAL-URL:https://www.de-oranje-man.nl
X-WR-CALDESC:Evenementen voor Wilhelmus de Oranje Man
REFRESH-INTERVAL;VALUE=DURATION:PT1H
X-Robots-Tag:noindex
X-PUBLISHED-TTL:PT1H
BEGIN:VTIMEZONE
TZID:Europe/Amsterdam
BEGIN:DAYLIGHT
TZOFFSETFROM:+0100
TZOFFSETTO:+0200
TZNAME:CEST
DTSTART:20170326T010000
END:DAYLIGHT
BEGIN:STANDARD
TZOFFSETFROM:+0200
TZOFFSETTO:+0100
TZNAME:CET
DTSTART:20171029T010000
END:STANDARD
BEGIN:DAYLIGHT
TZOFFSETFROM:+0100
TZOFFSETTO:+0200
TZNAME:CEST
DTSTART:20180325T010000
END:DAYLIGHT
BEGIN:STANDARD
TZOFFSETFROM:+0200
TZOFFSETTO:+0100
TZNAME:CET
DTSTART:20181028T010000
END:STANDARD
BEGIN:DAYLIGHT
TZOFFSETFROM:+0100
TZOFFSETTO:+0200
TZNAME:CEST
DTSTART:20190331T010000
END:DAYLIGHT
BEGIN:STANDARD
TZOFFSETFROM:+0200
TZOFFSETTO:+0100
TZNAME:CET
DTSTART:20191027T010000
END:STANDARD
END:VTIMEZONE
BEGIN:VEVENT
DTSTART;TZID=Europe/Amsterdam:20181013T130000
DTEND;TZID=Europe/Amsterdam:20181013T143000
DTSTAMP:20260421T130034
CREATED:20181017T084412Z
LAST-MODIFIED:20190204T162304Z
UID:4034-1539435600-1539441000@www.de-oranje-man.nl
SUMMARY:Verjaardagsfeest Moeder 90 jaar Wilhelmus De Oranje Man - Acaciastaete Son za 13 oktober 2018
DESCRIPTION:Liedjes van Toen & Nu door troubadour – liedjeszanger Wilhelmus De Oranje Man \nVerjaardagsfeest moeder 90 jaar met familie en bekenden en bewoners in de patio van de verzorgingsflat in Son en Breugel. \nTijdens deze muzikale activiteit zal Troubadour Wilhelmus De Oranje Man weer zorgen voor contact en plezier door het zingen en spelen van de vele bekende liedjes afgestemd op het aanwezige publiek. \nMaak met liedjes contact en plezier!\nWilhelmus de Oranje Man \nVerjaardagsfeest moeder 90 jaar – liedjeszanger Wilhelmus De Oranje Man\nWat geef je nou aan je moeder die 90 jaar wordt en hoe zet je die speciaal in het zonnetje? Juist met Hollandse liedjes van Toen en Nu en Engelstalige klassiekers  door Liedjeszanger Wilhelmus De Oranje Man. Hierdoor krijg je een feest van herkenning bij je gasten en een een kleurrijk evenement waar nog lang positief over wordt nagepraat! Met een persoonlijk lied op maat\, Oranje rozen voor de jarige\, speciale “Samen stralen” fotolijst en helemaal mooi de LiedjesBINGO wordt iedereen van jong tot oud hierbij betrokken. \nWat geef je aan iemand van 90 jaar? Feestidee 90 jaar verjaardagcadeau? \nMuzikale reis door de tijd en feest van herkenning met Hollandse liedjes van Toen en nu!\nVeel ervaring\, plezier\, ruimte en geduld in de omgang met mensen met dementie\, alzheimer\, verstandelijk beperking\, psychiatrische beperking\, lichamelijke beperking.
URL:https://www.de-oranje-man.nl/event/verjaardagsfeest-moeder-90-jaar-wilhelmus-de-oranje-man-acaiastaete-son-za-13-oktober-2018/
CATEGORIES:90 jaar verjaardagsfeest moeder,Wat geef je aan iemand van 90 jaar
END:VEVENT
END:VCALENDAR