BEGIN:VCALENDAR
VERSION:2.0
PRODID:-//Wilhelmus de Oranje Man - ECPv6.15.19//NONSGML v1.0//EN
CALSCALE:GREGORIAN
METHOD:PUBLISH
X-ORIGINAL-URL:https://www.de-oranje-man.nl
X-WR-CALDESC:Evenementen voor Wilhelmus de Oranje Man
REFRESH-INTERVAL;VALUE=DURATION:PT1H
X-Robots-Tag:noindex
X-PUBLISHED-TTL:PT1H
BEGIN:VTIMEZONE
TZID:Europe/Amsterdam
BEGIN:DAYLIGHT
TZOFFSETFROM:+0100
TZOFFSETTO:+0200
TZNAME:CEST
DTSTART:20190331T010000
END:DAYLIGHT
BEGIN:STANDARD
TZOFFSETFROM:+0200
TZOFFSETTO:+0100
TZNAME:CET
DTSTART:20191027T010000
END:STANDARD
BEGIN:DAYLIGHT
TZOFFSETFROM:+0100
TZOFFSETTO:+0200
TZNAME:CEST
DTSTART:20200329T010000
END:DAYLIGHT
BEGIN:STANDARD
TZOFFSETFROM:+0200
TZOFFSETTO:+0100
TZNAME:CET
DTSTART:20201025T010000
END:STANDARD
BEGIN:DAYLIGHT
TZOFFSETFROM:+0100
TZOFFSETTO:+0200
TZNAME:CEST
DTSTART:20210328T010000
END:DAYLIGHT
BEGIN:STANDARD
TZOFFSETFROM:+0200
TZOFFSETTO:+0100
TZNAME:CET
DTSTART:20211031T010000
END:STANDARD
BEGIN:DAYLIGHT
TZOFFSETFROM:+0100
TZOFFSETTO:+0200
TZNAME:CEST
DTSTART:20220327T010000
END:DAYLIGHT
BEGIN:STANDARD
TZOFFSETFROM:+0200
TZOFFSETTO:+0100
TZNAME:CET
DTSTART:20221030T010000
END:STANDARD
BEGIN:DAYLIGHT
TZOFFSETFROM:+0100
TZOFFSETTO:+0200
TZNAME:CEST
DTSTART:20230326T010000
END:DAYLIGHT
BEGIN:STANDARD
TZOFFSETFROM:+0200
TZOFFSETTO:+0100
TZNAME:CET
DTSTART:20231029T010000
END:STANDARD
BEGIN:DAYLIGHT
TZOFFSETFROM:+0100
TZOFFSETTO:+0200
TZNAME:CEST
DTSTART:20240331T010000
END:DAYLIGHT
BEGIN:STANDARD
TZOFFSETFROM:+0200
TZOFFSETTO:+0100
TZNAME:CET
DTSTART:20241027T010000
END:STANDARD
BEGIN:DAYLIGHT
TZOFFSETFROM:+0100
TZOFFSETTO:+0200
TZNAME:CEST
DTSTART:20250330T010000
END:DAYLIGHT
BEGIN:STANDARD
TZOFFSETFROM:+0200
TZOFFSETTO:+0100
TZNAME:CET
DTSTART:20251026T010000
END:STANDARD
BEGIN:DAYLIGHT
TZOFFSETFROM:+0100
TZOFFSETTO:+0200
TZNAME:CEST
DTSTART:20260329T010000
END:DAYLIGHT
BEGIN:STANDARD
TZOFFSETFROM:+0200
TZOFFSETTO:+0100
TZNAME:CET
DTSTART:20261025T010000
END:STANDARD
BEGIN:DAYLIGHT
TZOFFSETFROM:+0100
TZOFFSETTO:+0200
TZNAME:CEST
DTSTART:20270328T010000
END:DAYLIGHT
BEGIN:STANDARD
TZOFFSETFROM:+0200
TZOFFSETTO:+0100
TZNAME:CET
DTSTART:20271031T010000
END:STANDARD
END:VTIMEZONE
BEGIN:VEVENT
DTSTART;TZID=Europe/Amsterdam:20260119T140000
DTEND;TZID=Europe/Amsterdam:20260119T190000
DTSTAMP:20260422T180555
CREATED:20251124T151735Z
LAST-MODIFIED:20251124T151735Z
UID:8352-1768831200-1768849200@www.de-oranje-man.nl
SUMMARY:Blue Monday Eenzame Ouderen Rotaryclub Doorn - De Binder Leersum Wilhelmus de Oranje man brengt een zonnetje
DESCRIPTION:Ook dit jaar worden de ouderen door de Rotary in de watten gelegd. Van heinde en ver worden ze opgehaald en naar de Sporthal gebracht waar ze worden verwend met heerlijke hapjes\, drankjes en activiteiten en gezellige Liedjes van Toen & Nu door troubadour – liedjeszanger Wilhelmus De Oranje Man \nTijdens deze muzikale activiteit zal Troubadour Wilhelmus De Oranje Man weer zorgen voor contact en plezier door het zingen en spelen van de vele bekende liedjes afgestemd op het aanwezige publiek. \nMaak met liedjes contact en plezier!\nWilhelmus de Oranje Man \nMuzikale reis door de tijd en feest van herkenning met Hollandse liedjes van Toen en nu!\nVeel ervaring\, plezier\, ruimte en geduld in de omgang met mensen met dementie\, alzheimer\, verstandelijk beperking\, psychiatrische beperking\, lichamelijke beperking. \nLive muziek optredens voor senioren en ouderen – Gezellige middag voor ouderen – gezelligheid voor ouderen – entertainment senioren en ouderen – Zanger eenzame ouderen en senioren
URL:https://www.de-oranje-man.nl/event/blue-monday-eenzame-ouderen-rotaryclub-doorn-de-binder-leersum-wilhelmus-de-oranje-man-brengt-een-zonnetje/
CATEGORIES:Blue Monday Rotary Wilhelmus De Oranje Man,Blue Monday Verwendag ouderen muziek rotary
ATTACH;FMTTYPE=image/png:https://www.de-oranje-man.nl/wp-content/uploads/2023/02/Wilhelmus-Hoekstra.png
END:VEVENT
BEGIN:VEVENT
DTSTART;TZID=Europe/Amsterdam:20250120T160000
DTEND;TZID=Europe/Amsterdam:20250120T190000
DTSTAMP:20260422T180555
CREATED:20241230T134710Z
LAST-MODIFIED:20241230T134710Z
UID:7951-1737388800-1737399600@www.de-oranje-man.nl
SUMMARY:Blue Monday Eenzame Ouderen Rotary Doorn Verwenmiddag Live Muziek Wilhelmus de Oranje Man - Leersum
DESCRIPTION:Ook dit jaar worden de ouderen door de Rotary in de watten gelegd. Van heinde en ver worden ze opgehaald en naar de Sporthal gebracht waar ze worden verwend met heerlijke hapjes\, drankjes en activiteiten en gezellige Liedjes van Toen & Nu door troubadour – liedjeszanger Wilhelmus De Oranje Man \nTijdens deze muzikale activiteit zal Troubadour Wilhelmus De Oranje Man weer zorgen voor contact en plezier door het zingen en spelen van de vele bekende liedjes afgestemd op het aanwezige publiek. \nMaak met liedjes contact en plezier!\nWilhelmus de Oranje Man \nMuzikale reis door de tijd en feest van herkenning met Hollandse liedjes van Toen en nu!\nVeel ervaring\, plezier\, ruimte en geduld in de omgang met mensen met dementie\, alzheimer\, verstandelijk beperking\, psychiatrische beperking\, lichamelijke beperking. \nLive muziek optredens voor senioren en ouderen – Gezellige middag voor ouderen – gezelligheid voor ouderen – entertainment senioren en ouderen – Zanger eenzame ouderen en senioren
URL:https://www.de-oranje-man.nl/event/blue-monday-eenzame-ouderen-rotary-doorn-verwenmiddag-live-muziek-wilhelmus-de-oranje-man-leersum/
CATEGORIES:Blue Monday Rotary Wilhelmus De Oranje Man,Blue Monday Verwendag ouderen muziek rotary
ATTACH;FMTTYPE=image/jpeg:https://www.de-oranje-man.nl/wp-content/uploads/2024/02/zanger-ouderen-dementie-beperking-.jpg
END:VEVENT
BEGIN:VEVENT
DTSTART;TZID=Europe/Amsterdam:20200120T160000
DTEND;TZID=Europe/Amsterdam:20200120T200000
DTSTAMP:20260422T180555
CREATED:20190911T070414Z
LAST-MODIFIED:20190911T070414Z
UID:4689-1579536000-1579550400@www.de-oranje-man.nl
SUMMARY:Blue Monday Verwendag Ouderen Rotary Doorn - Wilhelmus De Oranje Man - De Binder - maandag 20 januari 2020
DESCRIPTION:Ca. 175 ouderen zullen weer op vele manieren door de Rotary Doorn in de watten worden gelegd.\nTijdens deze muzikale feestmiddag/avond zal Troubadour Wilhelmus De Oranje Man weer zorgen voor contact en plezier door het samen zingen en spelen van de vele bekende liedjes. \nMaak met liedjes contact en plezier!\nWilhelmus de Oranje Man \nMuzikale reis door de tijd en feest van herkenning met Hollandse liedjes van Toen en nu!\nVeel ervaring\, plezier\, ruimte en geduld in de omgang met mensen met dementie\, alzheimer\, verstandelijk beperking\, lichamelijke beperking.
URL:https://www.de-oranje-man.nl/event/blue-monday-verwendag-ouderen-rotary-doorn-wilhelmus-de-oranje-man-de-binder-maandag-20-januari-2020/
CATEGORIES:Blue Monday Rotary Wilhelmus De Oranje Man
ATTACH;FMTTYPE=image/jpeg:https://www.de-oranje-man.nl/wp-content/uploads/2016/02/De-Oranje-Man-Blue-Monday-Rotary-Doorn-2016-03.jpg
END:VEVENT
BEGIN:VEVENT
DTSTART;TZID=Europe/Amsterdam:20200120T160000
DTEND;TZID=Europe/Amsterdam:20200120T190000
DTSTAMP:20260422T180555
CREATED:20190122T100443Z
LAST-MODIFIED:20190122T100443Z
UID:4184-1579536000-1579546800@www.de-oranje-man.nl
SUMMARY:Blue Monday Rotary Doorn - Wilhelmus De Oranje Man De Binder Leersum ma 20-1-2020
DESCRIPTION:Ca. 150 senioren/ouderen zullen weer op vele manieren door de Rotary Club Doorn in de watten worden gelegd.\nTijdens deze muzikale feestmiddag/avond zal Troubadour Wilhelmus De Oranje Man weer zorgen voor contact en plezier door het samen zingen en spelen van de vele bekende liedjes. \nMaak met liedjes contact en plezier!\nWilhelmus de Oranje Man \nMuzikale reis door de tijd en feest van herkenning met Hollandse liedjes van Toen en nu!\nVeel ervaring\, plezier\, ruimte en geduld in de omgang met mensen met dementie\, alzheimer\, verstandelijk beperking\, lichamelijke beperking.
URL:https://www.de-oranje-man.nl/event/blue-monday-rotary-doorn-wilhelmus-de-oranje-man-de-binder-leersum-ma-20-1-2020/
CATEGORIES:Blue Monday Rotary Wilhelmus De Oranje Man
ATTACH;FMTTYPE=image/jpeg:https://www.de-oranje-man.nl/wp-content/uploads/2016/02/De-Oranje-Man-Blue-Monday-Rotary-Doorn-2016-03.jpg
END:VEVENT
END:VCALENDAR