BEGIN:VCALENDAR
VERSION:2.0
PRODID:-//Wilhelmus de Oranje Man - ECPv6.15.19//NONSGML v1.0//EN
CALSCALE:GREGORIAN
METHOD:PUBLISH
X-WR-CALNAME:Wilhelmus de Oranje Man
X-ORIGINAL-URL:https://www.de-oranje-man.nl
X-WR-CALDESC:Evenementen voor Wilhelmus de Oranje Man
REFRESH-INTERVAL;VALUE=DURATION:PT1H
X-Robots-Tag:noindex
X-PUBLISHED-TTL:PT1H
BEGIN:VTIMEZONE
TZID:Europe/Amsterdam
BEGIN:DAYLIGHT
TZOFFSETFROM:+0100
TZOFFSETTO:+0200
TZNAME:CEST
DTSTART:20240331T010000
END:DAYLIGHT
BEGIN:STANDARD
TZOFFSETFROM:+0200
TZOFFSETTO:+0100
TZNAME:CET
DTSTART:20241027T010000
END:STANDARD
BEGIN:DAYLIGHT
TZOFFSETFROM:+0100
TZOFFSETTO:+0200
TZNAME:CEST
DTSTART:20250330T010000
END:DAYLIGHT
BEGIN:STANDARD
TZOFFSETFROM:+0200
TZOFFSETTO:+0100
TZNAME:CET
DTSTART:20251026T010000
END:STANDARD
BEGIN:DAYLIGHT
TZOFFSETFROM:+0100
TZOFFSETTO:+0200
TZNAME:CEST
DTSTART:20260329T010000
END:DAYLIGHT
BEGIN:STANDARD
TZOFFSETFROM:+0200
TZOFFSETTO:+0100
TZNAME:CET
DTSTART:20261025T010000
END:STANDARD
END:VTIMEZONE
BEGIN:VEVENT
DTSTART;TZID=Europe/Amsterdam:20250908T143000
DTEND;TZID=Europe/Amsterdam:20250908T153000
DTSTAMP:20260420T063320
CREATED:20250730T071139Z
LAST-MODIFIED:20250730T071139Z
UID:8203-1757341800-1757345400@www.de-oranje-man.nl
SUMMARY:Kennemerhart Woongroep Live Muziek Wilhelmus de Oranje Man door bewindvoerder client
DESCRIPTION:Liedjes van Toen & Nu door gitarist zanger Wilhelmus De Oranje Man\nHeerlijk conmtact en spelen zingen op de woongroep – mogelijk gemaakt door bewindvoerder Client. \nTijdens deze muzikale activiteit zal Troubadour / Senioren muzikant Wilhelmus De Oranje Man weer zorgen voor contact en plezier door het zingen en spelen van de vele bekende liedjes afgestemd op het aanwezige publiek. \nMaak met liedjes contact en plezier!\nWilhelmus de Oranje Man \n \nMuzikale reis door de tijd en feest van herkenning met Hollandse liedjes van Toen en nu!\nVeel ervaring\, plezier\, ruimte en geduld in de omgang met mensen met dementie\, alzheimer\, verstandelijk beperking\, psychiatrische beperking\, lichamelijke beperking. \nLive muziek optredens voor senioren en ouderen – Liedjesbingo – Meezingconcert senioren meezingconcert ouderen – Gezellige middag voor ouderen – gezelligheid voor ouderen – entertainment senioren en ouderen – Zanger eenzame ouderen en senioren
URL:https://www.de-oranje-man.nl/event/kennemerhart-woongroep-live-muziek-wilhelmus-de-oranje-man-door-bewindvoerder-client/
CATEGORIES:bewindvoerder client live muziek woongroep
ATTACH;FMTTYPE=image/jpeg:https://www.de-oranje-man.nl/wp-content/uploads/2024/02/zanger-ouderen-dementie-beperking-.jpg
END:VEVENT
BEGIN:VEVENT
DTSTART;TZID=Europe/Amsterdam:20250504T140000
DTEND;TZID=Europe/Amsterdam:20250504T150000
DTSTAMP:20260420T063320
CREATED:20250115T080819Z
LAST-MODIFIED:20250115T080819Z
UID:7977-1746367200-1746370800@www.de-oranje-man.nl
SUMMARY:Verjaardag client woongroep beperking Ipse de Bruggen Zwammerdam - live muziek Wilhelmus de Oranje man
DESCRIPTION:Liedjes van Toen & Nu door gitarist zanger Wilhelmus De Oranje Man\nVerjaardag client woongroep beperking Ipse de Bruggen Zwammerdam – live muziek Wilhelmus de Oranje man \nTijdens deze muzikale activiteit zal Troubadour / Senioren muzikant Wilhelmus De Oranje Man weer zorgen voor contact en plezier door het zingen en spelen van de vele bekende liedjes afgestemd op het aanwezige publiek. \nMaak met liedjes contact en plezier!\nWilhelmus de Oranje Man \n \nMuzikale reis door de tijd en feest van herkenning met Hollandse liedjes van Toen en nu!\nVeel ervaring\, plezier\, ruimte en geduld in de omgang met mensen met dementie\, alzheimer\, verstandelijk beperking\, psychiatrische beperking\, lichamelijke beperking. \nLive muziek optredens voor senioren en ouderen – Liedjesbingo – Meezingconcert senioren meezingconcert ouderen – Gezellige middag voor ouderen – gezelligheid voor ouderen – entertainment senioren en ouderen – Zanger eenzame ouderen en senioren
URL:https://www.de-oranje-man.nl/event/verjaardag-client-woongroep-beperking-ipse-de-bruggen-zwammerdam-live-muziek-wilhelmus-de-oranje-man/
CATEGORIES:verjaardag client woongroep beperking live muziek
ATTACH;FMTTYPE=image/png:https://www.de-oranje-man.nl/wp-content/uploads/2021/09/Hiep-Hiep-Hoera-Wilhelmus-de-Oranje-Man.png
END:VEVENT
BEGIN:VEVENT
DTSTART;TZID=Europe/Amsterdam:20250312T140000
DTEND;TZID=Europe/Amsterdam:20250312T160000
DTSTAMP:20260420T063320
CREATED:20250311T075450Z
LAST-MODIFIED:20250311T075603Z
UID:8044-1741788000-1741795200@www.de-oranje-man.nl
SUMMARY:Dagbesteding Clienten Verjaardag Aad 80 Muziek Wilhelmus de Oranje Man Ipse de Bruggen
DESCRIPTION:Samen zingen kent geen beperking!\nIpse de Bruggen – Muziek met clienten op de dagbesteding ivm 80 ste verjaardagsfeest Aad – Wilhelmus de Oranje Man\nTijdens deze muzikale activiteit zal Troubadour Wilhelmus De Oranje Man weer zorgen voor contact en plezier door het zingen en spelen van de vele bekende liedjes afgestemd op de bewoners\, cliënten\, personeel en familie. \nLuister op spotify zijn nieuwe cd “De Gelukkeling” met o.a.\nStel je voor er is een wereld zonder beperking – https://open.spotify.com/track/5gCu6xyHPYEjOvKNtvbgf9?si=a734037378724dcf\nBekijk t leven van de zonnige kant – https://open.spotify.com/track/7E4YrI9IGinyYY0lvvs6Ap?si=8a7f3c09f6a54cda \nMaak met liedjes contact en plezier!\nWilhelmus de Oranje Man \nMuzikale reis door de tijd en feest van herkenning met Hollandse liedjes van Toen en nu!\nVeel ervaring\, plezier\, ruimte en geduld in de omgang met mensen met dementie\, alzheimer\, verstandelijk beperking\, psychiatrische beperking\, lichamelijke beperking.
URL:https://www.de-oranje-man.nl/event/dagbesteding-clienten-verjaardag-aad-80-muziek-wilhelmus-de-oranje-man-ipse-de-bruggen/
CATEGORIES:verjaardagsfeest client dagbesteding live muziek 80 jaar
ATTACH;FMTTYPE=image/png:https://www.de-oranje-man.nl/wp-content/uploads/2023/02/Wilhelmus-Hoekstra.png
END:VEVENT
BEGIN:VEVENT
DTSTART;TZID=Europe/Amsterdam:20250129T140000
DTEND;TZID=Europe/Amsterdam:20250129T150000
DTSTAMP:20260420T063320
CREATED:20241216T092829Z
LAST-MODIFIED:20250114T093726Z
UID:7920-1738159200-1738162800@www.de-oranje-man.nl
SUMMARY:Liedjes voor op de woongroep Kennemerhart Overspaarne - Wilhelmus de Oranje Man
DESCRIPTION:Liedjes van Toen & Nu door gitarist zanger Wilhelmus De Oranje Man\nHeerlijk conmtact en spelen zingen op de woongroep – mogelijk gemaakt door bewindvoerder Client. \nTijdens deze muzikale activiteit zal Troubadour / Senioren muzikant Wilhelmus De Oranje Man weer zorgen voor contact en plezier door het zingen en spelen van de vele bekende liedjes afgestemd op het aanwezige publiek. \nMaak met liedjes contact en plezier!\nWilhelmus de Oranje Man \n \nMuzikale reis door de tijd en feest van herkenning met Hollandse liedjes van Toen en nu!\nVeel ervaring\, plezier\, ruimte en geduld in de omgang met mensen met dementie\, alzheimer\, verstandelijk beperking\, psychiatrische beperking\, lichamelijke beperking. \nLive muziek optredens voor senioren en ouderen – Liedjesbingo – Meezingconcert senioren meezingconcert ouderen – Gezellige middag voor ouderen – gezelligheid voor ouderen – entertainment senioren en ouderen – Zanger eenzame ouderen en senioren
URL:https://www.de-oranje-man.nl/event/liedjes-voor-op-de-woongroep-kennemerhart-overspaarne-wilhelmus-de-oranje-man/
CATEGORIES:muziek woongroep bewindvoerder client
ATTACH;FMTTYPE=image/png:https://www.de-oranje-man.nl/wp-content/uploads/2023/02/Wilhelmus-Hoekstra.png
END:VEVENT
END:VCALENDAR