BEGIN:VCALENDAR
VERSION:2.0
PRODID:-//Wilhelmus de Oranje Man - ECPv6.15.19//NONSGML v1.0//EN
CALSCALE:GREGORIAN
METHOD:PUBLISH
X-WR-CALNAME:Wilhelmus de Oranje Man
X-ORIGINAL-URL:https://www.de-oranje-man.nl
X-WR-CALDESC:Evenementen voor Wilhelmus de Oranje Man
REFRESH-INTERVAL;VALUE=DURATION:PT1H
X-Robots-Tag:noindex
X-PUBLISHED-TTL:PT1H
BEGIN:VTIMEZONE
TZID:Europe/Amsterdam
BEGIN:DAYLIGHT
TZOFFSETFROM:+0100
TZOFFSETTO:+0200
TZNAME:CEST
DTSTART:20160327T010000
END:DAYLIGHT
BEGIN:STANDARD
TZOFFSETFROM:+0200
TZOFFSETTO:+0100
TZNAME:CET
DTSTART:20161030T010000
END:STANDARD
BEGIN:DAYLIGHT
TZOFFSETFROM:+0100
TZOFFSETTO:+0200
TZNAME:CEST
DTSTART:20170326T010000
END:DAYLIGHT
BEGIN:STANDARD
TZOFFSETFROM:+0200
TZOFFSETTO:+0100
TZNAME:CET
DTSTART:20171029T010000
END:STANDARD
BEGIN:DAYLIGHT
TZOFFSETFROM:+0100
TZOFFSETTO:+0200
TZNAME:CEST
DTSTART:20180325T010000
END:DAYLIGHT
BEGIN:STANDARD
TZOFFSETFROM:+0200
TZOFFSETTO:+0100
TZNAME:CET
DTSTART:20181028T010000
END:STANDARD
BEGIN:DAYLIGHT
TZOFFSETFROM:+0100
TZOFFSETTO:+0200
TZNAME:CEST
DTSTART:20190331T010000
END:DAYLIGHT
BEGIN:STANDARD
TZOFFSETFROM:+0200
TZOFFSETTO:+0100
TZNAME:CET
DTSTART:20191027T010000
END:STANDARD
BEGIN:DAYLIGHT
TZOFFSETFROM:+0100
TZOFFSETTO:+0200
TZNAME:CEST
DTSTART:20200329T010000
END:DAYLIGHT
BEGIN:STANDARD
TZOFFSETFROM:+0200
TZOFFSETTO:+0100
TZNAME:CET
DTSTART:20201025T010000
END:STANDARD
END:VTIMEZONE
BEGIN:VEVENT
DTSTART;TZID=Europe/Amsterdam:20191207T120000
DTEND;TZID=Europe/Amsterdam:20191207T160000
DTSTAMP:20260421T070705
CREATED:20190729T090519Z
LAST-MODIFIED:20190729T090519Z
UID:4603-1575720000-1575734400@www.de-oranje-man.nl
SUMMARY:European Patent Office - Amicale Christmas Party - De Uithof Clown Snorre - za 7 december 2019
DESCRIPTION:Entertainment op maat – Muzikale Show Familieshow – Lekker brullen met Clown Snorre \nZeer interactieve muzikale show en entertainment op maat tijdens Epo Amicale Christmas Party in de Uithof van de meest serieuze clown van Nederland! (maar met wel heel veel plezier :0)) \nVoor meer info zie: www.clownsnorre.nl
URL:https://www.de-oranje-man.nl/event/european-patent-office-amicale-christmas-party-de-uithof-clown-snorre-za-7-december-2019/
CATEGORIES:clown christmas party
ATTACH;FMTTYPE=image/jpeg:https://www.de-oranje-man.nl/wp-content/uploads/2017/03/clown-snorre-kindershow-04.jpg
END:VEVENT
BEGIN:VEVENT
DTSTART;TZID=Europe/Amsterdam:20181208T120000
DTEND;TZID=Europe/Amsterdam:20181208T160000
DTSTAMP:20260421T070705
CREATED:20181114T100704Z
LAST-MODIFIED:20181114T100704Z
UID:4126-1544270400-1544284800@www.de-oranje-man.nl
SUMMARY:Epo Amicale Christmas Party - De Uithof Den Haag Clown Snorre za 8-12-18
DESCRIPTION:Entertainment op maat – Muzikale Show Familieshow – Lekker brullen met Clown Snorre  \nZeer interactieve muzikale show en entertainment op maat tijdens Epo Amicale Christmas Party in de Uithof van de meest serieuze clown van Nederland! (maar met wel heel veel plezier :0)) \nVoor meer info zie: www.clownsnorre.nl
URL:https://www.de-oranje-man.nl/event/epo-amicale-christmas-party-de-uithof-den-haag-clown-snorre-za-8-12-18/
ATTACH;FMTTYPE=image/jpeg:https://www.de-oranje-man.nl/wp-content/uploads/2017/03/clown-snorre-kindershow-04.jpg
END:VEVENT
BEGIN:VEVENT
DTSTART;TZID=Europe/Amsterdam:20171209T120000
DTEND;TZID=Europe/Amsterdam:20171209T160000
DTSTAMP:20260421T070705
CREATED:20171030T135446Z
LAST-MODIFIED:20171030T135446Z
UID:3602-1512820800-1512835200@www.de-oranje-man.nl
SUMMARY:Amicale Christmas Party - EPO - De Uithof Den Haag - Clown Snorre
DESCRIPTION:Muzikale Clown Snorre zal ook dit jaar weer tijdens de Amicale EPO Christmas Party kinderen en ouders muzikaal vermaken met liedjes\, minifietsje en gewoon door er te zijn!\nVoor meer info zie . www.clownsnorre.nl
URL:https://www.de-oranje-man.nl/event/amicale-christmas-party-epo-uithof-haag-clown-snorre/
ATTACH;FMTTYPE=image/jpeg:https://www.de-oranje-man.nl/wp-content/uploads/2017/03/clown-snorre-kindershow-04.jpg
END:VEVENT
END:VCALENDAR