BEGIN:VCALENDAR
VERSION:2.0
PRODID:-//Wilhelmus de Oranje Man - ECPv6.15.19//NONSGML v1.0//EN
CALSCALE:GREGORIAN
METHOD:PUBLISH
X-WR-CALNAME:Wilhelmus de Oranje Man
X-ORIGINAL-URL:https://www.de-oranje-man.nl
X-WR-CALDESC:Evenementen voor Wilhelmus de Oranje Man
REFRESH-INTERVAL;VALUE=DURATION:PT1H
X-Robots-Tag:noindex
X-PUBLISHED-TTL:PT1H
BEGIN:VTIMEZONE
TZID:Europe/Amsterdam
BEGIN:DAYLIGHT
TZOFFSETFROM:+0100
TZOFFSETTO:+0200
TZNAME:CEST
DTSTART:20210328T010000
END:DAYLIGHT
BEGIN:STANDARD
TZOFFSETFROM:+0200
TZOFFSETTO:+0100
TZNAME:CET
DTSTART:20211031T010000
END:STANDARD
BEGIN:DAYLIGHT
TZOFFSETFROM:+0100
TZOFFSETTO:+0200
TZNAME:CEST
DTSTART:20220327T010000
END:DAYLIGHT
BEGIN:STANDARD
TZOFFSETFROM:+0200
TZOFFSETTO:+0100
TZNAME:CET
DTSTART:20221030T010000
END:STANDARD
BEGIN:DAYLIGHT
TZOFFSETFROM:+0100
TZOFFSETTO:+0200
TZNAME:CEST
DTSTART:20230326T010000
END:DAYLIGHT
BEGIN:STANDARD
TZOFFSETFROM:+0200
TZOFFSETTO:+0100
TZNAME:CET
DTSTART:20231029T010000
END:STANDARD
END:VTIMEZONE
BEGIN:VEVENT
DTSTART;TZID=Europe/Amsterdam:20221108T110000
DTEND;TZID=Europe/Amsterdam:20221108T120000
DTSTAMP:20260424T115613
CREATED:20221021T070306Z
LAST-MODIFIED:20221021T070306Z
UID:6686-1667905200-1667908800@www.de-oranje-man.nl
SUMMARY:3 Generatiecentrum Kanaleneiland Live Muziek Wilhelmus de Oranje man - di 8 nov 22 Utrecht
DESCRIPTION:Gezellige bijeenkomst voor senioren Liedjes van Toen & Nu door troubadour – liedjeszanger Wilhelmus De Oranje Man \nOptredens omgezet naar mobiel buiten optreden met speciale mobiele versterker en accu. \nDoor middel van zijn unieke “mobiele versterker” volledig draadloos met zenders is Wilhelmus direct speelklaar zonder snoeren waar mensen over kunnen struikelen.\nOp deze manier kan hij in elke ruimte tuin/ binnentuin / straat toch licht versterkt optreden zodat zang en gitaar duidelijk overkomen maar niet te hard. \nTijdens deze muzikale activiteit zal Troubadour Wilhelmus De Oranje Man weer zorgen voor contact en plezier door het zingen en spelen van de vele bekende liedjes afgestemd op het aanwezige publiek. \nMaak met liedjes contact en plezier!\nWilhelmus de Oranje Man \nMuzikale reis door de tijd en feest van herkenning met Hollandse liedjes van Toen en nu!\nVeel ervaring\, plezier\, ruimte en geduld in de omgang met mensen met dementie\, alzheimer\, verstandelijk beperking\, psychiatrische beperking\, lichamelijke beperking. \nLive muziek optredens voor senioren en ouderen – Gezellige middag voor ouderen – gezelligheid voor ouderen – entertainment senioren en ouderen – Zanger eenzame ouderen en senioren
URL:https://www.de-oranje-man.nl/event/3-generatiecentrum-kanaleneiland-live-muziek-wilhelmus-de-oranje-man-di-8-nov-22-utrecht/
CATEGORIES:3 Generatiecentrum Kanaleneiland
ATTACH;FMTTYPE=image/jpeg:https://www.de-oranje-man.nl/wp-content/uploads/2021/09/Wilhelmus-de-Oranje-Man-De-Gelukkeling-04-1.jpg
END:VEVENT
BEGIN:VEVENT
DTSTART;TZID=Europe/Amsterdam:20221101T140000
DTEND;TZID=Europe/Amsterdam:20221101T160000
DTSTAMP:20260424T115613
CREATED:20221021T064713Z
LAST-MODIFIED:20221021T064713Z
UID:6684-1667311200-1667318400@www.de-oranje-man.nl
SUMMARY:Liedjesbingo Buurtkamer de Klop Live Muziekbingo Wilhelmus de Oranje Man - di 1-11-22 Utrecht
DESCRIPTION:De LiedjesBINGO Live Muziekbingo in Buurtkamer de Klop\nAllemaal verschillende LiedjesBINGO kaarten met daarop de titels van veel Nederlandstalige nummers en een paar Engelstalige klassiekers.\nIk speel de liedjes en de mensen strepen ze af op de Bingo Kaarten.\nBij volle rij BINGO! en een prijsje. \nErg leuk en een heerlijke ontspannen manier om contact te maken. Omdat mensen samen met buurvrouw\, buurman of vrijwilliger dit kunnen spelen en er altijd gespreksstof is n.a.v. de nummers op de kaarten. \nIk kan het zelf in goede banen leiden. Dus als mensen nog bijna geen kruisje op de kaart hebben speel ik dan een nummer van hun kaart of als er een prijs uit moet speel ik het ontbrekende nummer.\nOok kunnen de mensen vanaf de kaart verzoeknummers aanvragen.\nZo wordt het een heerlijk interactief gebeuren \n“Dankjewel Wilhelmus De Oranje Man voor de mooie middag. Het blijft een feest om te zien hoe jij de bewoners met respect\, humor en enthousiasme meeneemt in het muzikale bingospel. Iedereen geniet! Zelfs na jouw vertrek zingen de bewoners nog de liedjes van de kaart. Echt geweldig!” februari 2020 Jacqueline Sturkenboom Beschermd wonen – Lieven de Key Utrecht \nDe Oranje Man LiedjesBINGO\n* Geschikt voor groepen van 15 tot 150 mensen.\n* Tijdsduur: 2 sets met korte pauze totaal ca. 90 minuten.\n* Elke kaart is verschillend\n* Eventuele verzoeknummers op maat toe te voegen\n* Thema van de dag of slogan van bedrijf als speciale editie op kaart mee te printen\n* Voor voldoende Oranje Man Bingo pennen wordt gezorgd\n* Ca. 13 Prijzen in overleg zelf of door de Oranje Man geregeld.
URL:https://www.de-oranje-man.nl/event/liedjesbingo-buurtkamer-de-klop-live-muziekbingo-wilhelmus-de-oranje-man-di-1-11-22-utrecht/
CATEGORIES:Live muziekbingo liedjesbingo
ATTACH;FMTTYPE=image/jpeg:https://www.de-oranje-man.nl/wp-content/uploads/2020/01/Wilhelmus-de-oranje-man-08-de-liedjesbingo-verzorgingstehuis-troubadour.jpg
END:VEVENT
END:VCALENDAR