BEGIN:VCALENDAR
VERSION:2.0
PRODID:-//Wilhelmus de Oranje Man - ECPv6.15.19//NONSGML v1.0//EN
CALSCALE:GREGORIAN
METHOD:PUBLISH
X-WR-CALNAME:Wilhelmus de Oranje Man
X-ORIGINAL-URL:https://www.de-oranje-man.nl
X-WR-CALDESC:Evenementen voor Wilhelmus de Oranje Man
REFRESH-INTERVAL;VALUE=DURATION:PT1H
X-Robots-Tag:noindex
X-PUBLISHED-TTL:PT1H
BEGIN:VTIMEZONE
TZID:Europe/Amsterdam
BEGIN:DAYLIGHT
TZOFFSETFROM:+0100
TZOFFSETTO:+0200
TZNAME:CEST
DTSTART:20210328T010000
END:DAYLIGHT
BEGIN:STANDARD
TZOFFSETFROM:+0200
TZOFFSETTO:+0100
TZNAME:CET
DTSTART:20211031T010000
END:STANDARD
BEGIN:DAYLIGHT
TZOFFSETFROM:+0100
TZOFFSETTO:+0200
TZNAME:CEST
DTSTART:20220327T010000
END:DAYLIGHT
BEGIN:STANDARD
TZOFFSETFROM:+0200
TZOFFSETTO:+0100
TZNAME:CET
DTSTART:20221030T010000
END:STANDARD
BEGIN:DAYLIGHT
TZOFFSETFROM:+0100
TZOFFSETTO:+0200
TZNAME:CEST
DTSTART:20230326T010000
END:DAYLIGHT
BEGIN:STANDARD
TZOFFSETFROM:+0200
TZOFFSETTO:+0100
TZNAME:CET
DTSTART:20231029T010000
END:STANDARD
END:VTIMEZONE
BEGIN:VEVENT
DTSTART;TZID=Europe/Amsterdam:20220630T160000
DTEND;TZID=Europe/Amsterdam:20220630T180000
DTSTAMP:20260422T220014
CREATED:20220509T134241Z
LAST-MODIFIED:20220509T134241Z
UID:6480-1656604800-1656612000@www.de-oranje-man.nl
SUMMARY:Bedrijfs BBQ Made in Holland thema Wilhelmus de Oranje Man - Fort Altena Werkendam - do 30 juni 2022
DESCRIPTION:Liedjes van Toen & Nu door troubadour – liedjeszanger Wilhelmus De Oranje Man \nBedrijfsfeest BBQ – Made in Holland – feest van herkenning en contact met liedjes.\nOptreden mobiel optreden binnentuin met speciale mobiele versterker en accu. \nSpeciale verzoeknummer post-its en liedjeslijsten \nDoor middel van zijn unieke “gitaarkruk versterker” volledig draadloos met zenders is Wilhelmus direct speelklaar zonder snoeren waar mensen over kunnen struikelen. Op deze manier kan hij buiten  toch licht versterkt optreden zodat zang en gitaar duidelijk overkomen maar niet te hard. \nTijdens deze muzikale activiteit zal Troubadour Wilhelmus De Oranje Man weer zorgen voor contact en plezier door het zingen en spelen van de vele bekende liedjes afgestemd op het aanwezige publiek. \nMaak met liedjes contact en plezier!\nWilhelmus de Oranje Man \nMuzikale reis door de tijd en feest van herkenning met Hollandse liedjes van Toen en nu!\nVeel ervaring\, plezier\, ruimte en geduld in de omgang met mensen met dementie\, alzheimer\, verstandelijk beperking\, psychiatrische beperking\, lichamelijke beperking.
URL:https://www.de-oranje-man.nl/event/bedrijfs-bbq-made-in-holland-thema-wilhelmus-de-oranje-man-fort-altena-werkendam-do-30-juni-2022/
CATEGORIES:bedrijfs bbq made in holland thema
ATTACH;FMTTYPE=image/jpeg:https://www.de-oranje-man.nl/wp-content/uploads/2020/01/post-it-wilhelmus-de-oranje-man-gitaar-verzoeknummers.jpg
END:VEVENT
END:VCALENDAR