BEGIN:VCALENDAR
VERSION:2.0
PRODID:-//Wilhelmus de Oranje Man - ECPv6.15.19//NONSGML v1.0//EN
CALSCALE:GREGORIAN
METHOD:PUBLISH
X-ORIGINAL-URL:https://www.de-oranje-man.nl
X-WR-CALDESC:Evenementen voor Wilhelmus de Oranje Man
REFRESH-INTERVAL;VALUE=DURATION:PT1H
X-Robots-Tag:noindex
X-PUBLISHED-TTL:PT1H
BEGIN:VTIMEZONE
TZID:Europe/Amsterdam
BEGIN:DAYLIGHT
TZOFFSETFROM:+0100
TZOFFSETTO:+0200
TZNAME:CEST
DTSTART:20160327T010000
END:DAYLIGHT
BEGIN:STANDARD
TZOFFSETFROM:+0200
TZOFFSETTO:+0100
TZNAME:CET
DTSTART:20161030T010000
END:STANDARD
BEGIN:DAYLIGHT
TZOFFSETFROM:+0100
TZOFFSETTO:+0200
TZNAME:CEST
DTSTART:20170326T010000
END:DAYLIGHT
BEGIN:STANDARD
TZOFFSETFROM:+0200
TZOFFSETTO:+0100
TZNAME:CET
DTSTART:20171029T010000
END:STANDARD
BEGIN:DAYLIGHT
TZOFFSETFROM:+0100
TZOFFSETTO:+0200
TZNAME:CEST
DTSTART:20180325T010000
END:DAYLIGHT
BEGIN:STANDARD
TZOFFSETFROM:+0200
TZOFFSETTO:+0100
TZNAME:CET
DTSTART:20181028T010000
END:STANDARD
BEGIN:DAYLIGHT
TZOFFSETFROM:+0100
TZOFFSETTO:+0200
TZNAME:CEST
DTSTART:20190331T010000
END:DAYLIGHT
BEGIN:STANDARD
TZOFFSETFROM:+0200
TZOFFSETTO:+0100
TZNAME:CET
DTSTART:20191027T010000
END:STANDARD
BEGIN:DAYLIGHT
TZOFFSETFROM:+0100
TZOFFSETTO:+0200
TZNAME:CEST
DTSTART:20200329T010000
END:DAYLIGHT
BEGIN:STANDARD
TZOFFSETFROM:+0200
TZOFFSETTO:+0100
TZNAME:CET
DTSTART:20201025T010000
END:STANDARD
END:VTIMEZONE
BEGIN:VEVENT
DTSTART;TZID=Europe/Amsterdam:20190829T141500
DTEND;TZID=Europe/Amsterdam:20190829T153000
DTSTAMP:20260422T104852
CREATED:20190717T133309Z
LAST-MODIFIED:20190717T133309Z
UID:4598-1567088100-1567092600@www.de-oranje-man.nl
SUMMARY:Kindervakantieweek VOVH Vleuten Clown Snorre Muzikale interactieve Kindershow do 29 augustus 2019
DESCRIPTION:Kindershow Clown SNØRRE\nKindervakantieweek VOVH Vleuten Clown Snorre Muzikale interactieve Kindershow do 29 augustus 2019\nVakantietip: Luister nu ook de liedjes van Clown SNORRE op Spotify! Nieuw 2019 \nHet is feest en SNØRRE is gevraagd dit speciale moment nog meer op te vrolijken. Maar is hij wel de beste zanger van Nederland en eet hij nou echt zelf al die spekjes op? Hoe weet SNØRRE zich hier uit te redden?\nDe tijd vliegt voorbij met dit lekker\, leuk & gek muzikaal kinderprogramma.\nZowel jong als oud kunnen zich uitleven\, uit volle borst meezingen met de div. liedjes\, meedoen met de verschillende acts en zich na afloop nog steeds afvragen waar die brandende spekjes nou ineens vandaan kwamen?\nSNØRRE’s kindershow is een fantastische voorstelling gericht op kinderen in de basisschool leeftijd\, leuk voor de hele familie en iedereen met een jonge geest. Tijdens de kindershow worden er liedjes gezongen\, wordt er gegoocheld\, vol enthousiasme live muziek gemaakt en is er veel interactie.\nSNØRRE stemt zijn voorstellingen af op het niveau en de belevingswereld van de aanwezige kinderen. Zodat zowel kinderen van de onderbouw als de bovenbouw uitgedaagd worden.\nTijdsduur: 60 minuten per voorstelling\nInclusief: Geluidsinstallatie\, decor en kleurplaten\nBonus: Na afloop verzorgt Clown SNØRRE een handtekeningensessie inclusief gratis fotokaarten en mag iedereen met hem op de foto!\nVoor verdere info\, recensies\, foto’s en filmpjes zie de site www.clownsnorre.nl\nClown SNØRRE\nClown Snorre heeft een grote voorliefde (en heel veel ervaring) voor optredens voor en met mensen met een beperking
URL:https://www.de-oranje-man.nl/event/kindervakantieweek-vovh-vleuten-clown-snorre-muzikale-interactieve-kindershow-do-29-augustus-2019/
CATEGORIES:Kindervakantieweek Clown
ATTACH;FMTTYPE=image/jpeg:https://www.de-oranje-man.nl/wp-content/uploads/2017/03/clown-snorre-kindershow-04.jpg
END:VEVENT
BEGIN:VEVENT
DTSTART;TZID=Europe/Amsterdam:20190717T103000
DTEND;TZID=Europe/Amsterdam:20190717T113000
DTSTAMP:20260422T104852
CREATED:20190619T073750Z
LAST-MODIFIED:20190619T073750Z
UID:4553-1563359400-1563363000@www.de-oranje-man.nl
SUMMARY:Basisschool 25 jaar Jubileumfeest Clown Snorre Muzikale interactieve Kindershow De Tweeklank wo 17 juli 2019
DESCRIPTION:Kindershow Clown SNØRRE\nBasisschool 25 jaar Jubileumfeest Clown Snorre Muzikale interactieve Kindershow De Tweeklank wo 17 juli 2019 \nHet is feest en SNØRRE is gevraagd dit speciale moment nog meer op te vrolijken. Maar is hij wel de beste zanger van Nederland en eet hij nou echt zelf al die spekjes op? Hoe weet SNØRRE zich hier uit te redden?\nDe tijd vliegt voorbij met dit lekker\, leuk & gek muzikaal kinderprogramma.\nZowel jong als oud kunnen zich uitleven\, uit volle borst meezingen met de div. liedjes\, meedoen met de verschillende acts en zich na afloop nog steeds afvragen waar die brandende spekjes nou ineens vandaan kwamen?\nSNØRRE’s kindershow is een fantastische voorstelling gericht op kinderen in de basisschool leeftijd\, leuk voor de hele familie en iedereen met een jonge geest. Tijdens de kindershow worden er liedjes gezongen\, wordt er gegoocheld\, vol enthousiasme live muziek gemaakt en is er veel interactie.\nSNØRRE stemt zijn voorstellingen af op het niveau en de belevingswereld van de aanwezige kinderen. Zodat zowel kinderen van de onderbouw als de bovenbouw uitgedaagd worden.\nTijdsduur: 60 minuten per voorstelling\nInclusief: Geluidsinstallatie\, decor en kleurplaten\nBonus: Na afloop verzorgt Clown SNØRRE een handtekeningensessie inclusief gratis fotokaarten en mag iedereen met hem op de foto!\nVoor verdere info\, recensies\, foto’s en filmpjes zie de site www.clownsnorre.nl\nClown SNØRRE\nClown Snorre heeft een grote voorliefde (en heel veel ervaring) voor optredens voor en met mensen met een beperking
URL:https://www.de-oranje-man.nl/event/basisschool-25-jaar-jubileumfeest-clown-snorre-muzikale-interactieve-kindershow-de-tweeklank-wo-17-juli-2019/
CATEGORIES:jubileumfeest basisschool clown
ATTACH;FMTTYPE=image/jpeg:https://www.de-oranje-man.nl/wp-content/uploads/2017/03/clown-snorre-kindershow-04.jpg
END:VEVENT
BEGIN:VEVENT
DTSTART;TZID=Europe/Amsterdam:20181109T090000
DTEND;TZID=Europe/Amsterdam:20181109T123000
DTSTAMP:20260422T104852
CREATED:20181023T090706Z
LAST-MODIFIED:20181023T090706Z
UID:4054-1541754000-1541766600@www.de-oranje-man.nl
SUMMARY:35 jaar Jubileumfeest Prins Florisschool - Muzikale Clown Snorre -vr 9 november 2018 Papendrecht
DESCRIPTION:School Jubileumfeest Muzikale Show – Lekker brullen met Clown Snorre \nZeer interactieve muzikale show van de meest serieuze clown van Nederland! (maar met wel heel veel plezier :0))\nLangs alle groepen met muzikaal intermezzo afgestemd op aanwezig niveau voorzien van mobiele geluidsset.\nDaarna entertainment op maat in de hal van de school. \nVoor meer info zie: www.clownsnorre.nl
URL:https://www.de-oranje-man.nl/event/35-jaar-jubileumfeest-prins-florisschool-muzikale-clown-snorre-vr-9-november-2018-papendrecht/
ATTACH;FMTTYPE=image/jpeg:https://www.de-oranje-man.nl/wp-content/uploads/2017/03/clown-snorre-kindershow-04.jpg
END:VEVENT
BEGIN:VEVENT
DTSTART;TZID=Europe/Amsterdam:20180131T102000
DTEND;TZID=Europe/Amsterdam:20180131T113000
DTSTAMP:20260422T104852
CREATED:20171220T080307Z
LAST-MODIFIED:20171220T080307Z
UID:3643-1517394000-1517398200@www.de-oranje-man.nl
SUMMARY:Basisschool Optreden CBS De Parel Roden Clown Snorre
DESCRIPTION:Muzikale Clown Kindershow voor de hele school ivm afscheid 2 leerkrachten.\nZie www.clownsnorre.nl
URL:https://www.de-oranje-man.nl/event/basisschool-optreden-cbs-parel-roden-clown-snorre/
ATTACH;FMTTYPE=image/jpeg:https://www.de-oranje-man.nl/wp-content/uploads/2017/03/clown-snorre-kindershow-04.jpg
END:VEVENT
BEGIN:VEVENT
DTSTART;TZID=Europe/Amsterdam:20170615T103000
DTEND;TZID=Europe/Amsterdam:20170615T113000
DTSTAMP:20260422T104852
CREATED:20170608T155430Z
LAST-MODIFIED:20170608T155455Z
UID:3412-1497522600-1497526200@www.de-oranje-man.nl
SUMMARY:Schoolreisje Basisschool Nieuwkoop De Rietkraag - Clown Snorre Basisschool Kindershow
DESCRIPTION:
URL:https://www.de-oranje-man.nl/event/schoolreisje-basisschool-rietkraag-clown-snorre-basisschool-kindershow/
ATTACH;FMTTYPE=image/jpeg:https://www.de-oranje-man.nl/wp-content/uploads/2017/03/clown-snorre-kindershow-04.jpg
END:VEVENT
END:VCALENDAR