BEGIN:VCALENDAR
VERSION:2.0
PRODID:-//Wilhelmus de Oranje Man - ECPv6.15.19//NONSGML v1.0//EN
CALSCALE:GREGORIAN
METHOD:PUBLISH
X-ORIGINAL-URL:https://www.de-oranje-man.nl
X-WR-CALDESC:Evenementen voor Wilhelmus de Oranje Man
REFRESH-INTERVAL;VALUE=DURATION:PT1H
X-Robots-Tag:noindex
X-PUBLISHED-TTL:PT1H
BEGIN:VTIMEZONE
TZID:Europe/Amsterdam
BEGIN:DAYLIGHT
TZOFFSETFROM:+0100
TZOFFSETTO:+0200
TZNAME:CEST
DTSTART:20160327T010000
END:DAYLIGHT
BEGIN:STANDARD
TZOFFSETFROM:+0200
TZOFFSETTO:+0100
TZNAME:CET
DTSTART:20161030T010000
END:STANDARD
BEGIN:DAYLIGHT
TZOFFSETFROM:+0100
TZOFFSETTO:+0200
TZNAME:CEST
DTSTART:20170326T010000
END:DAYLIGHT
BEGIN:STANDARD
TZOFFSETFROM:+0200
TZOFFSETTO:+0100
TZNAME:CET
DTSTART:20171029T010000
END:STANDARD
BEGIN:DAYLIGHT
TZOFFSETFROM:+0100
TZOFFSETTO:+0200
TZNAME:CEST
DTSTART:20180325T010000
END:DAYLIGHT
BEGIN:STANDARD
TZOFFSETFROM:+0200
TZOFFSETTO:+0100
TZNAME:CET
DTSTART:20181028T010000
END:STANDARD
END:VTIMEZONE
BEGIN:VEVENT
DTSTART;TZID=Europe/Amsterdam:20170506T141500
DTEND;TZID=Europe/Amsterdam:20170506T160000
DTSTAMP:20260423T165207
CREATED:20170418T144142Z
LAST-MODIFIED:20170418T144142Z
UID:3252-1494080100-1494086400@www.de-oranje-man.nl
SUMMARY:Feestelijke muzikale middag senioren in activiteitenruimte van het Beethovenplein Schiedam - Wilhelmus De Oranje Man
DESCRIPTION:Liedjes van Toen & Nu door troubadour – liedjeszanger Wilhelmus De Oranje Man\nFeestelijke muzikale middag in activiteitenruimte van het Beethovenplein Schiedam\nCa. 50 senioren 70-90 jaar\nHet wordt een gezellige vrije middag met hapjes\, drankjes en een muzikale reis door de tijd en feest van herkenning met Wilhelmus de Oranje Man.
URL:https://www.de-oranje-man.nl/event/feestelijke-muzikale-middag-senioren-activiteitenruimte-beethovenplein-schiedam-wilhelmus-oranje-man/
END:VEVENT
END:VCALENDAR