BEGIN:VCALENDAR
VERSION:2.0
PRODID:-//Wilhelmus de Oranje Man - ECPv6.15.19//NONSGML v1.0//EN
CALSCALE:GREGORIAN
METHOD:PUBLISH
X-WR-CALNAME:Wilhelmus de Oranje Man
X-ORIGINAL-URL:https://www.de-oranje-man.nl
X-WR-CALDESC:Evenementen voor Wilhelmus de Oranje Man
REFRESH-INTERVAL;VALUE=DURATION:PT1H
X-Robots-Tag:noindex
X-PUBLISHED-TTL:PT1H
BEGIN:VTIMEZONE
TZID:Europe/Amsterdam
BEGIN:DAYLIGHT
TZOFFSETFROM:+0100
TZOFFSETTO:+0200
TZNAME:CEST
DTSTART:20170326T010000
END:DAYLIGHT
BEGIN:STANDARD
TZOFFSETFROM:+0200
TZOFFSETTO:+0100
TZNAME:CET
DTSTART:20171029T010000
END:STANDARD
BEGIN:DAYLIGHT
TZOFFSETFROM:+0100
TZOFFSETTO:+0200
TZNAME:CEST
DTSTART:20180325T010000
END:DAYLIGHT
BEGIN:STANDARD
TZOFFSETFROM:+0200
TZOFFSETTO:+0100
TZNAME:CET
DTSTART:20181028T010000
END:STANDARD
BEGIN:DAYLIGHT
TZOFFSETFROM:+0100
TZOFFSETTO:+0200
TZNAME:CEST
DTSTART:20190331T010000
END:DAYLIGHT
BEGIN:STANDARD
TZOFFSETFROM:+0200
TZOFFSETTO:+0100
TZNAME:CET
DTSTART:20191027T010000
END:STANDARD
BEGIN:DAYLIGHT
TZOFFSETFROM:+0100
TZOFFSETTO:+0200
TZNAME:CEST
DTSTART:20200329T010000
END:DAYLIGHT
BEGIN:STANDARD
TZOFFSETFROM:+0200
TZOFFSETTO:+0100
TZNAME:CET
DTSTART:20201025T010000
END:STANDARD
BEGIN:DAYLIGHT
TZOFFSETFROM:+0100
TZOFFSETTO:+0200
TZNAME:CEST
DTSTART:20210328T010000
END:DAYLIGHT
BEGIN:STANDARD
TZOFFSETFROM:+0200
TZOFFSETTO:+0100
TZNAME:CET
DTSTART:20211031T010000
END:STANDARD
BEGIN:DAYLIGHT
TZOFFSETFROM:+0100
TZOFFSETTO:+0200
TZNAME:CEST
DTSTART:20220327T010000
END:DAYLIGHT
BEGIN:STANDARD
TZOFFSETFROM:+0200
TZOFFSETTO:+0100
TZNAME:CET
DTSTART:20221030T010000
END:STANDARD
END:VTIMEZONE
BEGIN:VEVENT
DTSTART;TZID=Europe/Amsterdam:20210521T150000
DTEND;TZID=Europe/Amsterdam:20210521T160000
DTSTAMP:20260421T051443
CREATED:20210504T101210Z
LAST-MODIFIED:20210504T101210Z
UID:5742-1621609200-1621612800@www.de-oranje-man.nl
SUMMARY:Verjaardagsfeest Moeder 90 Zanger Wilhelmus de Oranje Man woonzorgcentrum Vleuten vrijdag 21 mei 2021
DESCRIPTION:Verrassingsfeest in woonzorgcentrum voor verjaardag moeder die 90 wordt.\nGezellige middag voor ouderen Tuinoptreden Liedjes van Toen & Nu door troubadour – liedjeszanger Wilhelmus De Oranje Man \nOptredens omgezet naar mobiel buiten optreden binnentuin met speciale mobiele versterker en accu. \nDoor middel van zijn unieke “mobiele versterker” volledig draadloos met zenders is Wilhelmus direct speelklaar zonder snoeren waar mensen over kunnen struikelen.\nOp deze manier kan hij in elke tuin/ binnentuin / straat toch licht versterkt optreden zodat zang en gitaar duidelijk overkomen maar niet te hard. \nTijdens deze muzikale activiteit zal Troubadour Wilhelmus De Oranje Man weer zorgen voor contact en plezier door het zingen en spelen van de vele bekende liedjes afgestemd op het aanwezige publiek. \nMaak met liedjes contact en plezier!\nWilhelmus de Oranje Man \nMuzikale reis door de tijd en feest van herkenning met Hollandse liedjes van Toen en nu!\nVeel ervaring\, plezier\, ruimte en geduld in de omgang met mensen met dementie\, alzheimer\, verstandelijk beperking\, psychiatrische beperking\, lichamelijke beperking. \nLive muziek optredens voor senioren en ouderen – Gezellige middag voor ouderen – gezelligheid voor ouderen – entertainment senioren en ouderen – Zanger eenzame ouderen en senioren
URL:https://www.de-oranje-man.nl/event/verjaardagsfeest-moeder-90-zanger-wilhelmus-de-oranje-man-woonzorgcentrum-vleuten-vrijdag-21-mei-2021/
CATEGORIES:90 jaar verjaardagsfeest moeder
ATTACH;FMTTYPE=image/jpeg:https://www.de-oranje-man.nl/wp-content/uploads/2021/03/Wilhelmus-de-Oranje-Man-Kleurrijk-contact-samen-stralen-muzikale-reis-door-de-tijd.jpg
END:VEVENT
BEGIN:VEVENT
DTSTART;TZID=Europe/Amsterdam:20191228T140000
DTEND;TZID=Europe/Amsterdam:20191228T160000
DTSTAMP:20260421T051443
CREATED:20191030T102724Z
LAST-MODIFIED:20191030T102724Z
UID:4719-1577541600-1577548800@www.de-oranje-man.nl
SUMMARY:Verjaardagsfeest Annie 90 Sovak Terheijden Ganzenpad Troubadour Wilhelmus De Oranje Man - za 28-12-19
DESCRIPTION:Bewoonster Annie wordt vandaag 90 en dat gaan we vieren!\nTijdens de muzikale middag zal Troubadour Wilhelmus De Oranje Man weer zorgen voor contact en plezier met de vele bekende liedjes. \nMaak met liedjes contact en plezier!\nWilhelmus de Oranje Man \nMuzikale reis door de tijd en feest van herkenning met Hollandse liedjes van Toen en nu!\nVeel ervaring\, plezier\, ruimte en geduld in de omgang met mensen met dementie\, alzheimer\, verstandelijk beperking\, lichamelijke beperking.
URL:https://www.de-oranje-man.nl/event/verjaardagsfeest-annie-90-sovak-terheijden-ganzenpad-troubadour-wilhelmus-de-oranje-man-za-28-12-19/
CATEGORIES:verjaardagsfeest 90
END:VEVENT
BEGIN:VEVENT
DTSTART;TZID=Europe/Amsterdam:20181020T183000
DTEND;TZID=Europe/Amsterdam:20181020T193000
DTSTAMP:20260421T051443
CREATED:20181001T150529Z
LAST-MODIFIED:20181001T150529Z
UID:3988-1540060200-1540063800@www.de-oranje-man.nl
SUMMARY:Verjaardagsfeest Moeder 90 jaar - Restaurant - Oisterwijk - Troubadour Wilhelmus de Oranje Man - za 20 oktober 2018
DESCRIPTION:Liedjes van Toen & Nu door troubadour – liedjeszanger Wilhelmus De Oranje Man \nTijdens deze muzikale activiteit zal Troubadour Wilhelmus De Oranje Man weer zorgen voor contact en plezier door het zingen en spelen van de vele bekende liedjes afgestemd op het aanwezige publiek. \nMaak met liedjes contact en plezier!\nWilhelmus de Oranje Man \nMuzikale reis door de tijd en feest van herkenning met Hollandse liedjes van Toen en nu!\nVeel ervaring\, plezier\, ruimte en geduld in de omgang met mensen met dementie\, alzheimer\, verstandelijk beperking\, psychiatrische beperking\, lichamelijke beperking.
URL:https://www.de-oranje-man.nl/event/verjaardagsfeest-moeder-90-jaar-restaurant-oisterwijk-troubadour-wilhelmus-de-oranje-man-za-20-oktober-2018/
END:VEVENT
BEGIN:VEVENT
DTSTART;TZID=Europe/Amsterdam:20181013T130000
DTEND;TZID=Europe/Amsterdam:20181013T143000
DTSTAMP:20260421T051443
CREATED:20181017T084412Z
LAST-MODIFIED:20190204T162304Z
UID:4034-1539435600-1539441000@www.de-oranje-man.nl
SUMMARY:Verjaardagsfeest Moeder 90 jaar Wilhelmus De Oranje Man - Acaciastaete Son za 13 oktober 2018
DESCRIPTION:Liedjes van Toen & Nu door troubadour – liedjeszanger Wilhelmus De Oranje Man \nVerjaardagsfeest moeder 90 jaar met familie en bekenden en bewoners in de patio van de verzorgingsflat in Son en Breugel. \nTijdens deze muzikale activiteit zal Troubadour Wilhelmus De Oranje Man weer zorgen voor contact en plezier door het zingen en spelen van de vele bekende liedjes afgestemd op het aanwezige publiek. \nMaak met liedjes contact en plezier!\nWilhelmus de Oranje Man \nVerjaardagsfeest moeder 90 jaar – liedjeszanger Wilhelmus De Oranje Man\nWat geef je nou aan je moeder die 90 jaar wordt en hoe zet je die speciaal in het zonnetje? Juist met Hollandse liedjes van Toen en Nu en Engelstalige klassiekers  door Liedjeszanger Wilhelmus De Oranje Man. Hierdoor krijg je een feest van herkenning bij je gasten en een een kleurrijk evenement waar nog lang positief over wordt nagepraat! Met een persoonlijk lied op maat\, Oranje rozen voor de jarige\, speciale “Samen stralen” fotolijst en helemaal mooi de LiedjesBINGO wordt iedereen van jong tot oud hierbij betrokken. \nWat geef je aan iemand van 90 jaar? Feestidee 90 jaar verjaardagcadeau? \nMuzikale reis door de tijd en feest van herkenning met Hollandse liedjes van Toen en nu!\nVeel ervaring\, plezier\, ruimte en geduld in de omgang met mensen met dementie\, alzheimer\, verstandelijk beperking\, psychiatrische beperking\, lichamelijke beperking.
URL:https://www.de-oranje-man.nl/event/verjaardagsfeest-moeder-90-jaar-wilhelmus-de-oranje-man-acaiastaete-son-za-13-oktober-2018/
CATEGORIES:90 jaar verjaardagsfeest moeder,Wat geef je aan iemand van 90 jaar
END:VEVENT
BEGIN:VEVENT
DTSTART;TZID=Europe/Amsterdam:20180304T140000
DTEND;TZID=Europe/Amsterdam:20180304T150000
DTSTAMP:20260421T051443
CREATED:20180205T113225Z
LAST-MODIFIED:20180205T113225Z
UID:3698-1520172000-1520175600@www.de-oranje-man.nl
SUMMARY:Bomenpark Heesch Mimi de Leeuw - Zoghel 90 jaar verjaardagsfeest - Troubadour Wilhelmus De Oranje Man
DESCRIPTION:Liedjes van Toen & Nu door troubadour – liedjeszanger Wilhelmus De Oranje Man \nFeestelijke muzikale middag in Heesch . Tijdens deze muzikale feestmiddag zal Troubadour Wilhelmus De Oranje Man weer zorgen voor contact en plezier door het samen zingen en spelen van de vele bekende liedjes. \nMaak met liedjes contact en plezier!\nWilhelmus de Oranje Man \nMuzikale reis door de tijd en feest van herkenning met Hollandse liedjes van Toen en nu!\nVeel ervaring\, plezier\, ruimte en geduld in de omgang met mensen met dementie\, alzheimer\, verstandelijk beperking\, lichamelijke beperking.
URL:https://www.de-oranje-man.nl/event/bomenpark-heesch-mimi-leeuw-zoghel-90-jaar-verjaardagsfeest-troubadour-wilhelmus-oranje-man/
END:VEVENT
END:VCALENDAR