BEGIN:VCALENDAR
VERSION:2.0
PRODID:-//Wilhelmus de Oranje Man - ECPv6.15.19//NONSGML v1.0//EN
CALSCALE:GREGORIAN
METHOD:PUBLISH
X-WR-CALNAME:Wilhelmus de Oranje Man
X-ORIGINAL-URL:https://www.de-oranje-man.nl
X-WR-CALDESC:Evenementen voor Wilhelmus de Oranje Man
REFRESH-INTERVAL;VALUE=DURATION:PT1H
X-Robots-Tag:noindex
X-PUBLISHED-TTL:PT1H
BEGIN:VTIMEZONE
TZID:Europe/Amsterdam
BEGIN:DAYLIGHT
TZOFFSETFROM:+0100
TZOFFSETTO:+0200
TZNAME:CEST
DTSTART:20200329T010000
END:DAYLIGHT
BEGIN:STANDARD
TZOFFSETFROM:+0200
TZOFFSETTO:+0100
TZNAME:CET
DTSTART:20201025T010000
END:STANDARD
BEGIN:DAYLIGHT
TZOFFSETFROM:+0100
TZOFFSETTO:+0200
TZNAME:CEST
DTSTART:20210328T010000
END:DAYLIGHT
BEGIN:STANDARD
TZOFFSETFROM:+0200
TZOFFSETTO:+0100
TZNAME:CET
DTSTART:20211031T010000
END:STANDARD
BEGIN:DAYLIGHT
TZOFFSETFROM:+0100
TZOFFSETTO:+0200
TZNAME:CEST
DTSTART:20220327T010000
END:DAYLIGHT
BEGIN:STANDARD
TZOFFSETFROM:+0200
TZOFFSETTO:+0100
TZNAME:CET
DTSTART:20221030T010000
END:STANDARD
END:VTIMEZONE
BEGIN:VEVENT
DTSTART;TZID=Europe/Amsterdam:20210129T150000
DTEND;TZID=Europe/Amsterdam:20210129T163000
DTSTAMP:20260423T115006
CREATED:20191219T150401Z
LAST-MODIFIED:20201210T083805Z
UID:4793-1611932400-1611937800@www.de-oranje-man.nl
SUMMARY:(gecanceld verschoven naar 28 april 2021) Bartholomeus Gasthuis Senioren Cafe Wilhelmus De Oranje Man - vrijdag 29 januari 2021
DESCRIPTION:Liedjes van Toen & Nu door troubadour – liedjeszanger Wilhelmus De Oranje Man \nFeestelijke muzikale middag in het seniorencafe Bartholomeus Gasthuis \nTijdens deze muzikale feestmiddag zal Troubadour Wilhelmus De Oranje Man weer zorgen voor contact en plezier door het samen zingen en spelen van de vele bekende liedjes. \nMaak met liedjes contact en plezier!\nWilhelmus de Oranje Man \nMuzikale reis door de tijd en feest van herkenning met Hollandse liedjes van Toen en nu!\nVeel ervaring\, plezier\, ruimte en geduld in de omgang met mensen met dementie\, alzheimer\, verstandelijk beperking\, lichamelijke beperking.
URL:https://www.de-oranje-man.nl/event/bartholomeus-gasthuis-senioren-cafe-wilhelmus-de-oranje-man-vrijdag-29-januari-2021/
CATEGORIES:seniorencafe
ATTACH;FMTTYPE=image/jpeg:https://www.de-oranje-man.nl/wp-content/uploads/2019/03/2019banner04_wilhelmus-hoekstra-de-oranje-man-liedjeszanger-presentator-cabaratier-liedjesbingo-04-samen-zingen-een-kleurrijke-ervaring.jpg
END:VEVENT
END:VCALENDAR