BEGIN:VCALENDAR
VERSION:2.0
PRODID:-//Wilhelmus de Oranje Man - ECPv6.15.19//NONSGML v1.0//EN
CALSCALE:GREGORIAN
METHOD:PUBLISH
X-WR-CALNAME:Wilhelmus de Oranje Man
X-ORIGINAL-URL:https://www.de-oranje-man.nl
X-WR-CALDESC:Evenementen voor Wilhelmus de Oranje Man
REFRESH-INTERVAL;VALUE=DURATION:PT1H
X-Robots-Tag:noindex
X-PUBLISHED-TTL:PT1H
BEGIN:VTIMEZONE
TZID:Europe/Amsterdam
BEGIN:DAYLIGHT
TZOFFSETFROM:+0100
TZOFFSETTO:+0200
TZNAME:CEST
DTSTART:20210328T010000
END:DAYLIGHT
BEGIN:STANDARD
TZOFFSETFROM:+0200
TZOFFSETTO:+0100
TZNAME:CET
DTSTART:20211031T010000
END:STANDARD
BEGIN:DAYLIGHT
TZOFFSETFROM:+0100
TZOFFSETTO:+0200
TZNAME:CEST
DTSTART:20220327T010000
END:DAYLIGHT
BEGIN:STANDARD
TZOFFSETFROM:+0200
TZOFFSETTO:+0100
TZNAME:CET
DTSTART:20221030T010000
END:STANDARD
BEGIN:DAYLIGHT
TZOFFSETFROM:+0100
TZOFFSETTO:+0200
TZNAME:CEST
DTSTART:20230326T010000
END:DAYLIGHT
BEGIN:STANDARD
TZOFFSETFROM:+0200
TZOFFSETTO:+0100
TZNAME:CET
DTSTART:20231029T010000
END:STANDARD
END:VTIMEZONE
BEGIN:VEVENT
DTSTART;TZID=Europe/Amsterdam:20221011T143000
DTEND;TZID=Europe/Amsterdam:20221011T170000
DTSTAMP:20260423T000159
CREATED:20220831T070229Z
LAST-MODIFIED:20220831T070229Z
UID:6618-1665498600-1665507600@www.de-oranje-man.nl
SUMMARY:Poffertjes Hollandse Week Zanger Gitarist Wilhelmus de Oranje Man Woonzorgcentrum Sonnenberg Oosterbeek di 11-10-22
DESCRIPTION:Liedjes van Toen & Nu door troubadour – liedjeszanger Wilhelmus De Oranje Man \nTijdens deze muzikale activiteit zal Troubadour Wilhelmus De Oranje Man weer zorgen voor contact en plezier door het samen zingen en spelen van de vele bekende liedjes onder het genot van heerlijk verse poffertjes. \nMaak met liedjes contact en plezier!\nWilhelmus de Oranje Man \nMuzikale reis door de tijd en feest van herkenning met Hollandse liedjes van Toen en nu!\nVeel ervaring\, plezier\, ruimte en geduld in de omgang met mensen met dementie\, alzheimer\, psychiatrie\, verslaving\, verstandelijk beperking\, lichamelijke beperking.
URL:https://www.de-oranje-man.nl/event/poffertjes-hollandse-week-zanger-gitarist-wilhelmus-de-oranje-man-woonzorgcentrum-sonnenberg-oosterbeek-di-11-10-22/
CATEGORIES:Poffertjes muzikale middag woonzorgcentrum gitarist zanger
ATTACH;FMTTYPE=image/jpeg:https://www.de-oranje-man.nl/wp-content/uploads/2021/09/Wilhelmus-de-Oranje-Man-De-Gelukkeling-04-1.jpg
END:VEVENT
BEGIN:VEVENT
DTSTART;TZID=Europe/Amsterdam:20220831T133000
DTEND;TZID=Europe/Amsterdam:20220831T150000
DTSTAMP:20260423T000159
CREATED:20220708T071348Z
LAST-MODIFIED:20220708T071348Z
UID:6578-1661952600-1661958000@www.de-oranje-man.nl
SUMMARY:Muzikale Poffertjesmiddag Woonzorgcentrum Brentano Zanger Gitarist Wilhelmus de Oranje Man Amstelveen - wo 31-8-22
DESCRIPTION:Liedjes van Toen & Nu door troubadour – liedjeszanger Wilhelmus De Oranje Man \nTijdens deze muzikale activiteit zal Troubadour Wilhelmus De Oranje Man weer zorgen voor contact en plezier door het samen zingen en spelen van de vele bekende liedjes onder het genot van heerlijk verse poffertjes. \nMaak met liedjes contact en plezier!\nWilhelmus de Oranje Man \nMuzikale reis door de tijd en feest van herkenning met Hollandse liedjes van Toen en nu!\nVeel ervaring\, plezier\, ruimte en geduld in de omgang met mensen met dementie\, alzheimer\, psychiatrie\, verslaving\, verstandelijk beperking\, lichamelijke beperking.
URL:https://www.de-oranje-man.nl/event/muzikale-poffertjesmiddag-woonzorgcentrum-brentano-zanger-gitarist-wilhelmus-de-oranje-man-amstelveen-wo-31-8-22/
CATEGORIES:Poffertjes muzikale middag woonzorgcentrum gitarist zanger
ATTACH;FMTTYPE=image/jpeg:https://www.de-oranje-man.nl/wp-content/uploads/2021/09/Wilhelmus-de-Oranje-Man-De-Gelukkeling-04-1.jpg
END:VEVENT
END:VCALENDAR