BEGIN:VCALENDAR
VERSION:2.0
PRODID:-//Wilhelmus de Oranje Man - ECPv6.15.19//NONSGML v1.0//EN
CALSCALE:GREGORIAN
METHOD:PUBLISH
X-ORIGINAL-URL:https://www.de-oranje-man.nl
X-WR-CALDESC:Evenementen voor Wilhelmus de Oranje Man
REFRESH-INTERVAL;VALUE=DURATION:PT1H
X-Robots-Tag:noindex
X-PUBLISHED-TTL:PT1H
BEGIN:VTIMEZONE
TZID:Europe/Amsterdam
BEGIN:DAYLIGHT
TZOFFSETFROM:+0100
TZOFFSETTO:+0200
TZNAME:CEST
DTSTART:20230326T010000
END:DAYLIGHT
BEGIN:STANDARD
TZOFFSETFROM:+0200
TZOFFSETTO:+0100
TZNAME:CET
DTSTART:20231029T010000
END:STANDARD
BEGIN:DAYLIGHT
TZOFFSETFROM:+0100
TZOFFSETTO:+0200
TZNAME:CEST
DTSTART:20240331T010000
END:DAYLIGHT
BEGIN:STANDARD
TZOFFSETFROM:+0200
TZOFFSETTO:+0100
TZNAME:CET
DTSTART:20241027T010000
END:STANDARD
BEGIN:DAYLIGHT
TZOFFSETFROM:+0100
TZOFFSETTO:+0200
TZNAME:CEST
DTSTART:20250330T010000
END:DAYLIGHT
BEGIN:STANDARD
TZOFFSETFROM:+0200
TZOFFSETTO:+0100
TZNAME:CET
DTSTART:20251026T010000
END:STANDARD
BEGIN:DAYLIGHT
TZOFFSETFROM:+0100
TZOFFSETTO:+0200
TZNAME:CEST
DTSTART:20260329T010000
END:DAYLIGHT
BEGIN:STANDARD
TZOFFSETFROM:+0200
TZOFFSETTO:+0100
TZNAME:CET
DTSTART:20261025T010000
END:STANDARD
END:VTIMEZONE
BEGIN:VEVENT
DTSTART;TZID=Europe/Amsterdam:20250620T200000
DTEND;TZID=Europe/Amsterdam:20250620T220000
DTSTAMP:20260420T105453
CREATED:20250326T131052Z
LAST-MODIFIED:20250326T131052Z
UID:8069-1750449600-1750456800@www.de-oranje-man.nl
SUMMARY:Muziekbingo Ouderen Gitarist Zanger Wilhelmus de Oranje Man liedjesbingo van vroeger en nu ca 70 senioren ouderen en vrijwilligers ivm Stichting Hoogeveensche Vakantieweek in Nieuw Hydepark in Doorn.
DESCRIPTION:Muziekbingo Ouderen door Gitarist Zanger Wilhelmus de Oranje Man met liedjes van vroeger en nu voor ca 70 senioren ouderen en vrijwilligers ivm Stichting Hoogeveensche Vakantieweek in Nieuw Hydepark in Doorn.\nWilhelmus De Oranje Man LiedjesBINGO\nSamen genieten van muziek en spel. Zeer interactief en nu al jaren elke keer een daverend succes! \n \nAllemaal verschillende LiedjesBINGO kaarten met daarop de titels van veel Nederlandstalige nummers en een paar Engelstalige klassiekers.\nIk speel de liedjes en de mensen strepen ze af op de Bingo Kaarten.\nBij volle rij BINGO! en een prijsje. \nErg leuk en een heerlijke ontspannen manier om contact te maken. Omdat mensen samen met buurvrouw\, buurman of vrijwilliger dit kunnen spelen en er altijd gespreksstof is n.a.v. de nummers op de kaarten. \nIk kan het zelf in goede banen leiden. Dus als mensen nog bijna geen kruisje op de kaart hebben speel ik dan een nummer van hun kaart of als er een prijs uit moet speel ik het ontbrekende nummer.\nOok kunnen de mensen vanaf de kaart verzoeknummers aanvragen.\nZo wordt het een heerlijk interactief gebeuren \n“Dankjewel Wilhelmus De Oranje Man voor de mooie middag. Het blijft een feest om te zien hoe jij de bewoners met respect\, humor en enthousiasme meeneemt in het muzikale bingospel. Iedereen geniet! Zelfs na jouw vertrek zingen de bewoners nog de liedjes van de kaart. Echt geweldig!” februari 2020 Jacqueline Sturkenboom Beschermd wonen – Lieven de Key Utrecht \nDe Oranje Man LiedjesBINGO\n* Geschikt voor groepen van 15 tot 150/200 mensen.\n* Tijdsduur: 2 sets met korte pauze totaal ca. 90 minuten.\n* Elke kaart is verschillend\n* Eventuele verzoeknummers op maat toe te voegen\n* Thema van de dag of slogan van bedrijf als speciale editie op kaart mee te printen\n* Voor voldoende Oranje Man Bingo pennen wordt gezorgd\n* Ca. 13 Prijzen in overleg zelf of door de Oranje Man geregeld.
URL:https://www.de-oranje-man.nl/event/muziekbingo-ouderen-gitarist-zanger-wilhelmus-de-oranje-man-liedjesbingo-van-vroeger-en-nu-ca-70-senioren-ouderen-en-vrijwilligers-ivm-stichting-hoogeveensche-vakantieweek-in-nieuw-hydepark-in-doorn/
CATEGORIES:muziekbingo ouderen,muziekbingo ouderen verzorgingshuis,muziekbingo senioren ouderen,muziekbingo seniorenmiddag zanger,Muziekbingo Welzijn Ouderen,muziekbingo Zonnebloem liedjesbingo
ATTACH;FMTTYPE=image/jpeg:https://www.de-oranje-man.nl/wp-content/uploads/2023/04/Liedjes-Bingo-Muziek-Bingo-Senioren-Ouderen.jpg
END:VEVENT
BEGIN:VEVENT
DTSTART;TZID=Europe/Amsterdam:20240614T133000
DTEND;TZID=Europe/Amsterdam:20240614T170000
DTSTAMP:20260420T105453
CREATED:20240219T085957Z
LAST-MODIFIED:20240219T085957Z
UID:7431-1718371800-1718384400@www.de-oranje-man.nl
SUMMARY:Muziekbingo Seniorenmiddag Dorpsfeest Zanger Wilhelmus de Oranje Man Dorst 14 juni 2024
DESCRIPTION:Muziekbingo Seniorenmiddag door Gitarist Zanger Wilhelmus de Oranje Man met liedjes van vroger en nu voor ca 150/200 senioren ouderen uit Dorst.\nWilhelmus De Oranje Man LiedjesBINGO\nSamen genieten van muziek en spel. Zeer interactief en nu al jaren elke keer een daverend succes! \n \nAllemaal verschillende LiedjesBINGO kaarten met daarop de titels van veel Nederlandstalige nummers en een paar Engelstalige klassiekers.\nIk speel de liedjes en de mensen strepen ze af op de Bingo Kaarten.\nBij volle rij BINGO! en een prijsje. \nErg leuk en een heerlijke ontspannen manier om contact te maken. Omdat mensen samen met buurvrouw\, buurman of vrijwilliger dit kunnen spelen en er altijd gespreksstof is n.a.v. de nummers op de kaarten. \nIk kan het zelf in goede banen leiden. Dus als mensen nog bijna geen kruisje op de kaart hebben speel ik dan een nummer van hun kaart of als er een prijs uit moet speel ik het ontbrekende nummer.\nOok kunnen de mensen vanaf de kaart verzoeknummers aanvragen.\nZo wordt het een heerlijk interactief gebeuren \n“Dankjewel Wilhelmus De Oranje Man voor de mooie middag. Het blijft een feest om te zien hoe jij de bewoners met respect\, humor en enthousiasme meeneemt in het muzikale bingospel. Iedereen geniet! Zelfs na jouw vertrek zingen de bewoners nog de liedjes van de kaart. Echt geweldig!” februari 2020 Jacqueline Sturkenboom Beschermd wonen – Lieven de Key Utrecht \nDe Oranje Man LiedjesBINGO\n* Geschikt voor groepen van 15 tot 150/200 mensen.\n* Tijdsduur: 2 sets met korte pauze totaal ca. 90 minuten.\n* Elke kaart is verschillend\n* Eventuele verzoeknummers op maat toe te voegen\n* Thema van de dag of slogan van bedrijf als speciale editie op kaart mee te printen\n* Voor voldoende Oranje Man Bingo pennen wordt gezorgd\n* Ca. 13 Prijzen in overleg zelf of door de Oranje Man geregeld.
URL:https://www.de-oranje-man.nl/event/muziekbingo-seniorenmiddag-dorpsfeest-zanger-wilhelmus-de-oranje-man-dorst-14-juni-2024/
CATEGORIES:muziekbingo seniorenmiddag zanger
ATTACH;FMTTYPE=image/jpeg:https://www.de-oranje-man.nl/wp-content/uploads/2024/02/muziekbingo-seniorenmiddag-zanger-senioren-ouderen-.jpg
END:VEVENT
BEGIN:VEVENT
DTSTART;TZID=Europe/Amsterdam:20240531T140000
DTEND;TZID=Europe/Amsterdam:20240531T160000
DTSTAMP:20260420T105453
CREATED:20240226T151925Z
LAST-MODIFIED:20240417T135348Z
UID:7530-1717164000-1717171200@www.de-oranje-man.nl
SUMMARY:Buurtwerkkamer Top Muziekbingo Senioren Ouderen Wilhelmus de Oranje Man
DESCRIPTION:Live Muziekbingo Optreden voor Ouderen Seniorenmiddag Gitarist Zanger Wilhelmus de Oranje Man Buurtwerkkamer Utrecht\nWilhelmus De Oranje Man LiedjesBINGO\nSamen genieten van muziek en spel. Zeer interactief optreden en nu al jaren elke keer een daverend succes! \n \nAllemaal verschillende LiedjesBINGO kaarten met daarop de titels van veel Nederlandstalige nummers en een paar Engelstalige klassiekers.\nIk speel de liedjes en de mensen strepen ze af op de Bingo Kaarten.\nBij volle rij BINGO! en een prijsje. \nErg leuk en een heerlijke ontspannen manier om contact te maken. Omdat mensen samen met buurvrouw\, buurman of vrijwilliger dit kunnen spelen en er altijd gespreksstof is n.a.v. de nummers op de kaarten. \nIk kan het zelf in goede banen leiden. Dus als mensen nog bijna geen kruisje op de kaart hebben speel ik dan een nummer van hun kaart of als er een prijs uit moet speel ik het ontbrekende nummer.\nOok kunnen de mensen vanaf de kaart verzoeknummers aanvragen.\nZo wordt het een heerlijk interactief gebeuren \n“Dankjewel Wilhelmus De Oranje Man voor de mooie middag. Het blijft een feest om te zien hoe jij de bewoners met respect\, humor en enthousiasme meeneemt in het muzikale bingospel. Iedereen geniet! Zelfs na jouw vertrek zingen de bewoners nog de liedjes van de kaart. Echt geweldig!” februari 2020 Jacqueline Sturkenboom Beschermd wonen – Lieven de Key Utrecht \nDe Oranje Man LiedjesBINGO / Muziekbingo Live muziek voor senioren / ouderen\n* Geschikt voor groepen van 15 tot 150 mensen.\n* Tijdsduur: 2 sets met korte pauze totaal ca. 90 minuten.\n* Elke kaart is verschillend\n* Eventuele verzoeknummers op maat toe te voegen\n* Thema van de dag of slogan van bedrijf als speciale editie op kaart mee te printen\n* Voor voldoende Oranje Man Bingo pennen wordt gezorgd\n* Ca. 13 Prijzen in overleg zelf of door de Oranje Man geregeld.
URL:https://www.de-oranje-man.nl/event/buurtwerkkamer-top-muziekbingo-senioren-ouderen-wilhelmus-de-oranje-man/
CATEGORIES:muziekbingo seniorenmiddag zanger
ATTACH;FMTTYPE=image/jpeg:https://www.de-oranje-man.nl/wp-content/uploads/2024/02/muziekbingo-seniorenmiddag-zanger-senioren-ouderen-.jpg
END:VEVENT
END:VCALENDAR