BEGIN:VCALENDAR
VERSION:2.0
PRODID:-//Wilhelmus de Oranje Man - ECPv6.15.19//NONSGML v1.0//EN
CALSCALE:GREGORIAN
METHOD:PUBLISH
X-ORIGINAL-URL:https://www.de-oranje-man.nl
X-WR-CALDESC:Evenementen voor Wilhelmus de Oranje Man
REFRESH-INTERVAL;VALUE=DURATION:PT1H
X-Robots-Tag:noindex
X-PUBLISHED-TTL:PT1H
BEGIN:VTIMEZONE
TZID:Europe/Amsterdam
BEGIN:DAYLIGHT
TZOFFSETFROM:+0100
TZOFFSETTO:+0200
TZNAME:CEST
DTSTART:20220327T010000
END:DAYLIGHT
BEGIN:STANDARD
TZOFFSETFROM:+0200
TZOFFSETTO:+0100
TZNAME:CET
DTSTART:20221030T010000
END:STANDARD
BEGIN:DAYLIGHT
TZOFFSETFROM:+0100
TZOFFSETTO:+0200
TZNAME:CEST
DTSTART:20230326T010000
END:DAYLIGHT
BEGIN:STANDARD
TZOFFSETFROM:+0200
TZOFFSETTO:+0100
TZNAME:CET
DTSTART:20231029T010000
END:STANDARD
BEGIN:DAYLIGHT
TZOFFSETFROM:+0100
TZOFFSETTO:+0200
TZNAME:CEST
DTSTART:20240331T010000
END:DAYLIGHT
BEGIN:STANDARD
TZOFFSETFROM:+0200
TZOFFSETTO:+0100
TZNAME:CET
DTSTART:20241027T010000
END:STANDARD
END:VTIMEZONE
BEGIN:VEVENT
DTSTART;TZID=Europe/Amsterdam:20230322T100000
DTEND;TZID=Europe/Amsterdam:20230322T120000
DTSTAMP:20260422T161723
CREATED:20230228T144450Z
LAST-MODIFIED:20230324T100722Z
UID:6930-1679479200-1679486400@www.de-oranje-man.nl
SUMMARY:Muziek Spel en Bewegen met kwetsbare Ouderen - Presentatie Thema Reizen - Slotbijeenkomst 6 - wo 22-3-23 Stichting Sint Jacob Nieuw Overbos Heemstede
DESCRIPTION:Cursus Muziek en beweging met ouderen – Post HBO opleiding Conservatorium Amsterdam\nInterdisciplinair kunstproject: Muziek\, spel en beweging met en voor (kwetsbare) ouderen.\nMuziek Spel en Bewegen met kwetsbare Ouderen – Presentatie Thema Reizen – Slotbijeenkomst 6 – wo 22-3-23 Stichting Sint Jacob Nieuw Overbos Heemstede\nVandaag samen met bewoners familie en personeel de slotpresentatie met Thema Riezen door de ouderen die hebben deelgenomen aan deze cursus. Met elkaar hebben we een hele mooie presentatie geven an de familie en bekenden.  \n“Wat een fijne\, liefdevolle en warme bijeenkomst vanmorgen. Het was precies wat ik nodig had. Ik heb genoten!” aldus familielid \nDe cursus Muziek en beweging met ouderen richt zich op kunstbeleving met en voor (kwetsbare) ouderen in onder andere verzorgingstehuizen\, dagcentra en kleinschalige woongemeenschappen. Sociale verbinding staat hierbij centraal. Door het gezamenlijk muziek maken met behulp van verschillende instrumenten en materialen\, door zingen en bewegen in combinatie met diverse spelvormen\, worden de ouderen gestimuleerd vanuit hun eigen fysieke en mentale mogelijkheden actief te participeren. \nStage: Post HBO Cursus Conservatorium van Amsterdam Muziek & Bewegen met (kwetsbare) Ouderen – voorjaar 2023.\nAan deze cursus is een stage verbonden van februari t/m april 2023. Deze zal ik lopen bij Stichting Sint Jacob Woonzorgcentrum Nieuw Overbos in Haarlem/Heemstede. \nCursus duo Jessica van Noord & Wilhelmus Hoekstra verzorgt een interdisciplinair stageproject van 6 workshops bijeenkomsten van ca. 60-90 minuten\, verdeeld over 6 weken.\nUitgangspunt is dat er gewerkt wordt met kwetsbare ouderen. Gemengde groep met eventueel deelnemers met een lichte vorm van dementie.\nDe 6de bijeenkomst betreft een (mini) presentatie of openbare workshop met naar keuze publiek als mantelzorgers\, vrijwilligers uit de instelling\, bewoners van de instelling of uit de buurt. \nDit sociaal-artistieke-interdisciplinaire stageproject laat zien dat de cursist in staat is een muzisch product te realiseren waarbij gebruik gemaakt wordt gemaakt van meerdere invalshoeken als muziek\, dans/beweging en theatrale aspecten. Hierbij wordt aan zowel artistieke\, didactische als sociale competenties van de cursist als deelnemers geappelleerd. \nCursus\nMuziek maken wordt vaak in verband gebracht met de ontwikkeling van het brein bij jonge kinderen\, maar dit geldt zeker ook voor ouderen. Nieuwe stimulansen waarbij verschillende zintuigen worden geprikkeld\, gepaard gaande met beweging en veel plezier\, zijn voor (kwetsbare) ouderen zeer verrijkend. \nJe bent nooit te oud om te leren! In de cursus leer je hoe je tijdens de educatieve activiteiten ouderen zelf actief kunt laten zijn door het maken van keuzes\, zelf dingen bedenken en het meebeslissen tijdens de workshops. Als workshopleider leer je de ouderen te verleiden tot kunstzinnige activiteiten en actieve kunstbeleving. Ze kunnen veel meer dan ze zelf denken! \nVoor meer info: https://www.de-oranje-man.nl/wilhelmus/muziek-en-beweging-met-ouderen/
URL:https://www.de-oranje-man.nl/event/muziek-en-beweging-met-kwetsbare-ouderen-presentatie-thema-reizen-slotbijeenkomst-6-wo-22-3-23-stichting-sint-jacob-nieuw-overbos-heemstede/
CATEGORIES:muziek bewegen ouderen,muziek beweging kwetsbare ouderen
ATTACH;FMTTYPE=image/jpeg:https://www.de-oranje-man.nl/wp-content/uploads/2023/02/Muziek-Bewegen-Ouderen-1.jpg
END:VEVENT
END:VCALENDAR