BEGIN:VCALENDAR
VERSION:2.0
PRODID:-//Wilhelmus de Oranje Man - ECPv6.15.19//NONSGML v1.0//EN
CALSCALE:GREGORIAN
METHOD:PUBLISH
X-WR-CALNAME:Wilhelmus de Oranje Man
X-ORIGINAL-URL:https://www.de-oranje-man.nl
X-WR-CALDESC:Evenementen voor Wilhelmus de Oranje Man
REFRESH-INTERVAL;VALUE=DURATION:PT1H
X-Robots-Tag:noindex
X-PUBLISHED-TTL:PT1H
BEGIN:VTIMEZONE
TZID:Europe/Amsterdam
BEGIN:DAYLIGHT
TZOFFSETFROM:+0100
TZOFFSETTO:+0200
TZNAME:CEST
DTSTART:20240331T010000
END:DAYLIGHT
BEGIN:STANDARD
TZOFFSETFROM:+0200
TZOFFSETTO:+0100
TZNAME:CET
DTSTART:20241027T010000
END:STANDARD
BEGIN:DAYLIGHT
TZOFFSETFROM:+0100
TZOFFSETTO:+0200
TZNAME:CEST
DTSTART:20250330T010000
END:DAYLIGHT
BEGIN:STANDARD
TZOFFSETFROM:+0200
TZOFFSETTO:+0100
TZNAME:CET
DTSTART:20251026T010000
END:STANDARD
BEGIN:DAYLIGHT
TZOFFSETFROM:+0100
TZOFFSETTO:+0200
TZNAME:CEST
DTSTART:20260329T010000
END:DAYLIGHT
BEGIN:STANDARD
TZOFFSETFROM:+0200
TZOFFSETTO:+0100
TZNAME:CET
DTSTART:20261025T010000
END:STANDARD
BEGIN:DAYLIGHT
TZOFFSETFROM:+0100
TZOFFSETTO:+0200
TZNAME:CEST
DTSTART:20270328T010000
END:DAYLIGHT
BEGIN:STANDARD
TZOFFSETFROM:+0200
TZOFFSETTO:+0100
TZNAME:CET
DTSTART:20271031T010000
END:STANDARD
END:VTIMEZONE
BEGIN:VEVENT
DTSTART;TZID=Europe/Amsterdam:20260203T143000
DTEND;TZID=Europe/Amsterdam:20260203T160000
DTSTAMP:20260422T142022
CREATED:20251215T110551Z
LAST-MODIFIED:20251215T110551Z
UID:8385-1770129000-1770134400@www.de-oranje-man.nl
SUMMARY:Liedjes van vroeger en nu - Woonzorgcentrum Zanger Wilhelmus de Oranje Man  - Careyn Rosendael Utrecht
DESCRIPTION:Liedjes van Toen & Nu door gitarist zanger Wilhelmus De Oranje Man\nTijdens deze muzikale activiteit zal Troubadour / Senioren muzikant Wilhelmus De Oranje Man weer zorgen voor contact en plezier door het zingen en spelen van de vele bekende liedjes afgestemd op het aanwezige publiek. \nMaak met liedjes contact en plezier!\nWilhelmus de Oranje Man \n \nMuzikale reis door de tijd en feest van herkenning met Hollandse liedjes van Toen en nu!\nVeel ervaring\, plezier\, ruimte en geduld in de omgang met mensen met dementie\, alzheimer\, verstandelijk beperking\, psychiatrische beperking\, lichamelijke beperking. \nLive muziek optredens voor senioren en ouderen – Liedjesbingo – Meezingconcert senioren meezingconcert ouderen – Gezellige middag voor ouderen – gezelligheid voor ouderen – entertainment senioren en ouderen – Zanger eenzame ouderen en senioren
URL:https://www.de-oranje-man.nl/event/liedjes-van-vroeger-en-nu-woonzorgcentrum-zanger-wilhelmus-de-oranje-man-careyn-rosendael-utrecht/
CATEGORIES:Liedjes van vroeger ouderen,liedjes van vroeger ouderen woonzorgcentrum,liedjes van vroeger ouderenzorg,liedjes van vroeger voor ouderen
ATTACH;FMTTYPE=image/jpeg:https://www.de-oranje-man.nl/wp-content/uploads/2024/02/zanger-ouderen-dementie-beperking-.jpg
END:VEVENT
BEGIN:VEVENT
DTSTART;TZID=Europe/Amsterdam:20250801T143000
DTEND;TZID=Europe/Amsterdam:20250801T160000
DTSTAMP:20260422T142022
CREATED:20250515T081402Z
LAST-MODIFIED:20250515T081402Z
UID:8176-1754058600-1754064000@www.de-oranje-man.nl
SUMMARY:Careyn Rosendael Utrecht - meezing middag zomerfeest ouderen Zang gitaar Wilhelmus de Oranje Man
DESCRIPTION:Tijdens deze muzikale activiteit zal Troubadour Wilhelmus De Oranje Man weer zorgen voor contact en plezier voor vele senioren en ouderen in het woonzorgcentrum door het zingen en spelen van de vele bekende liedjes afgestemd op het aanwezige publiek. \nMaak met liedjes contact en plezier!\nWilhelmus de Oranje Man \nMuzikale reis door de tijd en feest van herkenning met Hollandse liedjes van Toen en nu!\nVeel ervaring\, plezier\, ruimte en geduld in de omgang met mensen met dementie\, alzheimer\, verstandelijk beperking\, psychiatrische beperking\, lichamelijke beperking. \nLive muziek optredens voor senioren en ouderen – Gezellige middag voor ouderen – gezelligheid voor ouderen – entertainment senioren en ouderen – Zanger eenzame ouderen en senioren
URL:https://www.de-oranje-man.nl/event/careyn-rosendael-utrecht-meezing-middag-zomerfeest-ouderen-zang-gitaar-wilhelmus-de-oranje-man/
CATEGORIES:liedjes van vroeger ouderen woonzorgcentrum,liedjes van vroeger ouderenzorg,liedjes van vroeger voor ouderen
ATTACH;FMTTYPE=image/jpeg:https://www.de-oranje-man.nl/wp-content/uploads/2024/02/zanger-ouderen-dementie-beperking-.jpg
END:VEVENT
BEGIN:VEVENT
DTSTART;TZID=Europe/Amsterdam:20250508T150000
DTEND;TZID=Europe/Amsterdam:20250508T160000
DTSTAMP:20260422T142022
CREATED:20250401T085705Z
LAST-MODIFIED:20250401T085705Z
UID:8076-1746716400-1746720000@www.de-oranje-man.nl
SUMMARY:muzikale activiteit in Woonzorgcentrum Sint Jacob - Hof van Jacob zal Troubadour Wilhelmus De Oranje Man
DESCRIPTION:Tijdens deze muzikale activiteit in Woonzorgcentrum Sint Jacob – Hof van Jacob zal Troubadour Wilhelmus De Oranje Man weer zorgen voor contact en plezier voor vele senioren en ouderen in het woonzorgcentrum door het zingen en spelen van de vele bekende liedjes afgestemd op het aanwezige publiek. \nMaak met liedjes contact en plezier!\nWilhelmus de Oranje Man \nMuzikale reis door de tijd en feest van herkenning met Hollandse liedjes van Toen en nu!\nVeel ervaring\, plezier\, ruimte en geduld in de omgang met mensen met dementie\, alzheimer\, verstandelijk beperking\, psychiatrische beperking\, lichamelijke beperking. \nLive muziek optredens voor senioren en ouderen – Gezellige middag voor ouderen – gezelligheid voor ouderen – entertainment senioren en ouderen – Zanger eenzame ouderen en senioren
URL:https://www.de-oranje-man.nl/event/muzikale-activiteit-in-woonzorgcentrum-sint-jacob-hof-van-jacob-zal-troubadour-wilhelmus-de-oranje-man/
CATEGORIES:liedjes van vroeger ouderen woonzorgcentrum
ATTACH;FMTTYPE=image/jpeg:https://www.de-oranje-man.nl/wp-content/uploads/2024/02/zanger-ouderen-dementie-beperking-.jpg
END:VEVENT
END:VCALENDAR