BEGIN:VCALENDAR
VERSION:2.0
PRODID:-//Wilhelmus de Oranje Man - ECPv6.15.19//NONSGML v1.0//EN
CALSCALE:GREGORIAN
METHOD:PUBLISH
X-ORIGINAL-URL:https://www.de-oranje-man.nl
X-WR-CALDESC:Evenementen voor Wilhelmus de Oranje Man
REFRESH-INTERVAL;VALUE=DURATION:PT1H
X-Robots-Tag:noindex
X-PUBLISHED-TTL:PT1H
BEGIN:VTIMEZONE
TZID:Europe/Amsterdam
BEGIN:DAYLIGHT
TZOFFSETFROM:+0100
TZOFFSETTO:+0200
TZNAME:CEST
DTSTART:20180325T010000
END:DAYLIGHT
BEGIN:STANDARD
TZOFFSETFROM:+0200
TZOFFSETTO:+0100
TZNAME:CET
DTSTART:20181028T010000
END:STANDARD
BEGIN:DAYLIGHT
TZOFFSETFROM:+0100
TZOFFSETTO:+0200
TZNAME:CEST
DTSTART:20190331T010000
END:DAYLIGHT
BEGIN:STANDARD
TZOFFSETFROM:+0200
TZOFFSETTO:+0100
TZNAME:CET
DTSTART:20191027T010000
END:STANDARD
BEGIN:DAYLIGHT
TZOFFSETFROM:+0100
TZOFFSETTO:+0200
TZNAME:CEST
DTSTART:20200329T010000
END:DAYLIGHT
BEGIN:STANDARD
TZOFFSETFROM:+0200
TZOFFSETTO:+0100
TZNAME:CET
DTSTART:20201025T010000
END:STANDARD
END:VTIMEZONE
BEGIN:VEVENT
DTSTART;TZID=Europe/Amsterdam:20190717T103000
DTEND;TZID=Europe/Amsterdam:20190717T113000
DTSTAMP:20260422T180834
CREATED:20190619T073750Z
LAST-MODIFIED:20190619T073750Z
UID:4553-1563359400-1563363000@www.de-oranje-man.nl
SUMMARY:Basisschool 25 jaar Jubileumfeest Clown Snorre Muzikale interactieve Kindershow De Tweeklank wo 17 juli 2019
DESCRIPTION:Kindershow Clown SNØRRE\nBasisschool 25 jaar Jubileumfeest Clown Snorre Muzikale interactieve Kindershow De Tweeklank wo 17 juli 2019 \nHet is feest en SNØRRE is gevraagd dit speciale moment nog meer op te vrolijken. Maar is hij wel de beste zanger van Nederland en eet hij nou echt zelf al die spekjes op? Hoe weet SNØRRE zich hier uit te redden?\nDe tijd vliegt voorbij met dit lekker\, leuk & gek muzikaal kinderprogramma.\nZowel jong als oud kunnen zich uitleven\, uit volle borst meezingen met de div. liedjes\, meedoen met de verschillende acts en zich na afloop nog steeds afvragen waar die brandende spekjes nou ineens vandaan kwamen?\nSNØRRE’s kindershow is een fantastische voorstelling gericht op kinderen in de basisschool leeftijd\, leuk voor de hele familie en iedereen met een jonge geest. Tijdens de kindershow worden er liedjes gezongen\, wordt er gegoocheld\, vol enthousiasme live muziek gemaakt en is er veel interactie.\nSNØRRE stemt zijn voorstellingen af op het niveau en de belevingswereld van de aanwezige kinderen. Zodat zowel kinderen van de onderbouw als de bovenbouw uitgedaagd worden.\nTijdsduur: 60 minuten per voorstelling\nInclusief: Geluidsinstallatie\, decor en kleurplaten\nBonus: Na afloop verzorgt Clown SNØRRE een handtekeningensessie inclusief gratis fotokaarten en mag iedereen met hem op de foto!\nVoor verdere info\, recensies\, foto’s en filmpjes zie de site www.clownsnorre.nl\nClown SNØRRE\nClown Snorre heeft een grote voorliefde (en heel veel ervaring) voor optredens voor en met mensen met een beperking
URL:https://www.de-oranje-man.nl/event/basisschool-25-jaar-jubileumfeest-clown-snorre-muzikale-interactieve-kindershow-de-tweeklank-wo-17-juli-2019/
CATEGORIES:jubileumfeest basisschool clown
ATTACH;FMTTYPE=image/jpeg:https://www.de-oranje-man.nl/wp-content/uploads/2017/03/clown-snorre-kindershow-04.jpg
END:VEVENT
END:VCALENDAR