BEGIN:VCALENDAR
VERSION:2.0
PRODID:-//Wilhelmus de Oranje Man - ECPv6.15.19//NONSGML v1.0//EN
CALSCALE:GREGORIAN
METHOD:PUBLISH
X-WR-CALNAME:Wilhelmus de Oranje Man
X-ORIGINAL-URL:https://www.de-oranje-man.nl
X-WR-CALDESC:Evenementen voor Wilhelmus de Oranje Man
REFRESH-INTERVAL;VALUE=DURATION:PT1H
X-Robots-Tag:noindex
X-PUBLISHED-TTL:PT1H
BEGIN:VTIMEZONE
TZID:Europe/Amsterdam
BEGIN:DAYLIGHT
TZOFFSETFROM:+0100
TZOFFSETTO:+0200
TZNAME:CEST
DTSTART:20220327T010000
END:DAYLIGHT
BEGIN:STANDARD
TZOFFSETFROM:+0200
TZOFFSETTO:+0100
TZNAME:CET
DTSTART:20221030T010000
END:STANDARD
BEGIN:DAYLIGHT
TZOFFSETFROM:+0100
TZOFFSETTO:+0200
TZNAME:CEST
DTSTART:20230326T010000
END:DAYLIGHT
BEGIN:STANDARD
TZOFFSETFROM:+0200
TZOFFSETTO:+0100
TZNAME:CET
DTSTART:20231029T010000
END:STANDARD
BEGIN:DAYLIGHT
TZOFFSETFROM:+0100
TZOFFSETTO:+0200
TZNAME:CEST
DTSTART:20240331T010000
END:DAYLIGHT
BEGIN:STANDARD
TZOFFSETFROM:+0200
TZOFFSETTO:+0100
TZNAME:CET
DTSTART:20241027T010000
END:STANDARD
END:VTIMEZONE
BEGIN:VEVENT
DTSTART;TZID=Europe/Amsterdam:20230606T130000
DTEND;TZID=Europe/Amsterdam:20230606T160000
DTSTAMP:20260422T182833
CREATED:20230316T150703Z
LAST-MODIFIED:20230316T150703Z
UID:6957-1686056400-1686067200@www.de-oranje-man.nl
SUMMARY:30 jaar jubileum De Zonnebloem Veenendaal - Live muziek Gitaar Zang Wilhelmus de Oranje Man - Restaurant de Hof
DESCRIPTION:Tijdens deze muzikale activiteit zal Troubadour Wilhelmus De Oranje Man weer zorgen voor contact en plezier door het zingen en spelen van de vele bekende liedjes afgestemd op het aanwezige publiek. \nMaak met liedjes contact en plezier!\nWilhelmus de Oranje Man \nMuzikale reis door de tijd en feest van herkenning met Hollandse liedjes van Toen en nu!\nVeel ervaring\, plezier\, ruimte en geduld in de omgang met mensen met dementie\, alzheimer\, verstandelijk beperking\, psychiatrische beperking\, lichamelijke beperking. \nLive muziek optredens voor senioren en ouderen – Gezellige middag voor ouderen – gezelligheid voor ouderen – entertainment senioren en ouderen – Zanger eenzame ouderen en senioren
URL:https://www.de-oranje-man.nl/event/30-jaar-jubileum-de-zonnebloem-veenendaal-live-muziek-gitaar-zang-wilhelmus-de-oranje-man-restaurant-de-hof/
CATEGORIES:jubileum de zonnebloem live muziek
ATTACH;FMTTYPE=image/png:https://www.de-oranje-man.nl/wp-content/uploads/2023/02/Wilhelmus-Hoekstra.png
END:VEVENT
END:VCALENDAR