BEGIN:VCALENDAR
VERSION:2.0
PRODID:-//Wilhelmus de Oranje Man - ECPv6.15.19//NONSGML v1.0//EN
CALSCALE:GREGORIAN
METHOD:PUBLISH
X-WR-CALNAME:Wilhelmus de Oranje Man
X-ORIGINAL-URL:https://www.de-oranje-man.nl
X-WR-CALDESC:Evenementen voor Wilhelmus de Oranje Man
REFRESH-INTERVAL;VALUE=DURATION:PT1H
X-Robots-Tag:noindex
X-PUBLISHED-TTL:PT1H
BEGIN:VTIMEZONE
TZID:Europe/Amsterdam
BEGIN:DAYLIGHT
TZOFFSETFROM:+0100
TZOFFSETTO:+0200
TZNAME:CEST
DTSTART:20180325T010000
END:DAYLIGHT
BEGIN:STANDARD
TZOFFSETFROM:+0200
TZOFFSETTO:+0100
TZNAME:CET
DTSTART:20181028T010000
END:STANDARD
BEGIN:DAYLIGHT
TZOFFSETFROM:+0100
TZOFFSETTO:+0200
TZNAME:CEST
DTSTART:20190331T010000
END:DAYLIGHT
BEGIN:STANDARD
TZOFFSETFROM:+0200
TZOFFSETTO:+0100
TZNAME:CET
DTSTART:20191027T010000
END:STANDARD
BEGIN:DAYLIGHT
TZOFFSETFROM:+0100
TZOFFSETTO:+0200
TZNAME:CEST
DTSTART:20200329T010000
END:DAYLIGHT
BEGIN:STANDARD
TZOFFSETFROM:+0200
TZOFFSETTO:+0100
TZNAME:CET
DTSTART:20201025T010000
END:STANDARD
BEGIN:DAYLIGHT
TZOFFSETFROM:+0100
TZOFFSETTO:+0200
TZNAME:CEST
DTSTART:20210328T010000
END:DAYLIGHT
BEGIN:STANDARD
TZOFFSETFROM:+0200
TZOFFSETTO:+0100
TZNAME:CET
DTSTART:20211031T010000
END:STANDARD
BEGIN:DAYLIGHT
TZOFFSETFROM:+0100
TZOFFSETTO:+0200
TZNAME:CEST
DTSTART:20220327T010000
END:DAYLIGHT
BEGIN:STANDARD
TZOFFSETFROM:+0200
TZOFFSETTO:+0100
TZNAME:CET
DTSTART:20221030T010000
END:STANDARD
END:VTIMEZONE
BEGIN:VEVENT
DTSTART;TZID=Europe/Amsterdam:20210505T190000
DTEND;TZID=Europe/Amsterdam:20210505T213000
DTSTAMP:20260420T084226
CREATED:20190513T144546Z
LAST-MODIFIED:20201210T084820Z
UID:4508-1620241200-1620250200@www.de-oranje-man.nl
SUMMARY:5 Mei viering Axion Voorveldse Hof - Wilhelmus De Oranje Man - wo 5 mei 2021
DESCRIPTION:Liedjes van Toen & Nu door troubadour – liedjeszanger Wilhelmus De Oranje Man \n5 Mei viering Axion Voorveldse Hof\nTijdens deze muzikale activiteit zal Troubadour Wilhelmus De Oranje Man weer zorgen voor contact en plezier door het zingen en spelen van de vele bekende liedjes afgestemd op het aanwezige publiek. \nMaak met liedjes contact en plezier!\nWilhelmus de Oranje Man \nMuzikale reis door de tijd en feest van herkenning met Hollandse liedjes van Toen en nu!\nVeel ervaring\, plezier\, ruimte en geduld in de omgang met mensen met dementie\, alzheimer\, verstandelijk beperking\, psychiatrische beperking\, lichamelijke beperking.
URL:https://www.de-oranje-man.nl/event/5-mei-viering-axion-voorveldse-hof-wilhelmus-de-oranje-man-di-5-mei-2021/
CATEGORIES:5 Mei viering Troubadour
END:VEVENT
BEGIN:VEVENT
DTSTART;TZID=Europe/Amsterdam:20200505T143000
DTEND;TZID=Europe/Amsterdam:20200505T160000
DTSTAMP:20260420T084226
CREATED:20191223T091613Z
LAST-MODIFIED:20200430T150003Z
UID:4795-1588689000-1588694400@www.de-oranje-man.nl
SUMMARY:Verzet: 5 Mei viering Woonzorgcentra De Lichtenberg Amersfoort Wilhelmus de Oranje Man - 5 mei 2020
DESCRIPTION:Liedjes van Toen & Nu door troubadour – liedjeszanger Wilhelmus De Oranje Man \n5 Mei viering Woonzorgcentra De Lichtenberg\nTijdens deze muzikale activiteit zal Troubadour Wilhelmus De Oranje Man weer zorgen voor contact en plezier door het zingen en spelen van de vele bekende liedjes afgestemd op het aanwezige publiek. \nMaak met liedjes contact en plezier!\nWilhelmus de Oranje Man \nMuzikale reis door de tijd en feest van herkenning met Hollandse liedjes van Toen en nu!\nVeel ervaring\, plezier\, ruimte en geduld in de omgang met mensen met dementie\, alzheimer\, verstandelijk beperking\, psychiatrische beperking\, lichamelijke beperking.
URL:https://www.de-oranje-man.nl/event/5-mei-viering-woonzorgcentra-de-lichtenberg-amersfoort-wilhelmus-de-oranje-man-5-mei-2020/
CATEGORIES:5 Mei viering Troubadour
END:VEVENT
BEGIN:VEVENT
DTSTART;TZID=Europe/Amsterdam:20190505T190000
DTEND;TZID=Europe/Amsterdam:20190505T210000
DTSTAMP:20260420T084226
CREATED:20190129T130143Z
LAST-MODIFIED:20190129T130143Z
UID:4200-1557082800-1557090000@www.de-oranje-man.nl
SUMMARY:5 mei viering Troubadour Wilhelmus De Oranje Man - Axion Voorveldse Hof - 5 mei 2019
DESCRIPTION:Liedjes van Toen & Nu door troubadour – liedjeszanger Wilhelmus De Oranje Man \n5 Mei viering Axion Voorveldse Hof\nTijdens deze muzikale activiteit zal Troubadour Wilhelmus De Oranje Man weer zorgen voor contact en plezier door het zingen en spelen van de vele bekende liedjes afgestemd op het aanwezige publiek. \nMaak met liedjes contact en plezier!\nWilhelmus de Oranje Man \nMuzikale reis door de tijd en feest van herkenning met Hollandse liedjes van Toen en nu!\nVeel ervaring\, plezier\, ruimte en geduld in de omgang met mensen met dementie\, alzheimer\, verstandelijk beperking\, psychiatrische beperking\, lichamelijke beperking.
URL:https://www.de-oranje-man.nl/event/5-mei-viering-troubadour-wilhelmus-de-oranje-man-axion-voorveldse-hof-5-mei-2019/
CATEGORIES:5 Mei viering Troubadour,PG problematiek
END:VEVENT
END:VCALENDAR